MooseX-MethodAttributes v0.32 Perl 5 v5.39.9 armv7l-linux

Status
Pass
From
John SJ Anderson
Dist
MooseX-MethodAttributes v0.32
Platform
Perl 5 v5.39.9 armv7l-linux
Date
2024-03-20 22:53:25
ID
a8ebeb6e-e70c-11ee-a6e1-be4c0b8b8430
This distribution has been tested as part of the CPAN Testers
project, supporting the Perl programming language.  See
http://wiki.cpantesters.org/ for more information or email
questions to cpan-testers-discuss@perl.org


--
Dear ETHER,

This is a computer-generated report for MooseX-MethodAttributes-0.32
on perl 5.39.9, created by App::cpanminus::reporter 0.21 (1.7047).

Thank you for uploading your work to CPAN.  Congratulations!
All tests were successful.

Sections of this report:

    * Tester comments
    * Program output
    * Prerequisites
    * Environment and other context

------------------------------
TESTER COMMENTS
------------------------------

Additional comments from tester:

none provided

------------------------------
PROGRAM OUTPUT
------------------------------

Output from '':

Building and testing MooseX-MethodAttributes-0.32
cp lib/MooseX/MethodAttributes/Role/Meta/Method/Wrapped.pm blib/lib/MooseX/MethodAttributes/Role/Meta/Method/Wrapped.pm
cp lib/MooseX/MethodAttributes/Role/Meta/Map.pm blib/lib/MooseX/MethodAttributes/Role/Meta/Map.pm
cp lib/MooseX/MethodAttributes.pm blib/lib/MooseX/MethodAttributes.pm
cp lib/MooseX/MethodAttributes/Role/Meta/Role.pm blib/lib/MooseX/MethodAttributes/Role/Meta/Role.pm
cp lib/MooseX/MethodAttributes/Role/Meta/Method.pm blib/lib/MooseX/MethodAttributes/Role/Meta/Method.pm
cp lib/MooseX/MethodAttributes/Role/AttrContainer.pm blib/lib/MooseX/MethodAttributes/Role/AttrContainer.pm
cp lib/MooseX/MethodAttributes/Role/AttrContainer/Inheritable.pm blib/lib/MooseX/MethodAttributes/Role/AttrContainer/Inheritable.pm
cp lib/MooseX/MethodAttributes/Role/Meta/Role/Application.pm blib/lib/MooseX/MethodAttributes/Role/Meta/Role/Application.pm
cp lib/MooseX/MethodAttributes/Role/Meta/Method/MaybeWrapped.pm blib/lib/MooseX/MethodAttributes/Role/Meta/Method/MaybeWrapped.pm
cp lib/MooseX/MethodAttributes/Role.pm blib/lib/MooseX/MethodAttributes/Role.pm
cp lib/MooseX/MethodAttributes/Inheritable.pm blib/lib/MooseX/MethodAttributes/Inheritable.pm
cp lib/MooseX/MethodAttributes/Role/Meta/Class.pm blib/lib/MooseX/MethodAttributes/Role/Meta/Class.pm
cp lib/MooseX/MethodAttributes/Role/Meta/Role/Application/Summation.pm blib/lib/MooseX/MethodAttributes/Role/Meta/Role/Application/Summation.pm
Manifying 13 pod documents
PERL_DL_NONLAZY=1 "/opt/plenv/versions/5.39.9/bin/perl5.39.9" "-MExtUtils::Command::MM" "-MTest::Harness" "-e" "undef *Test::Harness::Switches; test_harness(0, 'blib/lib', 'blib/arch')" t/*.t
# 
# Versions for all modules listed in MYMETA.json (including optional ones):
# 
# === Configure Requires ===
# 
#     Module              Want Have
#     ------------------- ---- ----
#     ExtUtils::MakeMaker  any 7.70
# 
# === Build Requires ===
# 
#     Module              Want Have
#     ------------------- ---- ----
#     ExtUtils::MakeMaker  any 7.70
# 
# === Test Requires ===
# 
#     Module                      Want     Have
#     --------------------------- ---- --------
#     ExtUtils::MakeMaker          any     7.70
#     File::Spec                   any     3.90
#     Moose::Meta::Class           any   2.2207
#     MooseX::Role::Parameterized  any     1.11
#     Test::Fatal                  any    0.017
#     Test::More                  0.88 1.302198
#     Test::Needs                  any 0.002010
#     base                         any     2.27
#     lib                          any     0.65
#     strict                       any     1.13
#     warnings                     any     1.68
# 
# === Test Recommends ===
# 
#     Module         Want     Have
#     ---------- -------- --------
#     CPAN::Meta 2.120900 2.150010
# 
# === Runtime Requires ===
# 
#     Module                Want   Have
#     --------------------- ---- ------
#     Carp                   any   1.54
#     Moose                  any 2.2207
#     Moose::Exporter        any 2.2207
#     Moose::Role            any 2.2207
#     Moose::Util            any 2.2207
#     Moose::Util::MetaRole  any 2.2207
#     namespace::autoclean  0.08   0.29
# 
# === Other Modules ===
# 
#     Module               Have
#     ----------------- -------
#     Catalyst::Runtime missing
#     Encode               3.21
#     File::Temp         0.2311
#     JSON::PP             4.16
#     Module::Runtime     0.016
#     Pod::Coverage        0.23
#     Sub::Name            0.27
#     YAML              missing
#     autodie              2.37
# 
t/00-report-prereqs.t .................. ok
t/basic.t .............................. ok
t/calling.t ............................ ok
t/catalyst.t ........................... ok
t/catalyst_role.t ...................... ok
t/catalyst_role_method_exclusion.t ..... ok
t/catalyst_role_preexist_methods.t ..... ok
t/inherited.t .......................... ok
t/inherited_non_moose_multilevel.t ..... ok
t/late_reinitialize.t .................. ok
t/multiple_roles.t ..................... ok
t/multiple_roles_astrait.t ............. ok
t/override_method_with_no_attribute.t .. ok
t/param_role.t ......................... ok
t/role.t ............................... ok
t/role_applied.t ....................... ok
t/role_comp.t .......................... ok
t/role_in_role.t ....................... ok
t/role_in_role_more.t .................. ok
t/role_method_conflict_detection.t ..... ok
t/role_with_anon_class.t ............... ok
t/zzz-check-breaks.t ................... ok
All tests successful.

Test Summary Report
-------------------
t/late_reinitialize.t                (Wstat: 0 Tests: 10 Failed: 0)
  TODO passed:   1-10
Files=22, Tests=144, 36 wallclock secs ( 0.15 usr  0.10 sys + 16.86 cusr  1.42 csys = 18.53 CPU)
Result: PASS

------------------------------
PREREQUISITES
------------------------------

Prerequisite modules loaded:

runtime:

    Module                Need  Have    
    --------------------- ----- --------
    Carp                  0     1.54    
    Moose                 0     2.2207  
    Moose::Exporter       0     2.2207  
    Moose::Role           0     2.2207  
    Moose::Util           0     2.2207  
    Moose::Util::MetaRole 0     2.2207  
    namespace::autoclean  0.08  0.29    
    perl                  5.006 5.039009

build:

    Module                Need  Have    
    --------------------- ----- --------
    ExtUtils::MakeMaker   0     7.70    

configure:

    Module                Need  Have    
    --------------------- ----- --------
    ExtUtils::MakeMaker   0     7.70    


------------------------------
ENVIRONMENT AND OTHER CONTEXT
------------------------------

Environment variables:

    LANG = en_US.UTF-8
    LC_ALL = en_US.UTF-8
    LC_TERMINAL = iTerm2
    LC_TERMINAL_VERSION = 3.4.23
    PATH = /opt/plenv/versions/5.39.9/bin:/opt/plenv/libexec:/opt/plenv/plugins/Perl-Build/bin:/opt/plenv/shims:/home/genehack/bin:/opt/plenv/shims:/opt/plenv/bin:/opt/git/bin:/opt/emacs/bin:/opt/local/bin:/usr/local/bin:/usr/bin:/bin:/usr/games
    PERL_CPANM_OPT = --skip-installed --prompt
    SHELL = /bin/zsh
    TERM = screen-256color

Perl special variables (and OS-specific diagnostics, for MSWin32):

    EGID = 1001 27 1001
    EUID = 1000
    EXECUTABLE_NAME = /opt/plenv/versions/5.39.9/bin/perl5.39.9
    GID = 1001 27 1001
    UID = 1000

Perl module toolchain versions installed:

    Module              Have    
    ------------------- --------
    CPAN                2.36    
    CPAN::Meta          2.150010
    Cwd                 3.90    
    ExtUtils::CBuilder  0.280240
    ExtUtils::Command   7.70    
    ExtUtils::Install   2.22    
    ExtUtils::MakeMaker 7.70    
    ExtUtils::Manifest  1.75    
    ExtUtils::ParseXS   3.51    
    File::Spec          3.90    
    JSON                4.10    
    JSON::PP            4.16    
    Module::Build       0.4234  
    Module::Signature   n/a     
    Parse::CPAN::Meta   2.150010
    Test::Harness       3.48    
    Test::More          1.302198
    YAML                1.31    
    YAML::Syck          n/a     
    version             0.9930  


--

Summary of my perl5 (revision 5 version 39 subversion 9) configuration:
   
  Platform:
    osname=linux
    osvers=5.10.52-v7l+
    archname=armv7l-linux
    uname='linux weefree 5.10.52-v7l+ #1441 smp tue aug 3 18:11:56 bst 2021 armv7l gnulinux '
    config_args='-Dprefix=/opt/plenv/versions/5.39.9 -de -Dversiononly -Dusedevel -A'eval:scriptdir=/opt/plenv/versions/5.39.9/bin''
    hint=recommended
    useposix=true
    d_sigaction=define
    useithreads=undef
    usemultiplicity=undef
    use64bitint=undef
    use64bitall=undef
    uselongdouble=undef
    usemymalloc=n
    default_inc_excludes_dot=define
  Compiler:
    cc='cc'
    ccflags ='-fwrapv -fno-strict-aliasing -pipe -fstack-protector-strong -I/usr/local/include -D_LARGEFILE_SOURCE -D_FILE_OFFSET_BITS=64 -D_FORTIFY_SOURCE=2'
    optimize='-O2'
    cppflags='-fwrapv -fno-strict-aliasing -pipe -fstack-protector-strong -I/usr/local/include'
    ccversion=''
    gccversion='12.2.0'
    gccosandvers=''
    intsize=4
    longsize=4
    ptrsize=4
    doublesize=8
    byteorder=1234
    doublekind=3
    d_longlong=define
    longlongsize=8
    d_longdbl=define
    longdblsize=8
    longdblkind=0
    ivtype='long'
    ivsize=4
    nvtype='double'
    nvsize=8
    Off_t='off_t'
    lseeksize=8
    alignbytes=8
    prototype=define
  Linker and Libraries:
    ld='cc'
    ldflags =' -fstack-protector-strong -L/usr/local/lib'
    libpth=/usr/local/lib /usr/lib/arm-linux-gnueabihf /usr/lib
    libs=-lpthread -ldl -lm -lcrypt -lutil -lc
    perllibs=-lpthread -ldl -lm -lcrypt -lutil -lc
    libc=/lib/arm-linux-gnueabihf/libc.so.6
    so=so
    useshrplib=false
    libperl=libperl.a
    gnulibc_version='2.36'
  Dynamic Linking:
    dlsrc=dl_dlopen.xs
    dlext=so
    d_dlsymun=undef
    ccdlflags='-Wl,-E'
    cccdlflags='-fPIC'
    lddlflags='-shared -O2 -L/usr/local/lib -fstack-protector-strong'


Characteristics of this binary (from libperl): 
  Compile-time options:
    HAS_LONG_DOUBLE
    HAS_STRTOLD
    HAS_TIMES
    PERLIO_LAYERS
    PERL_COPY_ON_WRITE
    PERL_DONT_CREATE_GVSV
    PERL_HASH_FUNC_ZAPHOD32
    PERL_HASH_USE_SBOX32
    PERL_MALLOC_WRAP
    PERL_OP_PARENT
    PERL_PRESERVE_IVUV
    PERL_USE_DEVEL
    PERL_USE_SAFE_PUTENV
    USE_LARGE_FILES
    USE_LOCALE
    USE_LOCALE_COLLATE
    USE_LOCALE_CTYPE
    USE_LOCALE_NUMERIC
    USE_LOCALE_TIME
    USE_PERLIO
    USE_PERL_ATOF
  Built under linux
  Compiled at Mar 20 2024 10:58:27
  %ENV:
    PERL_CPANM_OPT="--skip-installed --prompt"
  @INC:
    /opt/plenv/versions/5.39.9/lib/perl5/site_perl/5.39.9/armv7l-linux
    /opt/plenv/versions/5.39.9/lib/perl5/site_perl/5.39.9
    /opt/plenv/versions/5.39.9/lib/perl5/5.39.9/armv7l-linux
    /opt/plenv/versions/5.39.9/lib/perl5/5.39.9