Report for Apache-ASP-2.61

Back
From: metabase:user:e3434da8-b236-11df-85ca-0247c6d74bde
Subject: PASS Apache-ASP-2.61 v5.15.0 GNU/Linux
Date: 2011-07-12T17:30:38Z

This distribution has been tested as part of the CPAN Testers
project, supporting the Perl programming language.  See
http://wiki.cpantesters.org/ for more information or email
questions to cpan-testers-discuss@perl.org


--
Dear Joshua Chamas,

This is a computer-generated report for Apache-ASP-2.61
on perl 5.15.0, created by CPAN-Reporter-1.1902.

Thank you for uploading your work to CPAN.  Congratulations!
All tests were successful.

Sections of this report:

    * Tester comments
    * Program output
    * Prerequisites
    * Environment and other context

------------------------------
TESTER COMMENTS
------------------------------

Additional comments from tester:

this report is from an automated smoke testing program
and was not reviewed by a human for accuracy

------------------------------
PROGRAM OUTPUT
------------------------------

Output from '/usr/bin/make test':

PERL_DL_NONLAZY=1 /home/perl515/testing/bin/perl5.15.0 "-MExtUtils::Command::MM" "-e" "test_harness(0, 'blib/lib', 'blib/arch')" t/*.t
Use of uninitialized value $rv in lc at /home/perl515/.cpan/build/Apache-ASP-2.61-qalWGV/blib/lib/Apache/ASP.pm line 2018.
Use of uninitialized value $rv in lc at /home/perl515/.cpan/build/Apache-ASP-2.61-qalWGV/blib/lib/Apache/ASP.pm line 2018.
Use of uninitialized value $rv in lc at /home/perl515/.cpan/build/Apache-ASP-2.61-qalWGV/blib/lib/Apache/ASP.pm line 2018.
Use of uninitialized value $rv in lc at /home/perl515/.cpan/build/Apache-ASP-2.61-qalWGV/blib/lib/Apache/ASP.pm line 2018.
Use of uninitialized value $rv in lc at /home/perl515/.cpan/build/Apache-ASP-2.61-qalWGV/blib/lib/Apache/ASP.pm line 2018.
Use of uninitialized value $rv in lc at /home/perl515/.cpan/build/Apache-ASP-2.61-qalWGV/blib/lib/Apache/ASP.pm line 2018.
Use of uninitialized value $rv in lc at /home/perl515/.cpan/build/Apache-ASP-2.61-qalWGV/blib/lib/Apache/ASP.pm line 2018.
Use of uninitialized value $rv in lc at /home/perl515/.cpan/build/Apache-ASP-2.61-qalWGV/blib/lib/Apache/ASP.pm line 2018.
Use of uninitialized value $rv in lc at /home/perl515/.cpan/build/Apache-ASP-2.61-qalWGV/blib/lib/Apache/ASP.pm line 2018.
Use of uninitialized value $rv in lc at /home/perl515/.cpan/build/Apache-ASP-2.61-qalWGV/blib/lib/Apache/ASP.pm line 2018.
Use of uninitialized value $rv in lc at /home/perl515/.cpan/build/Apache-ASP-2.61-qalWGV/blib/lib/Apache/ASP.pm line 2018.
t/application.t .......... ok
Use of uninitialized value $rv in lc at ../blib/lib/Apache/ASP.pm line 2018.
Use of uninitialized value $rv in lc at ../blib/lib/Apache/ASP.pm line 2018.
Use of uninitialized value $rv in lc at ../blib/lib/Apache/ASP.pm line 2018.
Use of uninitialized value $rv in lc at ../blib/lib/Apache/ASP.pm line 2018.
Use of uninitialized value $rv in lc at ../blib/lib/Apache/ASP.pm line 2018.
Use of uninitialized value $rv in lc at ../blib/lib/Apache/ASP.pm line 2018.
Use of uninitialized value $rv in lc at ../blib/lib/Apache/ASP.pm line 2018.
Use of uninitialized value $rv in lc at ../blib/lib/Apache/ASP.pm line 2018.
Use of uninitialized value $rv in lc at ../blib/lib/Apache/ASP.pm line 2018.
Use of uninitialized value $rv in lc at ../blib/lib/Apache/ASP.pm line 2018.
t/asp-perl1.t ............ ok
Use of uninitialized value $rv in lc at ../../blib/lib/Apache/ASP.pm line 2018.
Use of uninitialized value $rv in lc at ../../blib/lib/Apache/ASP.pm line 2018.
Use of uninitialized value $rv in lc at ../../blib/lib/Apache/ASP.pm line 2018.
Use of uninitialized value $rv in lc at ../../blib/lib/Apache/ASP.pm line 2018.
Use of uninitialized value $rv in lc at ../../blib/lib/Apache/ASP.pm line 2018.
Use of uninitialized value $rv in lc at ../../blib/lib/Apache/ASP.pm line 2018.
Use of uninitialized value $rv in lc at ../../blib/lib/Apache/ASP.pm line 2018.
Use of uninitialized value $rv in lc at ../../blib/lib/Apache/ASP.pm line 2018.
Use of uninitialized value $rv in lc at ../../blib/lib/Apache/ASP.pm line 2018.
Use of uninitialized value $rv in lc at ../../blib/lib/Apache/ASP.pm line 2018.
t/asp-perl2.t ............ ok
Use of uninitialized value $rv in lc at /home/perl515/.cpan/build/Apache-ASP-2.61-qalWGV/blib/lib/Apache/ASP.pm line 2018.
Use of uninitialized value $rv in lc at /home/perl515/.cpan/build/Apache-ASP-2.61-qalWGV/blib/lib/Apache/ASP.pm line 2018.
Use of uninitialized value $rv in lc at /home/perl515/.cpan/build/Apache-ASP-2.61-qalWGV/blib/lib/Apache/ASP.pm line 2018.
Use of uninitialized value $rv in lc at /home/perl515/.cpan/build/Apache-ASP-2.61-qalWGV/blib/lib/Apache/ASP.pm line 2018.
Use of uninitialized value $rv in lc at /home/perl515/.cpan/build/Apache-ASP-2.61-qalWGV/blib/lib/Apache/ASP.pm line 2018.
Use of uninitialized value $rv in lc at /home/perl515/.cpan/build/Apache-ASP-2.61-qalWGV/blib/lib/Apache/ASP.pm line 2018.
Use of uninitialized value $rv in lc at /home/perl515/.cpan/build/Apache-ASP-2.61-qalWGV/blib/lib/Apache/ASP.pm line 2018.
Use of uninitialized value $rv in lc at /home/perl515/.cpan/build/Apache-ASP-2.61-qalWGV/blib/lib/Apache/ASP.pm line 2018.
Use of uninitialized value $rv in lc at /home/perl515/.cpan/build/Apache-ASP-2.61-qalWGV/blib/lib/Apache/ASP.pm line 2018.
Use of uninitialized value $rv in lc at /home/perl515/.cpan/build/Apache-ASP-2.61-qalWGV/blib/lib/Apache/ASP.pm line 2018.
Use of uninitialized value $rv in lc at /home/perl515/.cpan/build/Apache-ASP-2.61-qalWGV/blib/lib/Apache/ASP.pm line 2018.
Use of uninitialized value $rv in lc at /home/perl515/.cpan/build/Apache-ASP-2.61-qalWGV/blib/lib/Apache/ASP.pm line 2018.
Use of uninitialized value $rv in lc at /home/perl515/.cpan/build/Apache-ASP-2.61-qalWGV/blib/lib/Apache/ASP.pm line 2018.
Use of uninitialized value $rv in lc at /home/perl515/.cpan/build/Apache-ASP-2.61-qalWGV/blib/lib/Apache/ASP.pm line 2018.
Use of uninitialized value $rv in lc at /home/perl515/.cpan/build/Apache-ASP-2.61-qalWGV/blib/lib/Apache/ASP.pm line 2018.
Use of uninitialized value $rv in lc at /home/perl515/.cpan/build/Apache-ASP-2.61-qalWGV/blib/lib/Apache/ASP.pm line 2018.
Use of uninitialized value $rv in lc at /home/perl515/.cpan/build/Apache-ASP-2.61-qalWGV/blib/lib/Apache/ASP.pm line 2018.
Use of uninitialized value $rv in lc at /home/perl515/.cpan/build/Apache-ASP-2.61-qalWGV/blib/lib/Apache/ASP.pm line 2018.
Use of uninitialized value $rv in lc at /home/perl515/.cpan/build/Apache-ASP-2.61-qalWGV/blib/lib/Apache/ASP.pm line 2018.
Use of uninitialized value $rv in lc at /home/perl515/.cpan/build/Apache-ASP-2.61-qalWGV/blib/lib/Apache/ASP.pm line 2018.
Use of uninitialized value $rv in lc at /home/perl515/.cpan/build/Apache-ASP-2.61-qalWGV/blib/lib/Apache/ASP.pm line 2018.
Use of uninitialized value $rv in lc at /home/perl515/.cpan/build/Apache-ASP-2.61-qalWGV/blib/lib/Apache/ASP.pm line 2018.
t/asp_object.t ........... ok
Use of uninitialized value $rv in lc at /home/perl515/.cpan/build/Apache-ASP-2.61-qalWGV/blib/lib/Apache/ASP.pm line 2018.
Use of uninitialized value $rv in lc at /home/perl515/.cpan/build/Apache-ASP-2.61-qalWGV/blib/lib/Apache/ASP.pm line 2018.
Use of uninitialized value $rv in lc at /home/perl515/.cpan/build/Apache-ASP-2.61-qalWGV/blib/lib/Apache/ASP.pm line 2018.
Use of uninitialized value $rv in lc at /home/perl515/.cpan/build/Apache-ASP-2.61-qalWGV/blib/lib/Apache/ASP.pm line 2018.
Use of uninitialized value $rv in lc at /home/perl515/.cpan/build/Apache-ASP-2.61-qalWGV/blib/lib/Apache/ASP.pm line 2018.
Use of uninitialized value $rv in lc at /home/perl515/.cpan/build/Apache-ASP-2.61-qalWGV/blib/lib/Apache/ASP.pm line 2018.
Use of uninitialized value $rv in lc at /home/perl515/.cpan/build/Apache-ASP-2.61-qalWGV/blib/lib/Apache/ASP.pm line 2018.
Use of uninitialized value $rv in lc at /home/perl515/.cpan/build/Apache-ASP-2.61-qalWGV/blib/lib/Apache/ASP.pm line 2018.
Use of uninitialized value $rv in lc at /home/perl515/.cpan/build/Apache-ASP-2.61-qalWGV/blib/lib/Apache/ASP.pm line 2018.
Use of uninitialized value $rv in lc at /home/perl515/.cpan/build/Apache-ASP-2.61-qalWGV/blib/lib/Apache/ASP.pm line 2018.
t/cache.t ................ ok
Use of uninitialized value $rv in lc at /home/perl515/.cpan/build/Apache-ASP-2.61-qalWGV/blib/lib/Apache/ASP.pm line 2018.
Use of uninitialized value $rv in lc at /home/perl515/.cpan/build/Apache-ASP-2.61-qalWGV/blib/lib/Apache/ASP.pm line 2018.
Use of uninitialized value $rv in lc at /home/perl515/.cpan/build/Apache-ASP-2.61-qalWGV/blib/lib/Apache/ASP.pm line 2018.
Use of uninitialized value $rv in lc at /home/perl515/.cpan/build/Apache-ASP-2.61-qalWGV/blib/lib/Apache/ASP.pm line 2018.
Use of uninitialized value $rv in lc at /home/perl515/.cpan/build/Apache-ASP-2.61-qalWGV/blib/lib/Apache/ASP.pm line 2018.
Use of uninitialized value $rv in lc at /home/perl515/.cpan/build/Apache-ASP-2.61-qalWGV/blib/lib/Apache/ASP.pm line 2018.
Use of uninitialized value $rv in lc at /home/perl515/.cpan/build/Apache-ASP-2.61-qalWGV/blib/lib/Apache/ASP.pm line 2018.
Use of uninitialized value $rv in lc at /home/perl515/.cpan/build/Apache-ASP-2.61-qalWGV/blib/lib/Apache/ASP.pm line 2018.
Use of uninitialized value $rv in lc at /home/perl515/.cpan/build/Apache-ASP-2.61-qalWGV/blib/lib/Apache/ASP.pm line 2018.
Use of uninitialized value $rv in lc at /home/perl515/.cpan/build/Apache-ASP-2.61-qalWGV/blib/lib/Apache/ASP.pm line 2018.
t/cgi_headers.t .......... ok
Use of uninitialized value $rv in lc at /home/perl515/.cpan/build/Apache-ASP-2.61-qalWGV/blib/lib/Apache/ASP.pm line 2018.
Use of uninitialized value $rv in lc at /home/perl515/.cpan/build/Apache-ASP-2.61-qalWGV/blib/lib/Apache/ASP.pm line 2018.
Use of uninitialized value $rv in lc at /home/perl515/.cpan/build/Apache-ASP-2.61-qalWGV/blib/lib/Apache/ASP.pm line 2018.
Use of uninitialized value $rv in lc at /home/perl515/.cpan/build/Apache-ASP-2.61-qalWGV/blib/lib/Apache/ASP.pm line 2018.
Use of uninitialized value $rv in lc at /home/perl515/.cpan/build/Apache-ASP-2.61-qalWGV/blib/lib/Apache/ASP.pm line 2018.
Use of uninitialized value $rv in lc at /home/perl515/.cpan/build/Apache-ASP-2.61-qalWGV/blib/lib/Apache/ASP.pm line 2018.
Use of uninitialized value $rv in lc at /home/perl515/.cpan/build/Apache-ASP-2.61-qalWGV/blib/lib/Apache/ASP.pm line 2018.
Use of uninitialized value $rv in lc at /home/perl515/.cpan/build/Apache-ASP-2.61-qalWGV/blib/lib/Apache/ASP.pm line 2018.
Use of uninitialized value $rv in lc at /home/perl515/.cpan/build/Apache-ASP-2.61-qalWGV/blib/lib/Apache/ASP.pm line 2018.
t/closure.t .............. ok
Use of uninitialized value $rv in lc at /home/perl515/.cpan/build/Apache-ASP-2.61-qalWGV/blib/lib/Apache/ASP.pm line 2018.
Use of uninitialized value $rv in lc at /home/perl515/.cpan/build/Apache-ASP-2.61-qalWGV/blib/lib/Apache/ASP.pm line 2018.
Use of uninitialized value $rv in lc at /home/perl515/.cpan/build/Apache-ASP-2.61-qalWGV/blib/lib/Apache/ASP.pm line 2018.
Use of uninitialized value $rv in lc at /home/perl515/.cpan/build/Apache-ASP-2.61-qalWGV/blib/lib/Apache/ASP.pm line 2018.
Use of uninitialized value $rv in lc at /home/perl515/.cpan/build/Apache-ASP-2.61-qalWGV/blib/lib/Apache/ASP.pm line 2018.
Use of uninitialized value $rv in lc at /home/perl515/.cpan/build/Apache-ASP-2.61-qalWGV/blib/lib/Apache/ASP.pm line 2018.
Use of uninitialized value $rv in lc at /home/perl515/.cpan/build/Apache-ASP-2.61-qalWGV/blib/lib/Apache/ASP.pm line 2018.
Use of uninitialized value $rv in lc at /home/perl515/.cpan/build/Apache-ASP-2.61-qalWGV/blib/lib/Apache/ASP.pm line 2018.
Use of uninitialized value $rv in lc at /home/perl515/.cpan/build/Apache-ASP-2.61-qalWGV/blib/lib/Apache/ASP.pm line 2018.
Use of uninitialized value $rv in lc at /home/perl515/.cpan/build/Apache-ASP-2.61-qalWGV/blib/lib/Apache/ASP.pm line 2018.
Use of uninitialized value $rv in lc at /home/perl515/.cpan/build/Apache-ASP-2.61-qalWGV/blib/lib/Apache/ASP.pm line 2018.
t/collection.t ........... ok
Use of uninitialized value $rv in lc at /home/perl515/.cpan/build/Apache-ASP-2.61-qalWGV/blib/lib/Apache/ASP.pm line 2018.
Use of uninitialized value $rv in lc at /home/perl515/.cpan/build/Apache-ASP-2.61-qalWGV/blib/lib/Apache/ASP.pm line 2018.
Use of uninitialized value $rv in lc at /home/perl515/.cpan/build/Apache-ASP-2.61-qalWGV/blib/lib/Apache/ASP.pm line 2018.
Use of uninitialized value $rv in lc at /home/perl515/.cpan/build/Apache-ASP-2.61-qalWGV/blib/lib/Apache/ASP.pm line 2018.
Use of uninitialized value $rv in lc at /home/perl515/.cpan/build/Apache-ASP-2.61-qalWGV/blib/lib/Apache/ASP.pm line 2018.
Use of uninitialized value $rv in lc at /home/perl515/.cpan/build/Apache-ASP-2.61-qalWGV/blib/lib/Apache/ASP.pm line 2018.
Use of uninitialized value $rv in lc at /home/perl515/.cpan/build/Apache-ASP-2.61-qalWGV/blib/lib/Apache/ASP.pm line 2018.
Use of uninitialized value $rv in lc at /home/perl515/.cpan/build/Apache-ASP-2.61-qalWGV/blib/lib/Apache/ASP.pm line 2018.
Use of uninitialized value $rv in lc at /home/perl515/.cpan/build/Apache-ASP-2.61-qalWGV/blib/lib/Apache/ASP.pm line 2018.
Use of uninitialized value $rv in lc at /home/perl515/.cpan/build/Apache-ASP-2.61-qalWGV/blib/lib/Apache/ASP.pm line 2018.
Use of uninitialized value $rv in lc at /home/perl515/.cpan/build/Apache-ASP-2.61-qalWGV/blib/lib/Apache/ASP.pm line 2018.
t/collectionitem.t ....... ok
Use of uninitialized value $rv in lc at /home/perl515/.cpan/build/Apache-ASP-2.61-qalWGV/blib/lib/Apache/ASP.pm line 2018.
Use of uninitialized value $rv in lc at /home/perl515/.cpan/build/Apache-ASP-2.61-qalWGV/blib/lib/Apache/ASP.pm line 2018.
Use of uninitialized value $rv in lc at /home/perl515/.cpan/build/Apache-ASP-2.61-qalWGV/blib/lib/Apache/ASP.pm line 2018.
Use of uninitialized value $rv in lc at /home/perl515/.cpan/build/Apache-ASP-2.61-qalWGV/blib/lib/Apache/ASP.pm line 2018.
Use of uninitialized value $rv in lc at /home/perl515/.cpan/build/Apache-ASP-2.61-qalWGV/blib/lib/Apache/ASP.pm line 2018.
Use of uninitialized value $rv in lc at /home/perl515/.cpan/build/Apache-ASP-2.61-qalWGV/blib/lib/Apache/ASP.pm line 2018.
Use of uninitialized value $rv in lc at /home/perl515/.cpan/build/Apache-ASP-2.61-qalWGV/blib/lib/Apache/ASP.pm line 2018.
Use of uninitialized value $rv in lc at /home/perl515/.cpan/build/Apache-ASP-2.61-qalWGV/blib/lib/Apache/ASP.pm line 2018.
Use of uninitialized value $rv in lc at /home/perl515/.cpan/build/Apache-ASP-2.61-qalWGV/blib/lib/Apache/ASP.pm line 2018.
Use of uninitialized value $rv in lc at /home/perl515/.cpan/build/Apache-ASP-2.61-qalWGV/blib/lib/Apache/ASP.pm line 2018.
t/cookies.t .............. ok
Use of uninitialized value $rv in lc at /home/perl515/.cpan/build/Apache-ASP-2.61-qalWGV/blib/lib/Apache/ASP.pm line 2018.
Use of uninitialized value $rv in lc at /home/perl515/.cpan/build/Apache-ASP-2.61-qalWGV/blib/lib/Apache/ASP.pm line 2018.
Use of uninitialized value $rv in lc at /home/perl515/.cpan/build/Apache-ASP-2.61-qalWGV/blib/lib/Apache/ASP.pm line 2018.
Use of uninitialized value $rv in lc at /home/perl515/.cpan/build/Apache-ASP-2.61-qalWGV/blib/lib/Apache/ASP.pm line 2018.
Use of uninitialized value $rv in lc at /home/perl515/.cpan/build/Apache-ASP-2.61-qalWGV/blib/lib/Apache/ASP.pm line 2018.
Use of uninitialized value $rv in lc at /home/perl515/.cpan/build/Apache-ASP-2.61-qalWGV/blib/lib/Apache/ASP.pm line 2018.
Use of uninitialized value $rv in lc at /home/perl515/.cpan/build/Apache-ASP-2.61-qalWGV/blib/lib/Apache/ASP.pm line 2018.
Use of uninitialized value $rv in lc at /home/perl515/.cpan/build/Apache-ASP-2.61-qalWGV/blib/lib/Apache/ASP.pm line 2018.
Use of uninitialized value $rv in lc at /home/perl515/.cpan/build/Apache-ASP-2.61-qalWGV/blib/lib/Apache/ASP.pm line 2018.
Use of uninitialized value $rv in lc at /home/perl515/.cpan/build/Apache-ASP-2.61-qalWGV/blib/lib/Apache/ASP.pm line 2018.
Use of uninitialized value $rv in lc at /home/perl515/.cpan/build/Apache-ASP-2.61-qalWGV/blib/lib/Apache/ASP.pm line 2018.
Use of uninitialized value $rv in lc at /home/perl515/.cpan/build/Apache-ASP-2.61-qalWGV/blib/lib/Apache/ASP.pm line 2018.
Use of uninitialized value $rv in lc at /home/perl515/.cpan/build/Apache-ASP-2.61-qalWGV/blib/lib/Apache/ASP.pm line 2018.
Use of uninitialized value $rv in lc at /home/perl515/.cpan/build/Apache-ASP-2.61-qalWGV/blib/lib/Apache/ASP.pm line 2018.
Use of uninitialized value $rv in lc at /home/perl515/.cpan/build/Apache-ASP-2.61-qalWGV/blib/lib/Apache/ASP.pm line 2018.
Use of uninitialized value $rv in lc at /home/perl515/.cpan/build/Apache-ASP-2.61-qalWGV/blib/lib/Apache/ASP.pm line 2018.
Use of uninitialized value $rv in lc at /home/perl515/.cpan/build/Apache-ASP-2.61-qalWGV/blib/lib/Apache/ASP.pm line 2018.
Use of uninitialized value $rv in lc at /home/perl515/.cpan/build/Apache-ASP-2.61-qalWGV/blib/lib/Apache/ASP.pm line 2018.
Use of uninitialized value $rv in lc at /home/perl515/.cpan/build/Apache-ASP-2.61-qalWGV/blib/lib/Apache/ASP.pm line 2018.
Use of uninitialized value $rv in lc at /home/perl515/.cpan/build/Apache-ASP-2.61-qalWGV/blib/lib/Apache/ASP.pm line 2018.
Use of uninitialized value $rv in lc at /home/perl515/.cpan/build/Apache-ASP-2.61-qalWGV/blib/lib/Apache/ASP.pm line 2018.
Use of uninitialized value $rv in lc at /home/perl515/.cpan/build/Apache-ASP-2.61-qalWGV/blib/lib/Apache/ASP.pm line 2018.
Use of uninitialized value $rv in lc at /home/perl515/.cpan/build/Apache-ASP-2.61-qalWGV/blib/lib/Apache/ASP.pm line 2018.
Use of uninitialized value $rv in lc at /home/perl515/.cpan/build/Apache-ASP-2.61-qalWGV/blib/lib/Apache/ASP.pm line 2018.
Use of uninitialized value $rv in lc at /home/perl515/.cpan/build/Apache-ASP-2.61-qalWGV/blib/lib/Apache/ASP.pm line 2018.
Use of uninitialized value $rv in lc at /home/perl515/.cpan/build/Apache-ASP-2.61-qalWGV/blib/lib/Apache/ASP.pm line 2018.
Use of uninitialized value $rv in lc at /home/perl515/.cpan/build/Apache-ASP-2.61-qalWGV/blib/lib/Apache/ASP.pm line 2018.
Use of uninitialized value $rv in lc at /home/perl515/.cpan/build/Apache-ASP-2.61-qalWGV/blib/lib/Apache/ASP.pm line 2018.
Use of uninitialized value $rv in lc at /home/perl515/.cpan/build/Apache-ASP-2.61-qalWGV/blib/lib/Apache/ASP.pm line 2018.
Use of uninitialized value $rv in lc at /home/perl515/.cpan/build/Apache-ASP-2.61-qalWGV/blib/lib/Apache/ASP.pm line 2018.
Use of uninitialized value $rv in lc at /home/perl515/.cpan/build/Apache-ASP-2.61-qalWGV/blib/lib/Apache/ASP.pm line 2018.
Use of uninitialized value $rv in lc at /home/perl515/.cpan/build/Apache-ASP-2.61-qalWGV/blib/lib/Apache/ASP.pm line 2018.
Use of uninitialized value $rv in lc at /home/perl515/.cpan/build/Apache-ASP-2.61-qalWGV/blib/lib/Apache/ASP.pm line 2018.
Use of uninitialized value $rv in lc at /home/perl515/.cpan/build/Apache-ASP-2.61-qalWGV/blib/lib/Apache/ASP.pm line 2018.
Use of uninitialized value $rv in lc at /home/perl515/.cpan/build/Apache-ASP-2.61-qalWGV/blib/lib/Apache/ASP.pm line 2018.
Use of uninitialized value $rv in lc at /home/perl515/.cpan/build/Apache-ASP-2.61-qalWGV/blib/lib/Apache/ASP.pm line 2018.
Use of uninitialized value $rv in lc at /home/perl515/.cpan/build/Apache-ASP-2.61-qalWGV/blib/lib/Apache/ASP.pm line 2018.
Use of uninitialized value $rv in lc at /home/perl515/.cpan/build/Apache-ASP-2.61-qalWGV/blib/lib/Apache/ASP.pm line 2018.
Use of uninitialized value $rv in lc at /home/perl515/.cpan/build/Apache-ASP-2.61-qalWGV/blib/lib/Apache/ASP.pm line 2018.
Use of uninitialized value $rv in lc at /home/perl515/.cpan/build/Apache-ASP-2.61-qalWGV/blib/lib/Apache/ASP.pm line 2018.
Use of uninitialized value $rv in lc at /home/perl515/.cpan/build/Apache-ASP-2.61-qalWGV/blib/lib/Apache/ASP.pm line 2018.
Use of uninitialized value $rv in lc at /home/perl515/.cpan/build/Apache-ASP-2.61-qalWGV/blib/lib/Apache/ASP.pm line 2018.
Use of uninitialized value $rv in lc at /home/perl515/.cpan/build/Apache-ASP-2.61-qalWGV/blib/lib/Apache/ASP.pm line 2018.
Use of uninitialized value $rv in lc at /home/perl515/.cpan/build/Apache-ASP-2.61-qalWGV/blib/lib/Apache/ASP.pm line 2018.
Use of uninitialized value $rv in lc at /home/perl515/.cpan/build/Apache-ASP-2.61-qalWGV/blib/lib/Apache/ASP.pm line 2018.
Use of uninitialized value $rv in lc at /home/perl515/.cpan/build/Apache-ASP-2.61-qalWGV/blib/lib/Apache/ASP.pm line 2018.
Use of uninitialized value $rv in lc at /home/perl515/.cpan/build/Apache-ASP-2.61-qalWGV/blib/lib/Apache/ASP.pm line 2018.
Use of uninitialized value $rv in lc at /home/perl515/.cpan/build/Apache-ASP-2.61-qalWGV/blib/lib/Apache/ASP.pm line 2018.
Use of uninitialized value $rv in lc at /home/perl515/.cpan/build/Apache-ASP-2.61-qalWGV/blib/lib/Apache/ASP.pm line 2018.
Use of uninitialized value $rv in lc at /home/perl515/.cpan/build/Apache-ASP-2.61-qalWGV/blib/lib/Apache/ASP.pm line 2018.
Use of uninitialized value $rv in lc at /home/perl515/.cpan/build/Apache-ASP-2.61-qalWGV/blib/lib/Apache/ASP.pm line 2018.
Use of uninitialized value $rv in lc at /home/perl515/.cpan/build/Apache-ASP-2.61-qalWGV/blib/lib/Apache/ASP.pm line 2018.
Use of uninitialized value $rv in lc at /home/perl515/.cpan/build/Apache-ASP-2.61-qalWGV/blib/lib/Apache/ASP.pm line 2018.
Use of uninitialized value $rv in lc at /home/perl515/.cpan/build/Apache-ASP-2.61-qalWGV/blib/lib/Apache/ASP.pm line 2018.
t/end.t .................. ok
Use of uninitialized value $rv in lc at /home/perl515/.cpan/build/Apache-ASP-2.61-qalWGV/blib/lib/Apache/ASP.pm line 2018.
Use of uninitialized value $rv in lc at /home/perl515/.cpan/build/Apache-ASP-2.61-qalWGV/blib/lib/Apache/ASP.pm line 2018.
Use of uninitialized value $rv in lc at /home/perl515/.cpan/build/Apache-ASP-2.61-qalWGV/blib/lib/Apache/ASP.pm line 2018.
Use of uninitialized value $rv in lc at /home/perl515/.cpan/build/Apache-ASP-2.61-qalWGV/blib/lib/Apache/ASP.pm line 2018.
Use of uninitialized value $rv in lc at /home/perl515/.cpan/build/Apache-ASP-2.61-qalWGV/blib/lib/Apache/ASP.pm line 2018.
Use of uninitialized value $rv in lc at /home/perl515/.cpan/build/Apache-ASP-2.61-qalWGV/blib/lib/Apache/ASP.pm line 2018.
Use of uninitialized value $rv in lc at /home/perl515/.cpan/build/Apache-ASP-2.61-qalWGV/blib/lib/Apache/ASP.pm line 2018.
Use of uninitialized value $rv in lc at /home/perl515/.cpan/build/Apache-ASP-2.61-qalWGV/blib/lib/Apache/ASP.pm line 2018.
Use of uninitialized value $rv in lc at /home/perl515/.cpan/build/Apache-ASP-2.61-qalWGV/blib/lib/Apache/ASP.pm line 2018.
Use of uninitialized value $rv in lc at /home/perl515/.cpan/build/Apache-ASP-2.61-qalWGV/blib/lib/Apache/ASP.pm line 2018.
Use of uninitialized value $rv in lc at /home/perl515/.cpan/build/Apache-ASP-2.61-qalWGV/blib/lib/Apache/ASP.pm line 2018.
t/general.t .............. ok
Use of uninitialized value $rv in lc at /home/perl515/.cpan/build/Apache-ASP-2.61-qalWGV/blib/lib/Apache/ASP.pm line 2018.
Use of uninitialized value $rv in lc at /home/perl515/.cpan/build/Apache-ASP-2.61-qalWGV/blib/lib/Apache/ASP.pm line 2018.
Use of uninitialized value $rv in lc at /home/perl515/.cpan/build/Apache-ASP-2.61-qalWGV/blib/lib/Apache/ASP.pm line 2018.
Use of uninitialized value $rv in lc at /home/perl515/.cpan/build/Apache-ASP-2.61-qalWGV/blib/lib/Apache/ASP.pm line 2018.
Use of uninitialized value $rv in lc at /home/perl515/.cpan/build/Apache-ASP-2.61-qalWGV/blib/lib/Apache/ASP.pm line 2018.
Use of uninitialized value $rv in lc at /home/perl515/.cpan/build/Apache-ASP-2.61-qalWGV/blib/lib/Apache/ASP.pm line 2018.
Use of uninitialized value $rv in lc at /home/perl515/.cpan/build/Apache-ASP-2.61-qalWGV/blib/lib/Apache/ASP.pm line 2018.
Use of uninitialized value $rv in lc at /home/perl515/.cpan/build/Apache-ASP-2.61-qalWGV/blib/lib/Apache/ASP.pm line 2018.
Use of uninitialized value $rv in lc at /home/perl515/.cpan/build/Apache-ASP-2.61-qalWGV/blib/lib/Apache/ASP.pm line 2018.
Use of uninitialized value $rv in lc at /home/perl515/.cpan/build/Apache-ASP-2.61-qalWGV/blib/lib/Apache/ASP.pm line 2018.
t/global_event_end.t ..... ok
Use of uninitialized value $rv in lc at /home/perl515/.cpan/build/Apache-ASP-2.61-qalWGV/blib/lib/Apache/ASP.pm line 2018.
Use of uninitialized value $rv in lc at /home/perl515/.cpan/build/Apache-ASP-2.61-qalWGV/blib/lib/Apache/ASP.pm line 2018.
Use of uninitialized value $rv in lc at /home/perl515/.cpan/build/Apache-ASP-2.61-qalWGV/blib/lib/Apache/ASP.pm line 2018.
Use of uninitialized value $rv in lc at /home/perl515/.cpan/build/Apache-ASP-2.61-qalWGV/blib/lib/Apache/ASP.pm line 2018.
Use of uninitialized value $rv in lc at /home/perl515/.cpan/build/Apache-ASP-2.61-qalWGV/blib/lib/Apache/ASP.pm line 2018.
Use of uninitialized value $rv in lc at /home/perl515/.cpan/build/Apache-ASP-2.61-qalWGV/blib/lib/Apache/ASP.pm line 2018.
Use of uninitialized value $rv in lc at /home/perl515/.cpan/build/Apache-ASP-2.61-qalWGV/blib/lib/Apache/ASP.pm line 2018.
Use of uninitialized value $rv in lc at /home/perl515/.cpan/build/Apache-ASP-2.61-qalWGV/blib/lib/Apache/ASP.pm line 2018.
Use of uninitialized value $rv in lc at /home/perl515/.cpan/build/Apache-ASP-2.61-qalWGV/blib/lib/Apache/ASP.pm line 2018.
Use of uninitialized value $rv in lc at /home/perl515/.cpan/build/Apache-ASP-2.61-qalWGV/blib/lib/Apache/ASP.pm line 2018.
t/include.t .............. ok
Use of uninitialized value $rv in lc at /home/perl515/.cpan/build/Apache-ASP-2.61-qalWGV/blib/lib/Apache/ASP.pm line 2018.
 at /home/perl515/.cpan/build/Apache-ASP-2.61-qalWGV/blib/lib/Apache/ASP.pm line 2018
	Apache::ASP::get_dir_config('Apache::ASP::CGI::Table=HASH(0x1e89de0)', 'Global') called at /home/perl515/.cpan/build/Apache-ASP-2.61-qalWGV/blib/lib/Apache/ASP.pm line 276
	Apache::ASP::new('Apache::ASP', 'Apache::ASP::CGI=HASH(0x1a797d0)', 't/include_change.t') called at /home/perl515/.cpan/build/Apache-ASP-2.61-qalWGV/blib/lib/Apache/ASP.pm line 184
	Apache::ASP::handler('Apache::ASP::CGI=HASH(0x1a797d0)') called at /home/perl515/.cpan/build/Apache-ASP-2.61-qalWGV/blib/lib/Apache/ASP/CGI.pm line 40
	Apache::ASP::CGI::do_self('NoState', 1, 'Debug', 0, 'UseStrict', 0) called at t/include_change.t line 5
Use of uninitialized value $rv in lc at /home/perl515/.cpan/build/Apache-ASP-2.61-qalWGV/blib/lib/Apache/ASP.pm line 2018.
 at /home/perl515/.cpan/build/Apache-ASP-2.61-qalWGV/blib/lib/Apache/ASP.pm line 2018
	Apache::ASP::get_dir_config('Apache::ASP::CGI::Table=HASH(0x1e89de0)', 'GlobalPackage') called at /home/perl515/.cpan/build/Apache-ASP-2.61-qalWGV/blib/lib/Apache/ASP.pm line 280
	Apache::ASP::new('Apache::ASP', 'Apache::ASP::CGI=HASH(0x1a797d0)', 't/include_change.t') called at /home/perl515/.cpan/build/Apache-ASP-2.61-qalWGV/blib/lib/Apache/ASP.pm line 184
	Apache::ASP::handler('Apache::ASP::CGI=HASH(0x1a797d0)') called at /home/perl515/.cpan/build/Apache-ASP-2.61-qalWGV/blib/lib/Apache/ASP/CGI.pm line 40
	Apache::ASP::CGI::do_self('NoState', 1, 'Debug', 0, 'UseStrict', 0) called at t/include_change.t line 5
Use of uninitialized value $rv in lc at /home/perl515/.cpan/build/Apache-ASP-2.61-qalWGV/blib/lib/Apache/ASP.pm line 2018.
 at /home/perl515/.cpan/build/Apache-ASP-2.61-qalWGV/blib/lib/Apache/ASP.pm line 2018
	Apache::ASP::get_dir_config('Apache::ASP::CGI::Table=HASH(0x1e89de0)', 'InodeNames') called at /home/perl515/.cpan/build/Apache-ASP-2.61-qalWGV/blib/lib/Apache/ASP.pm line 280
	Apache::ASP::new('Apache::ASP', 'Apache::ASP::CGI=HASH(0x1a797d0)', 't/include_change.t') called at /home/perl515/.cpan/build/Apache-ASP-2.61-qalWGV/blib/lib/Apache/ASP.pm line 184
	Apache::ASP::handler('Apache::ASP::CGI=HASH(0x1a797d0)') called at /home/perl515/.cpan/build/Apache-ASP-2.61-qalWGV/blib/lib/Apache/ASP/CGI.pm line 40
	Apache::ASP::CGI::do_self('NoState', 1, 'Debug', 0, 'UseStrict', 0) called at t/include_change.t line 5
Use of uninitialized value $rv in lc at /home/perl515/.cpan/build/Apache-ASP-2.61-qalWGV/blib/lib/Apache/ASP.pm line 2018.
 at /home/perl515/.cpan/build/Apache-ASP-2.61-qalWGV/blib/lib/Apache/ASP.pm line 2018
	Apache::ASP::get_dir_config('Apache::ASP::CGI::Table=HASH(0x1e89de0)', 'NoCache') called at /home/perl515/.cpan/build/Apache-ASP-2.61-qalWGV/blib/lib/Apache/ASP.pm line 280
	Apache::ASP::new('Apache::ASP', 'Apache::ASP::CGI=HASH(0x1a797d0)', 't/include_change.t') called at /home/perl515/.cpan/build/Apache-ASP-2.61-qalWGV/blib/lib/Apache/ASP.pm line 184
	Apache::ASP::handler('Apache::ASP::CGI=HASH(0x1a797d0)') called at /home/perl515/.cpan/build/Apache-ASP-2.61-qalWGV/blib/lib/Apache/ASP/CGI.pm line 40
	Apache::ASP::CGI::do_self('NoState', 1, 'Debug', 0, 'UseStrict', 0) called at t/include_change.t line 5
Use of uninitialized value $rv in lc at /home/perl515/.cpan/build/Apache-ASP-2.61-qalWGV/blib/lib/Apache/ASP.pm line 2018.
 at /home/perl515/.cpan/build/Apache-ASP-2.61-qalWGV/blib/lib/Apache/ASP.pm line 2018
	Apache::ASP::get_dir_config('Apache::ASP::CGI::Table=HASH(0x1e89de0)', 'StatINC') called at /home/perl515/.cpan/build/Apache-ASP-2.61-qalWGV/blib/lib/Apache/ASP.pm line 280
	Apache::ASP::new('Apache::ASP', 'Apache::ASP::CGI=HASH(0x1a797d0)', 't/include_change.t') called at /home/perl515/.cpan/build/Apache-ASP-2.61-qalWGV/blib/lib/Apache/ASP.pm line 184
	Apache::ASP::handler('Apache::ASP::CGI=HASH(0x1a797d0)') called at /home/perl515/.cpan/build/Apache-ASP-2.61-qalWGV/blib/lib/Apache/ASP/CGI.pm line 40
	Apache::ASP::CGI::do_self('NoState', 1, 'Debug', 0, 'UseStrict', 0) called at t/include_change.t line 5
Use of uninitialized value $rv in lc at /home/perl515/.cpan/build/Apache-ASP-2.61-qalWGV/blib/lib/Apache/ASP.pm line 2018.
 at /home/perl515/.cpan/build/Apache-ASP-2.61-qalWGV/blib/lib/Apache/ASP.pm line 2018
	Apache::ASP::get_dir_config('Apache::ASP::CGI::Table=HASH(0x1e89de0)', 'StatINCMatch') called at /home/perl515/.cpan/build/Apache-ASP-2.61-qalWGV/blib/lib/Apache/ASP.pm line 280
	Apache::ASP::new('Apache::ASP', 'Apache::ASP::CGI=HASH(0x1a797d0)', 't/include_change.t') called at /home/perl515/.cpan/build/Apache-ASP-2.61-qalWGV/blib/lib/Apache/ASP.pm line 184
	Apache::ASP::handler('Apache::ASP::CGI=HASH(0x1a797d0)') called at /home/perl515/.cpan/build/Apache-ASP-2.61-qalWGV/blib/lib/Apache/ASP/CGI.pm line 40
	Apache::ASP::CGI::do_self('NoState', 1, 'Debug', 0, 'UseStrict', 0) called at t/include_change.t line 5
Use of uninitialized value $rv in lc at /home/perl515/.cpan/build/Apache-ASP-2.61-qalWGV/blib/lib/Apache/ASP.pm line 2018.
 at /home/perl515/.cpan/build/Apache-ASP-2.61-qalWGV/blib/lib/Apache/ASP.pm line 2018
	Apache::ASP::get_dir_config('Apache::ASP::CGI::Table=HASH(0x1e89de0)', 'XSLT') called at /home/perl515/.cpan/build/Apache-ASP-2.61-qalWGV/blib/lib/Apache/ASP.pm line 280
	Apache::ASP::new('Apache::ASP', 'Apache::ASP::CGI=HASH(0x1a797d0)', 't/include_change.t') called at /home/perl515/.cpan/build/Apache-ASP-2.61-qalWGV/blib/lib/Apache/ASP.pm line 184
	Apache::ASP::handler('Apache::ASP::CGI=HASH(0x1a797d0)') called at /home/perl515/.cpan/build/Apache-ASP-2.61-qalWGV/blib/lib/Apache/ASP/CGI.pm line 40
	Apache::ASP::CGI::do_self('NoState', 1, 'Debug', 0, 'UseStrict', 0) called at t/include_change.t line 5
Use of uninitialized value $rv in lc at /home/perl515/.cpan/build/Apache-ASP-2.61-qalWGV/blib/lib/Apache/ASP.pm line 2018.
 at /home/perl515/.cpan/build/Apache-ASP-2.61-qalWGV/blib/lib/Apache/ASP.pm line 2018
	Apache::ASP::get_dir_config('Apache::ASP::CGI::Table=HASH(0x1e89de0)', 'Filter') called at /home/perl515/.cpan/build/Apache-ASP-2.61-qalWGV/blib/lib/Apache/ASP.pm line 326
	Apache::ASP::new('Apache::ASP', 'Apache::ASP::CGI=HASH(0x1a797d0)', 't/include_change.t') called at /home/perl515/.cpan/build/Apache-ASP-2.61-qalWGV/blib/lib/Apache/ASP.pm line 184
	Apache::ASP::handler('Apache::ASP::CGI=HASH(0x1a797d0)') called at /home/perl515/.cpan/build/Apache-ASP-2.61-qalWGV/blib/lib/Apache/ASP/CGI.pm line 40
	Apache::ASP::CGI::do_self('NoState', 1, 'Debug', 0, 'UseStrict', 0) called at t/include_change.t line 5
Use of uninitialized value $rv in lc at /home/perl515/.cpan/build/Apache-ASP-2.61-qalWGV/blib/lib/Apache/ASP.pm line 2018.
 at /home/perl515/.cpan/build/Apache-ASP-2.61-qalWGV/blib/lib/Apache/ASP.pm line 2018
	Apache::ASP::get_dir_config('Apache::ASP::CGI::Table=HASH(0x1e89de0)', 'CompressGzip') called at /home/perl515/.cpan/build/Apache-ASP-2.61-qalWGV/blib/lib/Apache/ASP.pm line 353
	Apache::ASP::new('Apache::ASP', 'Apache::ASP::CGI=HASH(0x1a797d0)', 't/include_change.t') called at /home/perl515/.cpan/build/Apache-ASP-2.61-qalWGV/blib/lib/Apache/ASP.pm line 184
	Apache::ASP::handler('Apache::ASP::CGI=HASH(0x1a797d0)') called at /home/perl515/.cpan/build/Apache-ASP-2.61-qalWGV/blib/lib/Apache/ASP/CGI.pm line 40
	Apache::ASP::CGI::do_self('NoState', 1, 'Debug', 0, 'UseStrict', 0) called at t/include_change.t line 5
t/include_change.t ....... ok
Use of uninitialized value $rv in lc at /home/perl515/.cpan/build/Apache-ASP-2.61-qalWGV/blib/lib/Apache/ASP.pm line 2018.
Use of uninitialized value $rv in lc at /home/perl515/.cpan/build/Apache-ASP-2.61-qalWGV/blib/lib/Apache/ASP.pm line 2018.
Use of uninitialized value $rv in lc at /home/perl515/.cpan/build/Apache-ASP-2.61-qalWGV/blib/lib/Apache/ASP.pm line 2018.
Use of uninitialized value $rv in lc at /home/perl515/.cpan/build/Apache-ASP-2.61-qalWGV/blib/lib/Apache/ASP.pm line 2018.
Use of uninitialized value $rv in lc at /home/perl515/.cpan/build/Apache-ASP-2.61-qalWGV/blib/lib/Apache/ASP.pm line 2018.
Use of uninitialized value $rv in lc at /home/perl515/.cpan/build/Apache-ASP-2.61-qalWGV/blib/lib/Apache/ASP.pm line 2018.
Use of uninitialized value $rv in lc at /home/perl515/.cpan/build/Apache-ASP-2.61-qalWGV/blib/lib/Apache/ASP.pm line 2018.
Use of uninitialized value $rv in lc at /home/perl515/.cpan/build/Apache-ASP-2.61-qalWGV/blib/lib/Apache/ASP.pm line 2018.
Use of uninitialized value $rv in lc at /home/perl515/.cpan/build/Apache-ASP-2.61-qalWGV/blib/lib/Apache/ASP.pm line 2018.
Use of uninitialized value $rv in lc at /home/perl515/.cpan/build/Apache-ASP-2.61-qalWGV/blib/lib/Apache/ASP.pm line 2018.
Use of uninitialized value $rv in lc at /home/perl515/.cpan/build/Apache-ASP-2.61-qalWGV/blib/lib/Apache/ASP.pm line 2018.
t/include_dir_error.t .... ok
Use of uninitialized value $rv in lc at /home/perl515/.cpan/build/Apache-ASP-2.61-qalWGV/blib/lib/Apache/ASP.pm line 2018.
Use of uninitialized value $rv in lc at /home/perl515/.cpan/build/Apache-ASP-2.61-qalWGV/blib/lib/Apache/ASP.pm line 2018.
Use of uninitialized value $rv in lc at /home/perl515/.cpan/build/Apache-ASP-2.61-qalWGV/blib/lib/Apache/ASP.pm line 2018.
Use of uninitialized value $rv in lc at /home/perl515/.cpan/build/Apache-ASP-2.61-qalWGV/blib/lib/Apache/ASP.pm line 2018.
Use of uninitialized value $rv in lc at /home/perl515/.cpan/build/Apache-ASP-2.61-qalWGV/blib/lib/Apache/ASP.pm line 2018.
Use of uninitialized value $rv in lc at /home/perl515/.cpan/build/Apache-ASP-2.61-qalWGV/blib/lib/Apache/ASP.pm line 2018.
Use of uninitialized value $rv in lc at /home/perl515/.cpan/build/Apache-ASP-2.61-qalWGV/blib/lib/Apache/ASP.pm line 2018.
Use of uninitialized value $rv in lc at /home/perl515/.cpan/build/Apache-ASP-2.61-qalWGV/blib/lib/Apache/ASP.pm line 2018.
Use of uninitialized value $rv in lc at /home/perl515/.cpan/build/Apache-ASP-2.61-qalWGV/blib/lib/Apache/ASP.pm line 2018.
Use of uninitialized value $rv in lc at /home/perl515/.cpan/build/Apache-ASP-2.61-qalWGV/blib/lib/Apache/ASP.pm line 2018.
Use of uninitialized value $rv in lc at /home/perl515/.cpan/build/Apache-ASP-2.61-qalWGV/blib/lib/Apache/ASP.pm line 2018.
t/include_runtime.t ...... ok
Use of uninitialized value $rv in lc at /home/perl515/.cpan/build/Apache-ASP-2.61-qalWGV/blib/lib/Apache/ASP.pm line 2018.
Use of uninitialized value $rv in lc at /home/perl515/.cpan/build/Apache-ASP-2.61-qalWGV/blib/lib/Apache/ASP.pm line 2018.
Use of uninitialized value $rv in lc at /home/perl515/.cpan/build/Apache-ASP-2.61-qalWGV/blib/lib/Apache/ASP.pm line 2018.
Use of uninitialized value $rv in lc at /home/perl515/.cpan/build/Apache-ASP-2.61-qalWGV/blib/lib/Apache/ASP.pm line 2018.
Use of uninitialized value $rv in lc at /home/perl515/.cpan/build/Apache-ASP-2.61-qalWGV/blib/lib/Apache/ASP.pm line 2018.
Use of uninitialized value $rv in lc at /home/perl515/.cpan/build/Apache-ASP-2.61-qalWGV/blib/lib/Apache/ASP.pm line 2018.
Use of uninitialized value $rv in lc at /home/perl515/.cpan/build/Apache-ASP-2.61-qalWGV/blib/lib/Apache/ASP.pm line 2018.
Use of uninitialized value $rv in lc at /home/perl515/.cpan/build/Apache-ASP-2.61-qalWGV/blib/lib/Apache/ASP.pm line 2018.
Use of uninitialized value $rv in lc at /home/perl515/.cpan/build/Apache-ASP-2.61-qalWGV/blib/lib/Apache/ASP.pm line 2018.
t/inode_names.t .......... ok
[ASP WARN] Use of uninitialized value $rv in lc at /home/perl515/.cpan/build/Apache-ASP-2.61-qalWGV/blib/lib/Apache/ASP.pm line 2018.
[ASP WARN] Use of uninitialized value $rv in lc at /home/perl515/.cpan/build/Apache-ASP-2.61-qalWGV/blib/lib/Apache/ASP.pm line 2018.
[ASP WARN] Use of uninitialized value $rv in lc at /home/perl515/.cpan/build/Apache-ASP-2.61-qalWGV/blib/lib/Apache/ASP.pm line 2018.
[ASP WARN] Use of uninitialized value $rv in lc at /home/perl515/.cpan/build/Apache-ASP-2.61-qalWGV/blib/lib/Apache/ASP.pm line 2018.
[ASP WARN] Use of uninitialized value $rv in lc at /home/perl515/.cpan/build/Apache-ASP-2.61-qalWGV/blib/lib/Apache/ASP.pm line 2018.
[ASP WARN] Use of uninitialized value $rv in lc at /home/perl515/.cpan/build/Apache-ASP-2.61-qalWGV/blib/lib/Apache/ASP.pm line 2018.
[ASP WARN] Use of uninitialized value $rv in lc at /home/perl515/.cpan/build/Apache-ASP-2.61-qalWGV/blib/lib/Apache/ASP.pm line 2018.
[ASP WARN] Use of uninitialized value $rv in lc at /home/perl515/.cpan/build/Apache-ASP-2.61-qalWGV/blib/lib/Apache/ASP.pm line 2018.
[ASP WARN] Use of uninitialized value $rv in lc at /home/perl515/.cpan/build/Apache-ASP-2.61-qalWGV/blib/lib/Apache/ASP.pm line 2018.
[ASP WARN] Use of uninitialized value $rv in lc at /home/perl515/.cpan/build/Apache-ASP-2.61-qalWGV/blib/lib/Apache/ASP.pm line 2018.
Use of uninitialized value $rv in lc at /home/perl515/.cpan/build/Apache-ASP-2.61-qalWGV/blib/lib/Apache/ASP.pm line 2018.
Use of uninitialized value $rv in lc at /home/perl515/.cpan/build/Apache-ASP-2.61-qalWGV/blib/lib/Apache/ASP.pm line 2018.
Use of uninitialized value $rv in lc at /home/perl515/.cpan/build/Apache-ASP-2.61-qalWGV/blib/lib/Apache/ASP.pm line 2018.
Use of uninitialized value $rv in lc at /home/perl515/.cpan/build/Apache-ASP-2.61-qalWGV/blib/lib/Apache/ASP.pm line 2018.
Use of uninitialized value $rv in lc at /home/perl515/.cpan/build/Apache-ASP-2.61-qalWGV/blib/lib/Apache/ASP.pm line 2018.
Use of uninitialized value $rv in lc at /home/perl515/.cpan/build/Apache-ASP-2.61-qalWGV/blib/lib/Apache/ASP.pm line 2018.
Use of uninitialized value $rv in lc at /home/perl515/.cpan/build/Apache-ASP-2.61-qalWGV/blib/lib/Apache/ASP.pm line 2018.
Use of uninitialized value $rv in lc at /home/perl515/.cpan/build/Apache-ASP-2.61-qalWGV/blib/lib/Apache/ASP.pm line 2018.
Use of uninitialized value $rv in lc at /home/perl515/.cpan/build/Apache-ASP-2.61-qalWGV/blib/lib/Apache/ASP.pm line 2018.
t/load.t ................. ok
Use of uninitialized value $rv in lc at /home/perl515/.cpan/build/Apache-ASP-2.61-qalWGV/blib/lib/Apache/ASP.pm line 2018.
Use of uninitialized value $rv in lc at /home/perl515/.cpan/build/Apache-ASP-2.61-qalWGV/blib/lib/Apache/ASP.pm line 2018.
Use of uninitialized value $rv in lc at /home/perl515/.cpan/build/Apache-ASP-2.61-qalWGV/blib/lib/Apache/ASP.pm line 2018.
Use of uninitialized value $rv in lc at /home/perl515/.cpan/build/Apache-ASP-2.61-qalWGV/blib/lib/Apache/ASP.pm line 2018.
Use of uninitialized value $rv in lc at /home/perl515/.cpan/build/Apache-ASP-2.61-qalWGV/blib/lib/Apache/ASP.pm line 2018.
Use of uninitialized value $rv in lc at /home/perl515/.cpan/build/Apache-ASP-2.61-qalWGV/blib/lib/Apache/ASP.pm line 2018.
Use of uninitialized value $rv in lc at /home/perl515/.cpan/build/Apache-ASP-2.61-qalWGV/blib/lib/Apache/ASP.pm line 2018.
Use of uninitialized value $rv in lc at /home/perl515/.cpan/build/Apache-ASP-2.61-qalWGV/blib/lib/Apache/ASP.pm line 2018.
Use of uninitialized value $rv in lc at /home/perl515/.cpan/build/Apache-ASP-2.61-qalWGV/blib/lib/Apache/ASP.pm line 2018.
t/long_names.t ........... ok
Use of uninitialized value $rv in lc at /home/perl515/.cpan/build/Apache-ASP-2.61-qalWGV/blib/lib/Apache/ASP.pm line 2018.
Use of uninitialized value $rv in lc at /home/perl515/.cpan/build/Apache-ASP-2.61-qalWGV/blib/lib/Apache/ASP.pm line 2018.
Use of uninitialized value $rv in lc at /home/perl515/.cpan/build/Apache-ASP-2.61-qalWGV/blib/lib/Apache/ASP.pm line 2018.
Use of uninitialized value $rv in lc at /home/perl515/.cpan/build/Apache-ASP-2.61-qalWGV/blib/lib/Apache/ASP.pm line 2018.
Use of uninitialized value $rv in lc at /home/perl515/.cpan/build/Apache-ASP-2.61-qalWGV/blib/lib/Apache/ASP.pm line 2018.
Use of uninitialized value $rv in lc at /home/perl515/.cpan/build/Apache-ASP-2.61-qalWGV/blib/lib/Apache/ASP.pm line 2018.
Use of uninitialized value $rv in lc at /home/perl515/.cpan/build/Apache-ASP-2.61-qalWGV/blib/lib/Apache/ASP.pm line 2018.
Use of uninitialized value $rv in lc at /home/perl515/.cpan/build/Apache-ASP-2.61-qalWGV/blib/lib/Apache/ASP.pm line 2018.
Use of uninitialized value $rv in lc at /home/perl515/.cpan/build/Apache-ASP-2.61-qalWGV/blib/lib/Apache/ASP.pm line 2018.
Use of uninitialized value $rv in lc at /home/perl515/.cpan/build/Apache-ASP-2.61-qalWGV/blib/lib/Apache/ASP.pm line 2018.
Use of uninitialized value $rv in lc at /home/perl515/.cpan/build/Apache-ASP-2.61-qalWGV/blib/lib/Apache/ASP.pm line 2018.
t/loops.t ................ ok
Use of uninitialized value $rv in lc at /home/perl515/.cpan/build/Apache-ASP-2.61-qalWGV/blib/lib/Apache/ASP.pm line 2018.
Use of uninitialized value $rv in lc at /home/perl515/.cpan/build/Apache-ASP-2.61-qalWGV/blib/lib/Apache/ASP.pm line 2018.
Use of uninitialized value $rv in lc at /home/perl515/.cpan/build/Apache-ASP-2.61-qalWGV/blib/lib/Apache/ASP.pm line 2018.
Use of uninitialized value $rv in lc at /home/perl515/.cpan/build/Apache-ASP-2.61-qalWGV/blib/lib/Apache/ASP.pm line 2018.
Use of uninitialized value $rv in lc at /home/perl515/.cpan/build/Apache-ASP-2.61-qalWGV/blib/lib/Apache/ASP.pm line 2018.
Use of uninitialized value $rv in lc at /home/perl515/.cpan/build/Apache-ASP-2.61-qalWGV/blib/lib/Apache/ASP.pm line 2018.
Use of uninitialized value $rv in lc at /home/perl515/.cpan/build/Apache-ASP-2.61-qalWGV/blib/lib/Apache/ASP.pm line 2018.
Use of uninitialized value $rv in lc at /home/perl515/.cpan/build/Apache-ASP-2.61-qalWGV/blib/lib/Apache/ASP.pm line 2018.
Use of uninitialized value $rv in lc at /home/perl515/.cpan/build/Apache-ASP-2.61-qalWGV/blib/lib/Apache/ASP.pm line 2018.
Use of uninitialized value $rv in lc at /home/perl515/.cpan/build/Apache-ASP-2.61-qalWGV/blib/lib/Apache/ASP.pm line 2018.
t/mail_error.t ........... ok
Use of uninitialized value $rv in lc at /home/perl515/.cpan/build/Apache-ASP-2.61-qalWGV/blib/lib/Apache/ASP.pm line 2018.
Use of uninitialized value $rv in lc at /home/perl515/.cpan/build/Apache-ASP-2.61-qalWGV/blib/lib/Apache/ASP.pm line 2018.
Use of uninitialized value $rv in lc at /home/perl515/.cpan/build/Apache-ASP-2.61-qalWGV/blib/lib/Apache/ASP.pm line 2018.
Use of uninitialized value $rv in lc at /home/perl515/.cpan/build/Apache-ASP-2.61-qalWGV/blib/lib/Apache/ASP.pm line 2018.
Use of uninitialized value $rv in lc at /home/perl515/.cpan/build/Apache-ASP-2.61-qalWGV/blib/lib/Apache/ASP.pm line 2018.
Use of uninitialized value $rv in lc at /home/perl515/.cpan/build/Apache-ASP-2.61-qalWGV/blib/lib/Apache/ASP.pm line 2018.
Use of uninitialized value $rv in lc at /home/perl515/.cpan/build/Apache-ASP-2.61-qalWGV/blib/lib/Apache/ASP.pm line 2018.
t/no_cache.t ............. ok
Use of uninitialized value $rv in lc at /home/perl515/.cpan/build/Apache-ASP-2.61-qalWGV/blib/lib/Apache/ASP.pm line 2018.
Use of uninitialized value $rv in lc at /home/perl515/.cpan/build/Apache-ASP-2.61-qalWGV/blib/lib/Apache/ASP.pm line 2018.
Use of uninitialized value $rv in lc at /home/perl515/.cpan/build/Apache-ASP-2.61-qalWGV/blib/lib/Apache/ASP.pm line 2018.
Use of uninitialized value $rv in lc at /home/perl515/.cpan/build/Apache-ASP-2.61-qalWGV/blib/lib/Apache/ASP.pm line 2018.
Use of uninitialized value $rv in lc at /home/perl515/.cpan/build/Apache-ASP-2.61-qalWGV/blib/lib/Apache/ASP.pm line 2018.
Use of uninitialized value $rv in lc at /home/perl515/.cpan/build/Apache-ASP-2.61-qalWGV/blib/lib/Apache/ASP.pm line 2018.
Use of uninitialized value $rv in lc at /home/perl515/.cpan/build/Apache-ASP-2.61-qalWGV/blib/lib/Apache/ASP.pm line 2018.
Use of uninitialized value $rv in lc at /home/perl515/.cpan/build/Apache-ASP-2.61-qalWGV/blib/lib/Apache/ASP.pm line 2018.
Use of uninitialized value $rv in lc at /home/perl515/.cpan/build/Apache-ASP-2.61-qalWGV/blib/lib/Apache/ASP.pm line 2018.
t/raw.t .................. ok
Use of uninitialized value $rv in lc at /home/perl515/.cpan/build/Apache-ASP-2.61-qalWGV/blib/lib/Apache/ASP.pm line 2018.
Use of uninitialized value $rv in lc at /home/perl515/.cpan/build/Apache-ASP-2.61-qalWGV/blib/lib/Apache/ASP.pm line 2018.
Use of uninitialized value $rv in lc at /home/perl515/.cpan/build/Apache-ASP-2.61-qalWGV/blib/lib/Apache/ASP.pm line 2018.
Use of uninitialized value $rv in lc at /home/perl515/.cpan/build/Apache-ASP-2.61-qalWGV/blib/lib/Apache/ASP.pm line 2018.
Use of uninitialized value $rv in lc at /home/perl515/.cpan/build/Apache-ASP-2.61-qalWGV/blib/lib/Apache/ASP.pm line 2018.
Use of uninitialized value $rv in lc at /home/perl515/.cpan/build/Apache-ASP-2.61-qalWGV/blib/lib/Apache/ASP.pm line 2018.
Use of uninitialized value $rv in lc at /home/perl515/.cpan/build/Apache-ASP-2.61-qalWGV/blib/lib/Apache/ASP.pm line 2018.
Use of uninitialized value $rv in lc at /home/perl515/.cpan/build/Apache-ASP-2.61-qalWGV/blib/lib/Apache/ASP.pm line 2018.
Use of uninitialized value $rv in lc at /home/perl515/.cpan/build/Apache-ASP-2.61-qalWGV/blib/lib/Apache/ASP.pm line 2018.
t/raw_include.t .......... ok
Use of uninitialized value $rv in lc at /home/perl515/.cpan/build/Apache-ASP-2.61-qalWGV/blib/lib/Apache/ASP.pm line 2018.
Use of uninitialized value $rv in lc at /home/perl515/.cpan/build/Apache-ASP-2.61-qalWGV/blib/lib/Apache/ASP.pm line 2018.
Use of uninitialized value $rv in lc at /home/perl515/.cpan/build/Apache-ASP-2.61-qalWGV/blib/lib/Apache/ASP.pm line 2018.
Use of uninitialized value $rv in lc at /home/perl515/.cpan/build/Apache-ASP-2.61-qalWGV/blib/lib/Apache/ASP.pm line 2018.
Use of uninitialized value $rv in lc at /home/perl515/.cpan/build/Apache-ASP-2.61-qalWGV/blib/lib/Apache/ASP.pm line 2018.
Use of uninitialized value $rv in lc at /home/perl515/.cpan/build/Apache-ASP-2.61-qalWGV/blib/lib/Apache/ASP.pm line 2018.
Use of uninitialized value $rv in lc at /home/perl515/.cpan/build/Apache-ASP-2.61-qalWGV/blib/lib/Apache/ASP.pm line 2018.
Use of uninitialized value $rv in lc at /home/perl515/.cpan/build/Apache-ASP-2.61-qalWGV/blib/lib/Apache/ASP.pm line 2018.
Use of uninitialized value $rv in lc at /home/perl515/.cpan/build/Apache-ASP-2.61-qalWGV/blib/lib/Apache/ASP.pm line 2018.
Use of uninitialized value $rv in lc at /home/perl515/.cpan/build/Apache-ASP-2.61-qalWGV/blib/lib/Apache/ASP.pm line 2018.
Use of uninitialized value $rv in lc at /home/perl515/.cpan/build/Apache-ASP-2.61-qalWGV/blib/lib/Apache/ASP.pm line 2018.
Use of uninitialized value $rv in lc at /home/perl515/.cpan/build/Apache-ASP-2.61-qalWGV/blib/lib/Apache/ASP.pm line 2018.
Use of uninitialized value $rv in lc at /home/perl515/.cpan/build/Apache-ASP-2.61-qalWGV/blib/lib/Apache/ASP.pm line 2018.
Use of uninitialized value $rv in lc at /home/perl515/.cpan/build/Apache-ASP-2.61-qalWGV/blib/lib/Apache/ASP.pm line 2018.
Use of uninitialized value $rv in lc at /home/perl515/.cpan/build/Apache-ASP-2.61-qalWGV/blib/lib/Apache/ASP.pm line 2018.
Use of uninitialized value $rv in lc at /home/perl515/.cpan/build/Apache-ASP-2.61-qalWGV/blib/lib/Apache/ASP.pm line 2018.
Use of uninitialized value $rv in lc at /home/perl515/.cpan/build/Apache-ASP-2.61-qalWGV/blib/lib/Apache/ASP.pm line 2018.
Use of uninitialized value $rv in lc at /home/perl515/.cpan/build/Apache-ASP-2.61-qalWGV/blib/lib/Apache/ASP.pm line 2018.
Use of uninitialized value $rv in lc at /home/perl515/.cpan/build/Apache-ASP-2.61-qalWGV/blib/lib/Apache/ASP.pm line 2018.
Use of uninitialized value $rv in lc at /home/perl515/.cpan/build/Apache-ASP-2.61-qalWGV/blib/lib/Apache/ASP.pm line 2018.
t/reload_global_asa.t .... ok
Use of uninitialized value $rv in lc at /home/perl515/.cpan/build/Apache-ASP-2.61-qalWGV/blib/lib/Apache/ASP.pm line 2018.
Use of uninitialized value $rv in lc at /home/perl515/.cpan/build/Apache-ASP-2.61-qalWGV/blib/lib/Apache/ASP.pm line 2018.
Use of uninitialized value $rv in lc at /home/perl515/.cpan/build/Apache-ASP-2.61-qalWGV/blib/lib/Apache/ASP.pm line 2018.
Use of uninitialized value $rv in lc at /home/perl515/.cpan/build/Apache-ASP-2.61-qalWGV/blib/lib/Apache/ASP.pm line 2018.
Use of uninitialized value $rv in lc at /home/perl515/.cpan/build/Apache-ASP-2.61-qalWGV/blib/lib/Apache/ASP.pm line 2018.
Use of uninitialized value $rv in lc at /home/perl515/.cpan/build/Apache-ASP-2.61-qalWGV/blib/lib/Apache/ASP.pm line 2018.
Use of uninitialized value $rv in lc at /home/perl515/.cpan/build/Apache-ASP-2.61-qalWGV/blib/lib/Apache/ASP.pm line 2018.
Use of uninitialized value $rv in lc at /home/perl515/.cpan/build/Apache-ASP-2.61-qalWGV/blib/lib/Apache/ASP.pm line 2018.
Use of uninitialized value $rv in lc at /home/perl515/.cpan/build/Apache-ASP-2.61-qalWGV/blib/lib/Apache/ASP.pm line 2018.
Use of uninitialized value $rv in lc at /home/perl515/.cpan/build/Apache-ASP-2.61-qalWGV/blib/lib/Apache/ASP.pm line 2018.
Use of uninitialized value $rv in lc at /home/perl515/.cpan/build/Apache-ASP-2.61-qalWGV/blib/lib/Apache/ASP.pm line 2018.
t/req_params_none.t ...... ok
Use of uninitialized value $rv in lc at /home/perl515/.cpan/build/Apache-ASP-2.61-qalWGV/blib/lib/Apache/ASP.pm line 2018.
Use of uninitialized value $rv in lc at /home/perl515/.cpan/build/Apache-ASP-2.61-qalWGV/blib/lib/Apache/ASP.pm line 2018.
Use of uninitialized value $rv in lc at /home/perl515/.cpan/build/Apache-ASP-2.61-qalWGV/blib/lib/Apache/ASP.pm line 2018.
Use of uninitialized value $rv in lc at /home/perl515/.cpan/build/Apache-ASP-2.61-qalWGV/blib/lib/Apache/ASP.pm line 2018.
Use of uninitialized value $rv in lc at /home/perl515/.cpan/build/Apache-ASP-2.61-qalWGV/blib/lib/Apache/ASP.pm line 2018.
Use of uninitialized value $rv in lc at /home/perl515/.cpan/build/Apache-ASP-2.61-qalWGV/blib/lib/Apache/ASP.pm line 2018.
Use of uninitialized value $rv in lc at /home/perl515/.cpan/build/Apache-ASP-2.61-qalWGV/blib/lib/Apache/ASP.pm line 2018.
Use of uninitialized value $rv in lc at /home/perl515/.cpan/build/Apache-ASP-2.61-qalWGV/blib/lib/Apache/ASP.pm line 2018.
Use of uninitialized value $rv in lc at /home/perl515/.cpan/build/Apache-ASP-2.61-qalWGV/blib/lib/Apache/ASP.pm line 2018.
Use of uninitialized value $rv in lc at /home/perl515/.cpan/build/Apache-ASP-2.61-qalWGV/blib/lib/Apache/ASP.pm line 2018.
Use of uninitialized value $rv in lc at /home/perl515/.cpan/build/Apache-ASP-2.61-qalWGV/blib/lib/Apache/ASP.pm line 2018.
t/request.t .............. ok
Use of uninitialized value $rv in lc at /home/perl515/.cpan/build/Apache-ASP-2.61-qalWGV/blib/lib/Apache/ASP.pm line 2018.
Use of uninitialized value $rv in lc at /home/perl515/.cpan/build/Apache-ASP-2.61-qalWGV/blib/lib/Apache/ASP.pm line 2018.
Use of uninitialized value $rv in lc at /home/perl515/.cpan/build/Apache-ASP-2.61-qalWGV/blib/lib/Apache/ASP.pm line 2018.
Use of uninitialized value $rv in lc at /home/perl515/.cpan/build/Apache-ASP-2.61-qalWGV/blib/lib/Apache/ASP.pm line 2018.
Use of uninitialized value $rv in lc at /home/perl515/.cpan/build/Apache-ASP-2.61-qalWGV/blib/lib/Apache/ASP.pm line 2018.
Use of uninitialized value $rv in lc at /home/perl515/.cpan/build/Apache-ASP-2.61-qalWGV/blib/lib/Apache/ASP.pm line 2018.
Use of uninitialized value $rv in lc at /home/perl515/.cpan/build/Apache-ASP-2.61-qalWGV/blib/lib/Apache/ASP.pm line 2018.
Use of uninitialized value $rv in lc at /home/perl515/.cpan/build/Apache-ASP-2.61-qalWGV/blib/lib/Apache/ASP.pm line 2018.
Use of uninitialized value $rv in lc at /home/perl515/.cpan/build/Apache-ASP-2.61-qalWGV/blib/lib/Apache/ASP.pm line 2018.
Use of uninitialized value $rv in lc at /home/perl515/.cpan/build/Apache-ASP-2.61-qalWGV/blib/lib/Apache/ASP.pm line 2018.
Use of uninitialized value $rv in lc at /home/perl515/.cpan/build/Apache-ASP-2.61-qalWGV/blib/lib/Apache/ASP.pm line 2018.
t/response.t ............. ok
Use of uninitialized value $rv in lc at /home/perl515/.cpan/build/Apache-ASP-2.61-qalWGV/blib/lib/Apache/ASP.pm line 2018.
Use of uninitialized value $rv in lc at /home/perl515/.cpan/build/Apache-ASP-2.61-qalWGV/blib/lib/Apache/ASP.pm line 2018.
Use of uninitialized value $rv in lc at /home/perl515/.cpan/build/Apache-ASP-2.61-qalWGV/blib/lib/Apache/ASP.pm line 2018.
Use of uninitialized value $rv in lc at /home/perl515/.cpan/build/Apache-ASP-2.61-qalWGV/blib/lib/Apache/ASP.pm line 2018.
Use of uninitialized value $rv in lc at /home/perl515/.cpan/build/Apache-ASP-2.61-qalWGV/blib/lib/Apache/ASP.pm line 2018.
Use of uninitialized value $rv in lc at /home/perl515/.cpan/build/Apache-ASP-2.61-qalWGV/blib/lib/Apache/ASP.pm line 2018.
Use of uninitialized value $rv in lc at /home/perl515/.cpan/build/Apache-ASP-2.61-qalWGV/blib/lib/Apache/ASP.pm line 2018.
Use of uninitialized value $rv in lc at /home/perl515/.cpan/build/Apache-ASP-2.61-qalWGV/blib/lib/Apache/ASP.pm line 2018.
Use of uninitialized value $rv in lc at /home/perl515/.cpan/build/Apache-ASP-2.61-qalWGV/blib/lib/Apache/ASP.pm line 2018.
Use of uninitialized value $rv in lc at /home/perl515/.cpan/build/Apache-ASP-2.61-qalWGV/blib/lib/Apache/ASP.pm line 2018.
Use of uninitialized value $rv in lc at /home/perl515/.cpan/build/Apache-ASP-2.61-qalWGV/blib/lib/Apache/ASP.pm line 2018.
t/response_end.t ......... ok
Use of uninitialized value $rv in lc at /home/perl515/.cpan/build/Apache-ASP-2.61-qalWGV/blib/lib/Apache/ASP.pm line 2018.
Use of uninitialized value $rv in lc at /home/perl515/.cpan/build/Apache-ASP-2.61-qalWGV/blib/lib/Apache/ASP.pm line 2018.
Use of uninitialized value $rv in lc at /home/perl515/.cpan/build/Apache-ASP-2.61-qalWGV/blib/lib/Apache/ASP.pm line 2018.
Use of uninitialized value $rv in lc at /home/perl515/.cpan/build/Apache-ASP-2.61-qalWGV/blib/lib/Apache/ASP.pm line 2018.
Use of uninitialized value $rv in lc at /home/perl515/.cpan/build/Apache-ASP-2.61-qalWGV/blib/lib/Apache/ASP.pm line 2018.
Use of uninitialized value $rv in lc at /home/perl515/.cpan/build/Apache-ASP-2.61-qalWGV/blib/lib/Apache/ASP.pm line 2018.
Use of uninitialized value $rv in lc at /home/perl515/.cpan/build/Apache-ASP-2.61-qalWGV/blib/lib/Apache/ASP.pm line 2018.
Use of uninitialized value $rv in lc at /home/perl515/.cpan/build/Apache-ASP-2.61-qalWGV/blib/lib/Apache/ASP.pm line 2018.
Use of uninitialized value $rv in lc at /home/perl515/.cpan/build/Apache-ASP-2.61-qalWGV/blib/lib/Apache/ASP.pm line 2018.
Use of uninitialized value $rv in lc at /home/perl515/.cpan/build/Apache-ASP-2.61-qalWGV/blib/lib/Apache/ASP.pm line 2018.
Use of uninitialized value $rv in lc at /home/perl515/.cpan/build/Apache-ASP-2.61-qalWGV/blib/lib/Apache/ASP.pm line 2018.
Use of uninitialized value $rv in lc at /home/perl515/.cpan/build/Apache-ASP-2.61-qalWGV/blib/lib/Apache/ASP.pm line 2018.
Use of uninitialized value $rv in lc at /home/perl515/.cpan/build/Apache-ASP-2.61-qalWGV/blib/lib/Apache/ASP.pm line 2018.
Use of uninitialized value $rv in lc at /home/perl515/.cpan/build/Apache-ASP-2.61-qalWGV/blib/lib/Apache/ASP.pm line 2018.
Use of uninitialized value $rv in lc at /home/perl515/.cpan/build/Apache-ASP-2.61-qalWGV/blib/lib/Apache/ASP.pm line 2018.
Use of uninitialized value $rv in lc at /home/perl515/.cpan/build/Apache-ASP-2.61-qalWGV/blib/lib/Apache/ASP.pm line 2018.
Use of uninitialized value $rv in lc at /home/perl515/.cpan/build/Apache-ASP-2.61-qalWGV/blib/lib/Apache/ASP.pm line 2018.
Use of uninitialized value $rv in lc at /home/perl515/.cpan/build/Apache-ASP-2.61-qalWGV/blib/lib/Apache/ASP.pm line 2018.
Use of uninitialized value $rv in lc at /home/perl515/.cpan/build/Apache-ASP-2.61-qalWGV/blib/lib/Apache/ASP.pm line 2018.
Use of uninitialized value $rv in lc at /home/perl515/.cpan/build/Apache-ASP-2.61-qalWGV/blib/lib/Apache/ASP.pm line 2018.
t/same_name.t ............ ok
Use of uninitialized value $rv in lc at /home/perl515/.cpan/build/Apache-ASP-2.61-qalWGV/blib/lib/Apache/ASP.pm line 2018.
Use of uninitialized value $rv in lc at /home/perl515/.cpan/build/Apache-ASP-2.61-qalWGV/blib/lib/Apache/ASP.pm line 2018.
Use of uninitialized value $rv in lc at /home/perl515/.cpan/build/Apache-ASP-2.61-qalWGV/blib/lib/Apache/ASP.pm line 2018.
Use of uninitialized value $rv in lc at /home/perl515/.cpan/build/Apache-ASP-2.61-qalWGV/blib/lib/Apache/ASP.pm line 2018.
Use of uninitialized value $rv in lc at /home/perl515/.cpan/build/Apache-ASP-2.61-qalWGV/blib/lib/Apache/ASP.pm line 2018.
Use of uninitialized value $rv in lc at /home/perl515/.cpan/build/Apache-ASP-2.61-qalWGV/blib/lib/Apache/ASP.pm line 2018.
Use of uninitialized value $rv in lc at /home/perl515/.cpan/build/Apache-ASP-2.61-qalWGV/blib/lib/Apache/ASP.pm line 2018.
Use of uninitialized value $rv in lc at /home/perl515/.cpan/build/Apache-ASP-2.61-qalWGV/blib/lib/Apache/ASP.pm line 2018.
Use of uninitialized value $rv in lc at /home/perl515/.cpan/build/Apache-ASP-2.61-qalWGV/blib/lib/Apache/ASP.pm line 2018.
Use of uninitialized value $rv in lc at /home/perl515/.cpan/build/Apache-ASP-2.61-qalWGV/blib/lib/Apache/ASP.pm line 2018.
t/server.t ............... ok
Use of uninitialized value $rv in lc at /home/perl515/.cpan/build/Apache-ASP-2.61-qalWGV/blib/lib/Apache/ASP.pm line 2018.
Use of uninitialized value $rv in lc at /home/perl515/.cpan/build/Apache-ASP-2.61-qalWGV/blib/lib/Apache/ASP.pm line 2018.
Use of uninitialized value $rv in lc at /home/perl515/.cpan/build/Apache-ASP-2.61-qalWGV/blib/lib/Apache/ASP.pm line 2018.
Use of uninitialized value $rv in lc at /home/perl515/.cpan/build/Apache-ASP-2.61-qalWGV/blib/lib/Apache/ASP.pm line 2018.
Use of uninitialized value $rv in lc at /home/perl515/.cpan/build/Apache-ASP-2.61-qalWGV/blib/lib/Apache/ASP.pm line 2018.
Use of uninitialized value $rv in lc at /home/perl515/.cpan/build/Apache-ASP-2.61-qalWGV/blib/lib/Apache/ASP.pm line 2018.
Use of uninitialized value $rv in lc at /home/perl515/.cpan/build/Apache-ASP-2.61-qalWGV/blib/lib/Apache/ASP.pm line 2018.
Use of uninitialized value $rv in lc at /home/perl515/.cpan/build/Apache-ASP-2.61-qalWGV/blib/lib/Apache/ASP.pm line 2018.
Use of uninitialized value $rv in lc at /home/perl515/.cpan/build/Apache-ASP-2.61-qalWGV/blib/lib/Apache/ASP.pm line 2018.
Use of uninitialized value $rv in lc at /home/perl515/.cpan/build/Apache-ASP-2.61-qalWGV/blib/lib/Apache/ASP.pm line 2018.
t/server_mail.t .......... ok
Use of uninitialized value $rv in lc at /home/perl515/.cpan/build/Apache-ASP-2.61-qalWGV/blib/lib/Apache/ASP.pm line 2018.
Use of uninitialized value $rv in lc at /home/perl515/.cpan/build/Apache-ASP-2.61-qalWGV/blib/lib/Apache/ASP.pm line 2018.
Use of uninitialized value $rv in lc at /home/perl515/.cpan/build/Apache-ASP-2.61-qalWGV/blib/lib/Apache/ASP.pm line 2018.
Use of uninitialized value $rv in lc at /home/perl515/.cpan/build/Apache-ASP-2.61-qalWGV/blib/lib/Apache/ASP.pm line 2018.
Use of uninitialized value $rv in lc at /home/perl515/.cpan/build/Apache-ASP-2.61-qalWGV/blib/lib/Apache/ASP.pm line 2018.
Use of uninitialized value $rv in lc at /home/perl515/.cpan/build/Apache-ASP-2.61-qalWGV/blib/lib/Apache/ASP.pm line 2018.
Use of uninitialized value $rv in lc at /home/perl515/.cpan/build/Apache-ASP-2.61-qalWGV/blib/lib/Apache/ASP.pm line 2018.
Use of uninitialized value $rv in lc at /home/perl515/.cpan/build/Apache-ASP-2.61-qalWGV/blib/lib/Apache/ASP.pm line 2018.
Use of uninitialized value $rv in lc at /home/perl515/.cpan/build/Apache-ASP-2.61-qalWGV/blib/lib/Apache/ASP.pm line 2018.
t/server_transfer.t ...... ok
Use of uninitialized value $rv in lc at /home/perl515/.cpan/build/Apache-ASP-2.61-qalWGV/blib/lib/Apache/ASP.pm line 2018.
Use of uninitialized value $rv in lc at /home/perl515/.cpan/build/Apache-ASP-2.61-qalWGV/blib/lib/Apache/ASP.pm line 2018.
Use of uninitialized value $rv in lc at /home/perl515/.cpan/build/Apache-ASP-2.61-qalWGV/blib/lib/Apache/ASP.pm line 2018.
Use of uninitialized value $rv in lc at /home/perl515/.cpan/build/Apache-ASP-2.61-qalWGV/blib/lib/Apache/ASP.pm line 2018.
Use of uninitialized value $rv in lc at /home/perl515/.cpan/build/Apache-ASP-2.61-qalWGV/blib/lib/Apache/ASP.pm line 2018.
Use of uninitialized value $rv in lc at /home/perl515/.cpan/build/Apache-ASP-2.61-qalWGV/blib/lib/Apache/ASP.pm line 2018.
Use of uninitialized value $rv in lc at /home/perl515/.cpan/build/Apache-ASP-2.61-qalWGV/blib/lib/Apache/ASP.pm line 2018.
Use of uninitialized value $rv in lc at /home/perl515/.cpan/build/Apache-ASP-2.61-qalWGV/blib/lib/Apache/ASP.pm line 2018.
Use of uninitialized value $rv in lc at /home/perl515/.cpan/build/Apache-ASP-2.61-qalWGV/blib/lib/Apache/ASP.pm line 2018.
Use of uninitialized value $rv in lc at /home/perl515/.cpan/build/Apache-ASP-2.61-qalWGV/blib/lib/Apache/ASP.pm line 2018.
Use of uninitialized value $rv in lc at /home/perl515/.cpan/build/Apache-ASP-2.61-qalWGV/blib/lib/Apache/ASP.pm line 2018.
t/session.t .............. ok
t/session_events.t ....... ok
Use of uninitialized value $rv in lc at /home/perl515/.cpan/build/Apache-ASP-2.61-qalWGV/blib/lib/Apache/ASP.pm line 2018.
Use of uninitialized value $rv in lc at /home/perl515/.cpan/build/Apache-ASP-2.61-qalWGV/blib/lib/Apache/ASP.pm line 2018.
Use of uninitialized value $rv in lc at /home/perl515/.cpan/build/Apache-ASP-2.61-qalWGV/blib/lib/Apache/ASP.pm line 2018.
Use of uninitialized value $rv in lc at /home/perl515/.cpan/build/Apache-ASP-2.61-qalWGV/blib/lib/Apache/ASP.pm line 2018.
Use of uninitialized value $rv in lc at /home/perl515/.cpan/build/Apache-ASP-2.61-qalWGV/blib/lib/Apache/ASP.pm line 2018.
Use of uninitialized value $rv in lc at /home/perl515/.cpan/build/Apache-ASP-2.61-qalWGV/blib/lib/Apache/ASP.pm line 2018.
Use of uninitialized value $rv in lc at /home/perl515/.cpan/build/Apache-ASP-2.61-qalWGV/blib/lib/Apache/ASP.pm line 2018.
Use of uninitialized value $rv in lc at /home/perl515/.cpan/build/Apache-ASP-2.61-qalWGV/blib/lib/Apache/ASP.pm line 2018.
Use of uninitialized value $rv in lc at /home/perl515/.cpan/build/Apache-ASP-2.61-qalWGV/blib/lib/Apache/ASP.pm line 2018.
t/session_query_parse.t .. ok
Use of uninitialized value $rv in lc at /home/perl515/.cpan/build/Apache-ASP-2.61-qalWGV/blib/lib/Apache/ASP.pm line 2018.
Use of uninitialized value $rv in lc at /home/perl515/.cpan/build/Apache-ASP-2.61-qalWGV/blib/lib/Apache/ASP.pm line 2018.
Use of uninitialized value $rv in lc at /home/perl515/.cpan/build/Apache-ASP-2.61-qalWGV/blib/lib/Apache/ASP.pm line 2018.
Use of uninitialized value $rv in lc at /home/perl515/.cpan/build/Apache-ASP-2.61-qalWGV/blib/lib/Apache/ASP.pm line 2018.
Use of uninitialized value $rv in lc at /home/perl515/.cpan/build/Apache-ASP-2.61-qalWGV/blib/lib/Apache/ASP.pm line 2018.
Use of uninitialized value $rv in lc at /home/perl515/.cpan/build/Apache-ASP-2.61-qalWGV/blib/lib/Apache/ASP.pm line 2018.
Use of uninitialized value $rv in lc at /home/perl515/.cpan/build/Apache-ASP-2.61-qalWGV/blib/lib/Apache/ASP.pm line 2018.
Use of uninitialized value $rv in lc at /home/perl515/.cpan/build/Apache-ASP-2.61-qalWGV/blib/lib/Apache/ASP.pm line 2018.
Use of uninitialized value $rv in lc at /home/perl515/.cpan/build/Apache-ASP-2.61-qalWGV/blib/lib/Apache/ASP.pm line 2018.
Use of uninitialized value $rv in lc at /home/perl515/.cpan/build/Apache-ASP-2.61-qalWGV/blib/lib/Apache/ASP.pm line 2018.
Use of uninitialized value $rv in lc at /home/perl515/.cpan/build/Apache-ASP-2.61-qalWGV/blib/lib/Apache/ASP.pm line 2018.
t/session_serialize.t .... ok
Use of uninitialized value $rv in lc at /home/perl515/.cpan/build/Apache-ASP-2.61-qalWGV/blib/lib/Apache/ASP.pm line 2018.
Use of uninitialized value $rv in lc at /home/perl515/.cpan/build/Apache-ASP-2.61-qalWGV/blib/lib/Apache/ASP.pm line 2018.
Use of uninitialized value $rv in lc at /home/perl515/.cpan/build/Apache-ASP-2.61-qalWGV/blib/lib/Apache/ASP.pm line 2018.
Use of uninitialized value $rv in lc at /home/perl515/.cpan/build/Apache-ASP-2.61-qalWGV/blib/lib/Apache/ASP.pm line 2018.
Use of uninitialized value $rv in lc at /home/perl515/.cpan/build/Apache-ASP-2.61-qalWGV/blib/lib/Apache/ASP.pm line 2018.
Use of uninitialized value $rv in lc at /home/perl515/.cpan/build/Apache-ASP-2.61-qalWGV/blib/lib/Apache/ASP.pm line 2018.
Use of uninitialized value $rv in lc at /home/perl515/.cpan/build/Apache-ASP-2.61-qalWGV/blib/lib/Apache/ASP.pm line 2018.
Use of uninitialized value $rv in lc at /home/perl515/.cpan/build/Apache-ASP-2.61-qalWGV/blib/lib/Apache/ASP.pm line 2018.
Use of uninitialized value $rv in lc at /home/perl515/.cpan/build/Apache-ASP-2.61-qalWGV/blib/lib/Apache/ASP.pm line 2018.
Use of uninitialized value $rv in lc at /home/perl515/.cpan/build/Apache-ASP-2.61-qalWGV/blib/lib/Apache/ASP.pm line 2018.
Use of uninitialized value $rv in lc at /home/perl515/.cpan/build/Apache-ASP-2.61-qalWGV/blib/lib/Apache/ASP.pm line 2018.
t/share.t ................ ok
Use of uninitialized value $rv in lc at /home/perl515/.cpan/build/Apache-ASP-2.61-qalWGV/blib/lib/Apache/ASP.pm line 2018.
Use of uninitialized value $rv in lc at /home/perl515/.cpan/build/Apache-ASP-2.61-qalWGV/blib/lib/Apache/ASP.pm line 2018.
Use of uninitialized value $rv in lc at /home/perl515/.cpan/build/Apache-ASP-2.61-qalWGV/blib/lib/Apache/ASP.pm line 2018.
Use of uninitialized value $rv in lc at /home/perl515/.cpan/build/Apache-ASP-2.61-qalWGV/blib/lib/Apache/ASP.pm line 2018.
Use of uninitialized value $rv in lc at /home/perl515/.cpan/build/Apache-ASP-2.61-qalWGV/blib/lib/Apache/ASP.pm line 2018.
Use of uninitialized value $rv in lc at /home/perl515/.cpan/build/Apache-ASP-2.61-qalWGV/blib/lib/Apache/ASP.pm line 2018.
Use of uninitialized value $rv in lc at /home/perl515/.cpan/build/Apache-ASP-2.61-qalWGV/blib/lib/Apache/ASP.pm line 2018.
Use of uninitialized value $rv in lc at /home/perl515/.cpan/build/Apache-ASP-2.61-qalWGV/blib/lib/Apache/ASP.pm line 2018.
Use of uninitialized value $rv in lc at /home/perl515/.cpan/build/Apache-ASP-2.61-qalWGV/blib/lib/Apache/ASP.pm line 2018.
Use of uninitialized value $rv in lc at /home/perl515/.cpan/build/Apache-ASP-2.61-qalWGV/blib/lib/Apache/ASP.pm line 2018.
t/stat_inc.t ............. ok
Use of uninitialized value $rv in lc at /home/perl515/.cpan/build/Apache-ASP-2.61-qalWGV/blib/lib/Apache/ASP.pm line 2018.
Use of uninitialized value $rv in lc at /home/perl515/.cpan/build/Apache-ASP-2.61-qalWGV/blib/lib/Apache/ASP.pm line 2018.
Use of uninitialized value $rv in lc at /home/perl515/.cpan/build/Apache-ASP-2.61-qalWGV/blib/lib/Apache/ASP.pm line 2018.
Use of uninitialized value $rv in lc at /home/perl515/.cpan/build/Apache-ASP-2.61-qalWGV/blib/lib/Apache/ASP.pm line 2018.
Use of uninitialized value $rv in lc at /home/perl515/.cpan/build/Apache-ASP-2.61-qalWGV/blib/lib/Apache/ASP.pm line 2018.
Use of uninitialized value $rv in lc at /home/perl515/.cpan/build/Apache-ASP-2.61-qalWGV/blib/lib/Apache/ASP.pm line 2018.
Use of uninitialized value $rv in lc at /home/perl515/.cpan/build/Apache-ASP-2.61-qalWGV/blib/lib/Apache/ASP.pm line 2018.
Use of uninitialized value $rv in lc at /home/perl515/.cpan/build/Apache-ASP-2.61-qalWGV/blib/lib/Apache/ASP.pm line 2018.
Use of uninitialized value $rv in lc at /home/perl515/.cpan/build/Apache-ASP-2.61-qalWGV/blib/lib/Apache/ASP.pm line 2018.
t/strict_error.t ......... ok
Use of uninitialized value $rv in lc at blib/lib/Apache/ASP.pm line 2018.
Use of uninitialized value $rv in lc at blib/lib/Apache/ASP.pm line 2018.
Use of uninitialized value $rv in lc at blib/lib/Apache/ASP.pm line 2018.
Use of uninitialized value $rv in lc at blib/lib/Apache/ASP.pm line 2018.
Use of uninitialized value $rv in lc at blib/lib/Apache/ASP.pm line 2018.
Use of uninitialized value $rv in lc at blib/lib/Apache/ASP.pm line 2018.
Use of uninitialized value $rv in lc at blib/lib/Apache/ASP.pm line 2018.
Use of uninitialized value $rv in lc at blib/lib/Apache/ASP.pm line 2018.
Use of uninitialized value $rv in lc at blib/lib/Apache/ASP.pm line 2018.
Use of uninitialized value $rv in lc at blib/lib/Apache/ASP.pm line 2018.
Use of uninitialized value $rv in lc at blib/lib/Apache/ASP.pm line 2018.
t/taint_check.t .......... ok
Use of uninitialized value $rv in lc at /home/perl515/.cpan/build/Apache-ASP-2.61-qalWGV/blib/lib/Apache/ASP.pm line 2018.
Use of uninitialized value $rv in lc at /home/perl515/.cpan/build/Apache-ASP-2.61-qalWGV/blib/lib/Apache/ASP.pm line 2018.
Use of uninitialized value $rv in lc at /home/perl515/.cpan/build/Apache-ASP-2.61-qalWGV/blib/lib/Apache/ASP.pm line 2018.
Use of uninitialized value $rv in lc at /home/perl515/.cpan/build/Apache-ASP-2.61-qalWGV/blib/lib/Apache/ASP.pm line 2018.
Use of uninitialized value $rv in lc at /home/perl515/.cpan/build/Apache-ASP-2.61-qalWGV/blib/lib/Apache/ASP.pm line 2018.
Use of uninitialized value $rv in lc at /home/perl515/.cpan/build/Apache-ASP-2.61-qalWGV/blib/lib/Apache/ASP.pm line 2018.
Use of uninitialized value $rv in lc at /home/perl515/.cpan/build/Apache-ASP-2.61-qalWGV/blib/lib/Apache/ASP.pm line 2018.
Use of uninitialized value $rv in lc at /home/perl515/.cpan/build/Apache-ASP-2.61-qalWGV/blib/lib/Apache/ASP.pm line 2018.
t/unique_packages.t ...... ok
Use of uninitialized value $rv in lc at /home/perl515/.cpan/build/Apache-ASP-2.61-qalWGV/blib/lib/Apache/ASP.pm line 2018.
Use of uninitialized value $rv in lc at /home/perl515/.cpan/build/Apache-ASP-2.61-qalWGV/blib/lib/Apache/ASP.pm line 2018.
Use of uninitialized value $rv in lc at /home/perl515/.cpan/build/Apache-ASP-2.61-qalWGV/blib/lib/Apache/ASP.pm line 2018.
Use of uninitialized value $rv in lc at /home/perl515/.cpan/build/Apache-ASP-2.61-qalWGV/blib/lib/Apache/ASP.pm line 2018.
Use of uninitialized value $rv in lc at /home/perl515/.cpan/build/Apache-ASP-2.61-qalWGV/blib/lib/Apache/ASP.pm line 2018.
Use of uninitialized value $rv in lc at /home/perl515/.cpan/build/Apache-ASP-2.61-qalWGV/blib/lib/Apache/ASP.pm line 2018.
Use of uninitialized value $rv in lc at /home/perl515/.cpan/build/Apache-ASP-2.61-qalWGV/blib/lib/Apache/ASP.pm line 2018.
Use of uninitialized value $rv in lc at /home/perl515/.cpan/build/Apache-ASP-2.61-qalWGV/blib/lib/Apache/ASP.pm line 2018.
Use of uninitialized value $rv in lc at /home/perl515/.cpan/build/Apache-ASP-2.61-qalWGV/blib/lib/Apache/ASP.pm line 2018.
t/xmlsubs.t .............. ok
Use of uninitialized value $rv in lc at /home/perl515/.cpan/build/Apache-ASP-2.61-qalWGV/blib/lib/Apache/ASP.pm line 2018.
Use of uninitialized value $rv in lc at /home/perl515/.cpan/build/Apache-ASP-2.61-qalWGV/blib/lib/Apache/ASP.pm line 2018.
Use of uninitialized value $rv in lc at /home/perl515/.cpan/build/Apache-ASP-2.61-qalWGV/blib/lib/Apache/ASP.pm line 2018.
Use of uninitialized value $rv in lc at /home/perl515/.cpan/build/Apache-ASP-2.61-qalWGV/blib/lib/Apache/ASP.pm line 2018.
Use of uninitialized value $rv in lc at /home/perl515/.cpan/build/Apache-ASP-2.61-qalWGV/blib/lib/Apache/ASP.pm line 2018.
Use of uninitialized value $rv in lc at /home/perl515/.cpan/build/Apache-ASP-2.61-qalWGV/blib/lib/Apache/ASP.pm line 2018.
Use of uninitialized value $rv in lc at /home/perl515/.cpan/build/Apache-ASP-2.61-qalWGV/blib/lib/Apache/ASP.pm line 2018.
Use of uninitialized value $rv in lc at /home/perl515/.cpan/build/Apache-ASP-2.61-qalWGV/blib/lib/Apache/ASP.pm line 2018.
Use of uninitialized value $rv in lc at /home/perl515/.cpan/build/Apache-ASP-2.61-qalWGV/blib/lib/Apache/ASP.pm line 2018.
t/xmlsubs_aspargs.t ...... ok
Use of uninitialized value $rv in lc at /home/perl515/.cpan/build/Apache-ASP-2.61-qalWGV/blib/lib/Apache/ASP.pm line 2018.
Use of uninitialized value $rv in lc at /home/perl515/.cpan/build/Apache-ASP-2.61-qalWGV/blib/lib/Apache/ASP.pm line 2018.
Use of uninitialized value $rv in lc at /home/perl515/.cpan/build/Apache-ASP-2.61-qalWGV/blib/lib/Apache/ASP.pm line 2018.
Use of uninitialized value $rv in lc at /home/perl515/.cpan/build/Apache-ASP-2.61-qalWGV/blib/lib/Apache/ASP.pm line 2018.
Use of uninitialized value $rv in lc at /home/perl515/.cpan/build/Apache-ASP-2.61-qalWGV/blib/lib/Apache/ASP.pm line 2018.
Use of uninitialized value $rv in lc at /home/perl515/.cpan/build/Apache-ASP-2.61-qalWGV/blib/lib/Apache/ASP.pm line 2018.
Use of uninitialized value $rv in lc at /home/perl515/.cpan/build/Apache-ASP-2.61-qalWGV/blib/lib/Apache/ASP.pm line 2018.
Use of uninitialized value $rv in lc at /home/perl515/.cpan/build/Apache-ASP-2.61-qalWGV/blib/lib/Apache/ASP.pm line 2018.
Use of uninitialized value $rv in lc at /home/perl515/.cpan/build/Apache-ASP-2.61-qalWGV/blib/lib/Apache/ASP.pm line 2018.
t/xmlsubs_perlargs.t ..... ok
Use of uninitialized value $rv in lc at /home/perl515/.cpan/build/Apache-ASP-2.61-qalWGV/blib/lib/Apache/ASP.pm line 2018.
Use of uninitialized value $rv in lc at /home/perl515/.cpan/build/Apache-ASP-2.61-qalWGV/blib/lib/Apache/ASP.pm line 2018.
Use of uninitialized value $rv in lc at /home/perl515/.cpan/build/Apache-ASP-2.61-qalWGV/blib/lib/Apache/ASP.pm line 2018.
Use of uninitialized value $rv in lc at /home/perl515/.cpan/build/Apache-ASP-2.61-qalWGV/blib/lib/Apache/ASP.pm line 2018.
Use of uninitialized value $rv in lc at /home/perl515/.cpan/build/Apache-ASP-2.61-qalWGV/blib/lib/Apache/ASP.pm line 2018.
Use of uninitialized value $rv in lc at /home/perl515/.cpan/build/Apache-ASP-2.61-qalWGV/blib/lib/Apache/ASP.pm line 2018.
Use of uninitialized value $rv in lc at /home/perl515/.cpan/build/Apache-ASP-2.61-qalWGV/blib/lib/Apache/ASP.pm line 2018.
Use of uninitialized value $rv in lc at /home/perl515/.cpan/build/Apache-ASP-2.61-qalWGV/blib/lib/Apache/ASP.pm line 2018.
Use of uninitialized value $rv in lc at /home/perl515/.cpan/build/Apache-ASP-2.61-qalWGV/blib/lib/Apache/ASP.pm line 2018.
Use of uninitialized value $rv in lc at /home/perl515/.cpan/build/Apache-ASP-2.61-qalWGV/blib/lib/Apache/ASP.pm line 2018.
t/xmlsubsmatch.t ......... ok
All tests successful.
Files=47, Tests=341,  9 wallclock secs ( 0.19 usr  0.06 sys +  3.48 cusr  0.67 csys =  4.40 CPU)
Result: PASS

------------------------------
PREREQUISITES
------------------------------

Prerequisite modules loaded:

requires:

    Module              Need Have   
    ------------------- ---- -------
    Carp                0    1.20   
    Class::Struct       0    0.63   
    Data::Dumper        0    2.131  
    Digest::MD5         0    2.51   
    Fcntl               0    1.11   
    File::Basename      0    2.82   
    MLDBM               0    2.04   
    MLDBM::Sync         0    0.30   
    SDBM_File           0    1.09   

build_requires:

    Module              Need Have   
    ------------------- ---- -------
    ExtUtils::MakeMaker 0    6.57_05


------------------------------
ENVIRONMENT AND OTHER CONTEXT
------------------------------

Environment variables:

    AUTOMATED_TESTING = 1
    LANG = en_US.UTF-8
    LC_COLLATE = C
    LC_MONETARY = nl_NL.utf8
    PATH = /home/tester/perl5/perlbrew/bin:/home/tester/perl5/perlbrew/perls/perl-5.14.1/bin:/usr/lib64/qt-3.3/bin:/usr/lib64/ccache:/usr/local/bin:/bin:/usr/bin:/usr/local/sbin:/usr/sbin:/sbin:/home/tester/bin:/home/tester/bin
    PATH_WITHOUT_PERLBREW = /usr/lib64/qt-3.3/bin:/usr/lib64/ccache:/usr/local/bin:/bin:/usr/bin:/usr/local/sbin:/usr/sbin:/sbin:/home/tester/bin
    PERL5LIB = /home/perl515/.cpan/build/MLDBM-Sync-0.30-lPSRzf/blib/arch:/home/perl515/.cpan/build/MLDBM-Sync-0.30-lPSRzf/blib/lib:/home/perl515/.cpan/build/MLDBM-2.04-Gz6KRJ/blib/arch:/home/perl515/.cpan/build/MLDBM-2.04-Gz6KRJ/blib/lib
    PERL5OPT = 
    PERL5_CPANPLUS_IS_RUNNING = 21076
    PERL5_CPAN_IS_RUNNING = 21076
    PERL5_CPAN_IS_RUNNING_IN_RECURSION = 2756,21076
    PERLBREW_PATH = /home/tester/perl5/perlbrew/bin:/home/tester/perl5/perlbrew/perls/perl-5.14.1/bin
    PERLBREW_PERL = perl-5.14.1
    PERLBREW_ROOT = /home/tester/perl5/perlbrew
    PERLBREW_VERSION = 0.15
    PERL_CR_SMOKER_CURRENT = Apache-ASP-2.61
    PERL_EXTUTILS_AUTOINSTALL = --defaultdeps
    PERL_MM_USE_DEFAULT = 1
    SHELL = /bin/bash
    TERM = screen

Perl special variables (and OS-specific diagnostics, for MSWin32):

    $^X = /home/perl515/testing/bin/perl5.15.0
    $UID/$EUID = 508 / 508
    $GID = 508 508
    $EGID = 508 508

Perl module toolchain versions installed:

    Module              Have    
    ------------------- --------
    CPAN                1.9600  
    Cwd                 3.36    
    ExtUtils::CBuilder  0.280204
    ExtUtils::Command   1.17    
    ExtUtils::Install   1.56    
    ExtUtils::MakeMaker 6.57_05 
    ExtUtils::Manifest  1.58    
    ExtUtils::ParseXS   2.2210  
    File::Spec          3.33    
    Module::Build       0.3800  
    Module::Signature   n/a     
    Test::Harness       3.23    
    Test::More          0.98    
    YAML                n/a     
    YAML::Syck          1.17    
    version             0.91    


--

Summary of my perl5 (revision 5 version 15 subversion 0) configuration:
  Commit id: bb31694efc8cbfe9c1c52c28c33db802c3ff5258
  Platform:
    osname=linux, osvers=2.6.35.11-83.fc14.x86_64, archname=x86_64-linux-thread-multi
    uname='linux firenze.fritz.box 2.6.35.11-83.fc14.x86_64 #1 smp mon feb 7 07:06:44 utc 2011 x86_64 x86_64 x86_64 gnulinux '
    config_args='-Dprefix=/home/perl515/testing -Dusethreads -Dusedevel -des'
    hint=recommended, useposix=true, d_sigaction=define
    useithreads=define, usemultiplicity=define
    useperlio=define, d_sfio=undef, uselargefiles=define, usesocks=undef
    use64bitint=define, use64bitall=define, uselongdouble=undef
    usemymalloc=n, bincompat5005=undef
  Compiler:
    cc='cc', ccflags ='-D_REENTRANT -D_GNU_SOURCE -fno-strict-aliasing -pipe -fstack-protector -I/usr/local/include -D_LARGEFILE_SOURCE -D_FILE_OFFSET_BITS=64',
    optimize='-O2',
    cppflags='-D_REENTRANT -D_GNU_SOURCE -fno-strict-aliasing -pipe -fstack-protector -I/usr/local/include'
    ccversion='', gccversion='4.5.1 20100924 (Red Hat 4.5.1-4)', gccosandvers=''
    intsize=4, longsize=8, ptrsize=8, doublesize=8, byteorder=12345678
    d_longlong=define, longlongsize=8, d_longdbl=define, longdblsize=16
    ivtype='long', ivsize=8, nvtype='double', nvsize=8, Off_t='off_t', lseeksize=8
    alignbytes=8, prototype=define
  Linker and Libraries:
    ld='cc', ldflags =' -fstack-protector -L/usr/local/lib'
    libpth=/usr/local/lib /lib/../lib64 /usr/lib/../lib64 /lib /usr/lib /lib64 /usr/lib64 /usr/local/lib64
    libs=-lnsl -lgdbm -ldb -ldl -lm -lcrypt -lutil -lpthread -lc -lgdbm_compat
    perllibs=-lnsl -ldl -lm -lcrypt -lutil -lpthread -lc
    libc=, so=so, useshrplib=false, libperl=libperl.a
    gnulibc_version='2.13'
  Dynamic Linking:
    dlsrc=dl_dlopen.xs, dlext=so, d_dlsymun=undef, ccdlflags='-Wl,-E'
    cccdlflags='-fPIC', lddlflags='-shared -O2 -L/usr/local/lib -fstack-protector'


Characteristics of this binary (from libperl): 
  Compile-time options: MULTIPLICITY PERL_DONT_CREATE_GVSV
                        PERL_IMPLICIT_CONTEXT PERL_MALLOC_WRAP
                        PERL_PRESERVE_IVUV PERL_USE_DEVEL USE_64_BIT_ALL
                        USE_64_BIT_INT USE_ITHREADS USE_LARGE_FILES
                        USE_LOCALE USE_LOCALE_COLLATE USE_LOCALE_CTYPE
                        USE_LOCALE_NUMERIC USE_PERLIO USE_PERL_ATOF
                        USE_REENTRANT_API
  Built under linux
  Compiled at Jun  8 2011 17:21:22
  %ENV:
    PERL5LIB="/home/perl515/.cpan/build/MLDBM-Sync-0.30-lPSRzf/blib/arch:/home/perl515/.cpan/build/MLDBM-Sync-0.30-lPSRzf/blib/lib:/home/perl515/.cpan/build/MLDBM-2.04-Gz6KRJ/blib/arch:/home/perl515/.cpan/build/MLDBM-2.04-Gz6KRJ/blib/lib"
    PERL5OPT=""
    PERL5_CPANPLUS_IS_RUNNING="21076"
    PERL5_CPAN_IS_RUNNING="21076"
    PERL5_CPAN_IS_RUNNING_IN_RECURSION="2756,21076"
    PERLBREW_PATH="/home/tester/perl5/perlbrew/bin:/home/tester/perl5/perlbrew/perls/perl-5.14.1/bin"
    PERLBREW_PERL="perl-5.14.1"
    PERLBREW_ROOT="/home/tester/perl5/perlbrew"
    PERLBREW_VERSION="0.15"
    PERL_CR_SMOKER_CURRENT="Apache-ASP-2.61"
    PERL_EXTUTILS_AUTOINSTALL="--defaultdeps"
    PERL_MM_USE_DEFAULT="1"
  @INC:
    /home/perl515/.cpan/build/MLDBM-Sync-0.30-lPSRzf/blib/arch
    /home/perl515/.cpan/build/MLDBM-Sync-0.30-lPSRzf/blib/lib
    /home/perl515/.cpan/build/MLDBM-2.04-Gz6KRJ/blib/arch
    /home/perl515/.cpan/build/MLDBM-2.04-Gz6KRJ/blib/lib
    /home/perl515/testing/lib/site_perl/5.15.0/x86_64-linux-thread-multi
    /home/perl515/testing/lib/site_perl/5.15.0
    /home/perl515/testing/lib/5.15.0/x86_64-linux-thread-multi
    /home/perl515/testing/lib/5.15.0
    .