DateTime-Format-Strptime v1.75 Perl 5 v5.16.3 x86_64-linux
- Status
- Pass
- From
- Serguei Trouchelle (STRO)
- Dist
-
DateTime-Format-Strptime v1.75
- Platform
- Perl 5 v5.16.3 x86_64-linux
- Date
- 2018-08-17 15:03:12
- ID
- a9160ed6-a22e-11e8-967b-971ffdd4ab5d
This distribution has been tested as part of the CPAN Testers
project, supporting the Perl programming language. See
http://wiki.cpantesters.org/ for more information or email
questions to cpan-testers-discuss@perl.org
--
Dear Dave Rolsky,
This is a computer-generated report for DateTime-Format-Strptime-1.75
on perl 5.16.3, created by CPAN-Reporter-1.2018.
Thank you for uploading your work to CPAN. Congratulations!
All tests were successful.
Sections of this report:
* Tester comments
* Program output
* Prerequisites
* Environment and other context
------------------------------
TESTER COMMENTS
------------------------------
Additional comments from tester:
this report is from an automated smoke testing program
and was not reviewed by a human for accuracy
------------------------------
PROGRAM OUTPUT
------------------------------
Output from '/usr/bin/make test':
PERL_DL_NONLAZY=1 "/home/stro/perl/5.16.3/bin/perl" "-MExtUtils::Command::MM" "-MTest::Harness" "-e" "undef *Test::Harness::Switches; test_harness(0, 'blib/lib', 'blib/arch')" t/*.t
#
# Versions for all modules listed in MYMETA.json (including optional ones):
#
# === Configure Requires ===
#
# Module Want Have
# ------------------- ---- ----
# ExtUtils::MakeMaker any 7.34
#
# === Configure Suggests ===
#
# Module Want Have
# -------- ------- -------
# JSON::PP 2.27300 2.97001
#
# === Build Requires ===
#
# Module Want Have
# ------------------- ---- ----
# ExtUtils::MakeMaker any 7.34
#
# === Test Requires ===
#
# Module Want Have
# ------------------- ---- --------
# ExtUtils::MakeMaker any 7.34
# File::Spec any 3.62
# Test::Builder any 1.302138
# Test::Fatal any 0.014
# Test::More 0.96 1.302138
# Test::Warnings any 0.026
# lib any 0.63
# utf8 any 1.09
#
# === Test Recommends ===
#
# Module Want Have
# ---------- -------- --------
# CPAN::Meta 2.120900 2.150010
#
# === Runtime Requires ===
#
# Module Want Have
# --------------------------- ---- -----
# Carp any 1.38
# DateTime 1.00 1.50
# DateTime::Locale 1.05 1.22
# DateTime::Locale::Base any 1.22
# DateTime::Locale::FromData any 1.22
# DateTime::TimeZone 2.09 2.19
# Exporter any 5.72
# Package::DeprecationManager 0.15 0.17
# Params::ValidationCompiler any 0.30
# Specio 0.33 0.42
# Specio::Declare any 0.42
# Specio::Exporter any 0.42
# Specio::Library::Builtins any 0.42
# Specio::Library::String any 0.42
# Try::Tiny any 0.30
# constant any 1.33
# parent any 0.225
# strict any 1.07
# warnings any 1.13
#
t/00-report-prereqs.t ... ok
t/basic.t ............... ok
t/edge.t ................ ok
t/errors.t .............. ok
t/format-datetime.t ..... ok
t/format-with-locale.t .. ok
t/import.t .............. ok
t/locale-de.t ........... ok
t/locale-en.t ........... ok
t/locale-ga.t ........... ok
t/locale-pt.t ........... ok
t/locale-zh.t ........... ok
t/zones.t ............... ok
All tests successful.
Files=13, Tests=143, 4 wallclock secs ( 0.12 usr 0.01 sys + 2.63 cusr 0.13 csys = 2.89 CPU)
Result: PASS
------------------------------
PREREQUISITES
------------------------------
Prerequisite modules loaded:
requires:
Module Need Have
--------------------------- ---- --------
Carp 0 1.38
constant 0 1.33
DateTime 1.00 1.50
DateTime::Locale 1.05 1.22
DateTime::Locale::Base 0 1.22
DateTime::Locale::FromData 0 1.22
DateTime::TimeZone 2.09 2.19
Exporter 0 5.72
Package::DeprecationManager 0.15 0.17
Params::ValidationCompiler 0 0.30
parent 0 0.225
Specio 0.33 0.42
Specio::Declare 0 0.42
Specio::Exporter 0 0.42
Specio::Library::Builtins 0 0.42
Specio::Library::String 0 0.42
strict 0 1.07
Try::Tiny 0 0.30
warnings 0 1.13
build_requires:
Module Need Have
--------------------------- ---- --------
ExtUtils::MakeMaker 0 7.34
File::Spec 0 3.62
lib 0 0.63
Test::Builder 0 1.302138
Test::Fatal 0 0.014
Test::More 0.96 1.302138
Test::Warnings 0 0.026
utf8 0 1.09
configure_requires:
Module Need Have
--------------------------- ---- --------
ExtUtils::MakeMaker 0 7.34
------------------------------
ENVIRONMENT AND OTHER CONTEXT
------------------------------
Environment variables:
AUTOMATED_TESTING = 1
LANG = en_US.UTF-8
PATH = /usr/local/bin:/usr/bin:/bin:/usr/local/games:/usr/games
PERL5LIB =
PERL5OPT =
PERL5_CPANPLUS_IS_RUNNING = 2811
PERL5_CPAN_IS_RUNNING = 2811
PERL5_CPAN_IS_RUNNING_IN_RECURSION = 16851,2811
PERL_CR_SMOKER_CURRENT = Transport-AU-PTV-0.03
PERL_EXTUTILS_AUTOINSTALL = --defaultdeps
PERL_MM_USE_DEFAULT = 1
SHELL = /bin/bash
TERM = xterm
Perl special variables (and OS-specific diagnostics, for MSWin32):
$^X = /home/stro/perl/5.16.3/bin/perl
$UID/$EUID = 1000 / 1000
$GID = 1000 24 25 29 30 44 46 108 114 1000
$EGID = 1000 24 25 29 30 44 46 108 114 1000
Perl module toolchain versions installed:
Module Have
------------------- --------
CPAN 2.16
CPAN::Meta 2.150010
Cwd 3.62
ExtUtils::CBuilder 0.280230
ExtUtils::Command 7.34
ExtUtils::Install 2.06
ExtUtils::MakeMaker 7.34
ExtUtils::Manifest 1.70
ExtUtils::ParseXS 3.35
File::Spec 3.62
JSON 2.97001
JSON::PP 2.97001
Module::Build 0.4224
Module::Signature 0.81
Parse::CPAN::Meta 2.150010
Test::Harness 3.39
Test::More 1.302138
YAML 1.23
YAML::Syck 1.30
version 0.9918
--
Summary of my perl5 (revision 5 version 16 subversion 3) configuration:
Platform:
osname=linux, osvers=3.16.0-4-amd64, archname=x86_64-linux
uname='linux vm-debian-001 3.16.0-4-amd64 #1 smp debian 3.16.7-ckt11-1 (2015-05-24) x86_64 gnulinux '
config_args=''
hint=recommended, useposix=true, d_sigaction=define
useithreads=undef, usemultiplicity=undef
useperlio=define, d_sfio=undef, uselargefiles=define, usesocks=undef
use64bitint=define, use64bitall=define, uselongdouble=undef
usemymalloc=n, bincompat5005=undef
Compiler:
cc='cc', ccflags ='-fno-strict-aliasing -pipe -fstack-protector -I/usr/local/include -D_LARGEFILE_SOURCE -D_FILE_OFFSET_BITS=64',
optimize='-O2',
cppflags='-fno-strict-aliasing -pipe -fstack-protector -I/usr/local/include'
ccversion='', gccversion='4.9.2', gccosandvers=''
intsize=4, longsize=8, ptrsize=8, doublesize=8, byteorder=12345678
d_longlong=define, longlongsize=8, d_longdbl=define, longdblsize=16
ivtype='long', ivsize=8, nvtype='double', nvsize=8, Off_t='off_t', lseeksize=8
alignbytes=8, prototype=define
Linker and Libraries:
ld='cc', ldflags =' -fstack-protector -L/usr/local/lib'
libpth=/usr/local/lib /lib/x86_64-linux-gnu /lib/../lib /usr/lib/x86_64-linux-gnu /usr/lib/../lib /lib /usr/lib
libs=-lnsl -ldl -lm -lcrypt -lutil -lc
perllibs=-lnsl -ldl -lm -lcrypt -lutil -lc
libc=, so=so, useshrplib=false, libperl=libperl.a
gnulibc_version='2.19'
Dynamic Linking:
dlsrc=dl_dlopen.xs, dlext=so, d_dlsymun=undef, ccdlflags='-Wl,-E'
cccdlflags='-fPIC', lddlflags='-shared -O2 -L/usr/local/lib -fstack-protector'
Characteristics of this binary (from libperl):
Compile-time options: HAS_TIMES PERLIO_LAYERS PERL_DONT_CREATE_GVSV
PERL_MALLOC_WRAP PERL_PRESERVE_IVUV USE_64_BIT_ALL
USE_64_BIT_INT USE_LARGE_FILES USE_LOCALE
USE_LOCALE_COLLATE USE_LOCALE_CTYPE
USE_LOCALE_NUMERIC USE_PERLIO USE_PERL_ATOF
Built under linux
Compiled at Oct 21 2017 22:46:40
%ENV:
PERL5LIB=""
PERL5OPT=""
PERL5_CPANPLUS_IS_RUNNING="2811"
PERL5_CPAN_IS_RUNNING="2811"
PERL5_CPAN_IS_RUNNING_IN_RECURSION="16851,2811"
PERL_CR_SMOKER_CURRENT="Transport-AU-PTV-0.03"
PERL_EXTUTILS_AUTOINSTALL="--defaultdeps"
PERL_MM_USE_DEFAULT="1"
@INC:
/home/stro/perl/5.16.3/lib/site_perl/5.16.3/x86_64-linux
/home/stro/perl/5.16.3/lib/site_perl/5.16.3
/home/stro/perl/5.16.3/lib/5.16.3/x86_64-linux
/home/stro/perl/5.16.3/lib/5.16.3
.