Unix-Passwd-File v0.250 Perl 5 v5.14.4 amd64-freebsd

Status
Pass
From
Slaven Rezić (SREZIC)
Dist
Unix-Passwd-File v0.250
Platform
Perl 5 v5.14.4 amd64-freebsd
Date
2017-12-22 08:03:57
ID
a91e55c4-e6ee-11e7-8897-c98f2b6fd2e1
This distribution has been tested as part of the CPAN Testers
project, supporting the Perl programming language.  See
http://wiki.cpantesters.org/ for more information or email
questions to cpan-testers-discuss@perl.org


--
Dear perlancar,

This is a computer-generated report for Unix-Passwd-File-0.250
on perl 5.14.4, created by CPAN-Reporter-1.2018.

Thank you for uploading your work to CPAN.  Congratulations!
All tests were successful.

Sections of this report:

    * Tester comments
    * Program output
    * Prerequisites
    * Environment and other context

------------------------------
TESTER COMMENTS
------------------------------

Additional comments from tester:

none provided

------------------------------
PROGRAM OUTPUT
------------------------------

Output from '/usr/bin/make test':

PERL_DL_NONLAZY=1 "/usr/local/bin/perl5.14.4" "-MExtUtils::Command::MM" "-MTest::Harness" "-e" "undef *Test::Harness::Switches; test_harness(0, 'blib/lib', 'blib/arch')" t/*.t
t/00-compile.t .............. ok
t/add_delete_user_groups.t .. ok
t/add_group.t ............... ok
t/add_user.t ................ ok
t/add_user_to_group.t ....... ok
t/author-critic.t ........... skipped: these tests are for testing by the author
t/author-pod-coverage.t ..... skipped: these tests are for testing by the author
t/author-pod-syntax.t ....... skipped: these tests are for testing by the author
t/delete_group.t ............ ok
t/delete_user.t ............. ok
t/delete_user_from_group.t .. ok
t/get_group.t ............... ok
t/get_max_gid.t ............. ok
t/get_max_uid.t ............. ok
t/get_user.t ................ ok
t/get_user_groups.t ......... ok
t/group_exists.t ............ ok
t/is_member.t ............... ok
t/list_groups.t ............. ok
t/list_users.t .............. ok
t/list_users_and_groups.t ... ok
t/modify_group.t ............ ok
t/modify_user.t ............. ok
t/release-rinci.t ........... skipped: these tests are for release candidate testing
t/set_user_groups.t ......... ok
t/set_user_password.t ....... ok
t/user_exists.t ............. ok
All tests successful.
Files=27, Tests=116, 12 wallclock secs ( 0.10 usr  0.06 sys +  2.57 cusr  0.77 csys =  3.50 CPU)
Result: PASS

------------------------------
PREREQUISITES
------------------------------

Prerequisite modules loaded:

requires:

    Module                Need     Have    
    --------------------- -------- --------
    Crypt::Password::Util 0.06     0.17    
    experimental          0        0.019   
    File::Flock::Retry    0        0.62    
    List::MoreUtils       0        0.426   
    List::Util            1.45     1.49    
    perl                  5.010001 5.014004
    strict                0        1.04    
    warnings              0        1.12    

build_requires:

    Module                Need     Have    
    --------------------- -------- --------
    ExtUtils::MakeMaker   0        7.30    
    File::chdir           0        0.1010  
    File::Copy            0        2.21    
    File::Copy::Recursive 0        0.38    
    File::Path            0        2.15    
    File::Slurper         0        0.010   
    File::Spec            0        3.62    
    File::Temp            0        0.2304  
    FindBin               0        1.50    
    IO::Handle            0        1.31    
    IPC::Open3            0        1.0901  
    lib                   0        0.63    
    Test::More            0.98     1.302120
    vars                  0        1.02    

configure_requires:

    Module                Need     Have    
    --------------------- -------- --------
    ExtUtils::MakeMaker   0        7.30    


------------------------------
ENVIRONMENT AND OTHER CONTEXT
------------------------------

Environment variables:

    PATH = /usr/local/bin:/usr/bin:/bin:/usr/local/sbin:/usr/sbin:/sbin:/home/cpansand/bin/freebsd12.0:/home/cpansand/bin/sh:/home/cpansand/bin:/usr/games:/home/cpansand/devel:/home/eserte/src/srezic-misc/scripts
    PERL5LIB = /home/cpansand/.cpan/build/2017122206/Crypt-Password-Util-0.17-zdoL1G/blib/arch:/home/cpansand/.cpan/build/2017122206/Crypt-Password-Util-0.17-zdoL1G/blib/lib
    PERL5OPT = 
    PERL5_CPANPLUS_IS_RUNNING = 44476
    PERL5_CPAN_IS_RUNNING = 44476
    PERL5_CPAN_IS_RUNNING_IN_RECURSION = 44459,44476
    PERLDOC = -MPod::Perldoc::ToTextOverstrike
    PERL_BATCH = yes
    PERL_CANARY_STABILITY_NOPROMPT = 1
    PERL_CPAN_REPORTER_CONFIG = /var/tmp/cpansmoker-1023/2017122206/cpanreporter_000_config.ini
    PERL_EXTUTILS_AUTOINSTALL = --defaultdeps
    SHELL = /usr/local/bin/zsh
    TERM = screen
    TMPDIR = /var/tmp/cpansmoker-1023/2017122206

Perl special variables (and OS-specific diagnostics, for MSWin32):

    $^X = /usr/local/bin/perl5.14.4
    $UID/$EUID = 1023 / 1023
    $GID = 1023 1023
    $EGID = 1023 1023

Perl module toolchain versions installed:

    Module              Have     
    ------------------- ---------
    CPAN                1.9600_01
    CPAN::Meta          2.150010 
    Cwd                 3.62     
    ExtUtils::CBuilder  0.280230 
    ExtUtils::Command   7.30     
    ExtUtils::Install   2.06     
    ExtUtils::MakeMaker 7.30     
    ExtUtils::Manifest  1.70     
    ExtUtils::ParseXS   3.35     
    File::Spec          3.62     
    JSON                2.97001  
    JSON::PP            2.97001  
    Module::Build       0.4224   
    Module::Signature   n/a      
    Parse::CPAN::Meta   2.150010 
    Test::Harness       3.39     
    Test::More          1.302120 
    YAML                1.24     
    YAML::Syck          1.30     
    version             0.9918   


--

Summary of my perl5 (revision 5 version 14 subversion 4) configuration:
   
  Platform:
    osname=freebsd, osvers=12.0-current, archname=amd64-freebsd
    uname='freebsd ali1.bbbike.org 12.0-current freebsd 12.0-current #0 bd8385a990e(master)-dirty: fri nov 17 03:13:11 utc 2017 root@ali1.bbbike.org:usrobjhomeprojectsfreebsdamd64.amd64sysgeneric-nodebug amd64 '
    config_args='-ds -e -Dprefix=/usr/perl5.14.4p -Dcf_email=srezic@cpan.org -Doptimize=-O2 -pipe'
    hint=recommended, useposix=true, d_sigaction=define
    useithreads=undef, usemultiplicity=undef
    useperlio=define, d_sfio=undef, uselargefiles=define, usesocks=undef
    use64bitint=define, use64bitall=define, uselongdouble=undef
    usemymalloc=n, bincompat5005=undef
  Compiler:
    cc='cc', ccflags ='-DHAS_FPSETMASK -DHAS_FLOATINGPOINT_H -fno-strict-aliasing -pipe -fstack-protector -I/usr/local/include',
    optimize='-O2 -pipe',
    cppflags='-DHAS_FPSETMASK -DHAS_FLOATINGPOINT_H -fno-strict-aliasing -pipe -fstack-protector -I/usr/local/include'
    ccversion='', gccversion='4.2.1 Compatible FreeBSD Clang 5.0.0 (tags/RELEASE_500/final 312559)', gccosandvers=''
    intsize=4, longsize=8, ptrsize=8, doublesize=8, byteorder=12345678
    d_longlong=define, longlongsize=8, d_longdbl=define, longdblsize=16
    ivtype='long', ivsize=8, nvtype='double', nvsize=8, Off_t='off_t', lseeksize=8
    alignbytes=8, prototype=define
  Linker and Libraries:
    ld='cc', ldflags ='-pthread -Wl,-E  -fstack-protector -L/usr/local/lib'
    libpth=/usr/lib /usr/local/lib
    libs=-lgdbm -lm -lcrypt -lutil -lc
    perllibs=-lm -lcrypt -lutil -lc
    libc=, so=so, useshrplib=false, libperl=libperl.a
    gnulibc_version=''
  Dynamic Linking:
    dlsrc=dl_dlopen.xs, dlext=so, d_dlsymun=undef, ccdlflags=' '
    cccdlflags='-DPIC -fPIC', lddlflags='-shared  -L/usr/local/lib -fstack-protector'


Characteristics of this binary (from libperl): 
  Compile-time options: PERL_DONT_CREATE_GVSV PERL_MALLOC_WRAP
                        PERL_PRESERVE_IVUV USE_64_BIT_ALL USE_64_BIT_INT
                        USE_LARGE_FILES USE_PERLIO USE_PERL_ATOF
  Built under freebsd
  Compiled at Nov 17 2017 07:31:56
  %ENV:
    PERL5LIB="/home/cpansand/.cpan/build/2017122206/Crypt-Password-Util-0.17-zdoL1G/blib/arch:/home/cpansand/.cpan/build/2017122206/Crypt-Password-Util-0.17-zdoL1G/blib/lib"
    PERL5OPT=""
    PERL5_CPANPLUS_IS_RUNNING="44476"
    PERL5_CPAN_IS_RUNNING="44476"
    PERL5_CPAN_IS_RUNNING_IN_RECURSION="44459,44476"
    PERLDOC="-MPod::Perldoc::ToTextOverstrike"
    PERL_BATCH="yes"
    PERL_CANARY_STABILITY_NOPROMPT="1"
    PERL_CPAN_REPORTER_CONFIG="/var/tmp/cpansmoker-1023/2017122206/cpanreporter_000_config.ini"
    PERL_EXTUTILS_AUTOINSTALL="--defaultdeps"
  @INC:
    /home/cpansand/.cpan/build/2017122206/Crypt-Password-Util-0.17-zdoL1G/blib/arch
    /home/cpansand/.cpan/build/2017122206/Crypt-Password-Util-0.17-zdoL1G/blib/lib
    /usr/perl5.14.4p/lib/site_perl/5.14.4/amd64-freebsd
    /usr/perl5.14.4p/lib/site_perl/5.14.4
    /usr/perl5.14.4p/lib/5.14.4/amd64-freebsd
    /usr/perl5.14.4p/lib/5.14.4
    .