MooseX-ClassAttribute v0.29 Perl 5 v5.32.0 x86_64-linux
- Status
- Pass
- From
- David Cantrell (DCANTRELL)
- Dist
-
MooseX-ClassAttribute v0.29
- Platform
- Perl 5 v5.32.0 x86_64-linux
- Date
- 2020-07-08 18:41:39
- ID
- a91f0cc4-c14a-11ea-b49b-ca9ca1724e2f
This distribution has been tested as part of the CPAN Testers
project, supporting the Perl programming language. See
http://wiki.cpantesters.org/ for more information or email
questions to cpan-testers-discuss@perl.org
--
Dear Dave Rolsky,
This is a computer-generated report for MooseX-ClassAttribute-0.29
on perl 5.32.0, created by CPAN-Reporter-1.2018.
Thank you for uploading your work to CPAN. Congratulations!
All tests were successful.
Sections of this report:
* Tester comments
* Program output
* Prerequisites
* Environment and other context
------------------------------
TESTER COMMENTS
------------------------------
Additional comments from tester:
this report is from an automated smoke testing program
and was not reviewed by a human for accuracy
------------------------------
PROGRAM OUTPUT
------------------------------
Output from '/usr/bin/make test':
PERL_DL_NONLAZY=1 "/home/david/cpantesting/perl-5.32.0/bin/perl" "-MExtUtils::Command::MM" "-MTest::Harness" "-e" "undef *Test::Harness::Switches; test_harness(0, 'blib/lib', 'blib/arch')" t/*.t
do "t/00-report-prereqs.dd" failed, '.' is no longer in @INC; did you mean do "./t/00-report-prereqs.dd"? at t/00-report-prereqs.t line 71.
#
# Versions for all modules listed in MYMETA.json (including optional ones):
#
# === Configure Requires ===
#
# Module Want Have
# ------------------- ---- -------
# ExtUtils::MakeMaker any 7.47_02
#
# === Build Requires ===
#
# Module Want Have
# ------------------- ---- -------
# ExtUtils::MakeMaker any 7.47_02
#
# === Test Requires ===
#
# Module Want Have
# ------------------- ---- --------
# ExtUtils::MakeMaker any 7.47_02
# File::Spec any 3.78
# Test::Fatal any 0.014
# Test::More 0.96 1.302175
# Test::Requires 0.05 0.11
# lib any 0.65
# vars any 1.05
#
# === Test Recommends ===
#
# Module Want Have
# ---------- -------- --------
# CPAN::Meta 2.120900 2.150010
#
# === Runtime Requires ===
#
# Module Want Have
# ---------------------------- ---- ------
# List::Util 1.45 1.55
# Moose 2.00 2.2012
# Moose::Exporter any 2.2012
# Moose::Meta::Role::Attribute any 2.2012
# Moose::Role any 2.2012
# Moose::Util any 2.2012
# Moose::Util::MetaRole any 2.2012
# Scalar::Util any 1.55
# namespace::autoclean 0.11 0.29
# namespace::clean 0.20 0.27
# strict any 1.11
# warnings any 1.47
#
t/00-report-prereqs.t ..................... ok
t/01-basic.t .............................. ok
t/02-immutable.t .......................... ok
t/03-introspection.t ...................... ok
t/04-with-native-traits.t ................. ok
t/05-with-attribute-helpers-backcompat.t .. skipped: Test requires module 'MooseX::AttributeHelpers' but it's not found
t/06-role.t ............................... ok
t/07-parameterized-role.t ................. skipped: This test will not pass without changes to MooseX::Role::Parmeterized
t/08-role-composition.t ................... ok
t/09-bare-native-traits.t ................. ok
t/10-strict-role-composition.t ............ skipped: Test requires module 'MooseX::Role::Strict' but it's not found
t/11-moose-exporter.t ..................... skipped: This test fails with a syntax error
t/12-with-initializer.t ................... ok
All tests successful.
Files=13, Tests=178, 18 wallclock secs ( 0.06 usr 0.02 sys + 3.40 cusr 0.27 csys = 3.75 CPU)
Result: PASS
------------------------------
PREREQUISITES
------------------------------
Prerequisite modules loaded:
requires:
Module Need Have
---------------------------- ---- --------
List::Util 1.45 1.55
Moose 2.00 2.2012
Moose::Exporter 0 2.2012
Moose::Meta::Role::Attribute 0 2.2012
Moose::Role 0 2.2012
Moose::Util 0 2.2012
Moose::Util::MetaRole 0 2.2012
namespace::autoclean 0.11 0.29
namespace::clean 0.20 0.27
Scalar::Util 0 1.55
strict 0 1.11
warnings 0 1.47
build_requires:
Module Need Have
---------------------------- ---- --------
ExtUtils::MakeMaker 0 7.47_02
File::Spec 0 3.78
lib 0 0.65
Test::Fatal 0 0.014
Test::More 0.96 1.302175
Test::Requires 0.05 0.11
vars 0 1.05
configure_requires:
Module Need Have
---------------------------- ---- --------
ExtUtils::MakeMaker 0 7.47_02
------------------------------
ENVIRONMENT AND OTHER CONTEXT
------------------------------
Environment variables:
AUTOMATED_TESTING = 1
LANG = en_US.UTF-8
NONINTERACTIVE_TESTING = 1
PATH = /usr/local/bin:/usr/bin:/bin:/usr/local/games:/usr/games
PERL = 5.32.0
PERL5LIB =
PERL5OPT =
PERL5_CPANPLUS_IS_RUNNING = 11798
PERL5_CPAN_IS_RUNNING = 11798
PERLVER = 5.32.0
PERL_INLINE_DIRECTORY = /home/david/.Inline-5.32.0
PERL_MM_USE_DEFAULT = 1
PERL_USE_UNSAFE_INC = 0
SHELL = /bin/bash
TERM = screen
Perl special variables (and OS-specific diagnostics, for MSWin32):
$^X = /home/david/cpantesting/perl-5.32.0/bin/perl
$UID/$EUID = 1000 / 1000
$GID = 1000 27 1000
$EGID = 1000 27 1000
Perl module toolchain versions installed:
Module Have
------------------- --------
CPAN 2.27
CPAN::Meta 2.150010
Cwd 3.78
ExtUtils::CBuilder 0.280234
ExtUtils::Command 7.47_02
ExtUtils::Install 2.14
ExtUtils::MakeMaker 7.47_02
ExtUtils::Manifest 1.72
ExtUtils::ParseXS 3.40
File::Spec 3.78
JSON 4.02
JSON::PP 4.04
Module::Build 0.4231
Module::Signature n/a
Parse::CPAN::Meta 2.150010
Test::Harness 3.42
Test::More 1.302175
YAML 1.30
YAML::Syck n/a
version 0.9924
--
Summary of my perl5 (revision 5 version 32 subversion 0) configuration:
Platform:
osname=linux
osvers=4.9.0-8-amd64
archname=x86_64-linux
uname='linux pigsty.barnyard.co.uk 4.9.0-8-amd64 #1 smp debian 4.9.144-3 (2019-02-02) x86_64 gnulinux '
config_args='-de -Dprefix=/home/david/cpantesting/perl-5.32.0'
hint=recommended
useposix=true
d_sigaction=define
useithreads=undef
usemultiplicity=undef
use64bitint=define
use64bitall=define
uselongdouble=undef
usemymalloc=n
default_inc_excludes_dot=define
bincompat5005=undef
Compiler:
cc='cc'
ccflags ='-fwrapv -fno-strict-aliasing -pipe -fstack-protector-strong -I/usr/local/include -D_LARGEFILE_SOURCE -D_FILE_OFFSET_BITS=64 -D_FORTIFY_SOURCE=2'
optimize='-O2'
cppflags='-fwrapv -fno-strict-aliasing -pipe -fstack-protector-strong -I/usr/local/include'
ccversion=''
gccversion='6.3.0 20170516'
gccosandvers=''
intsize=4
longsize=8
ptrsize=8
doublesize=8
byteorder=12345678
doublekind=3
d_longlong=define
longlongsize=8
d_longdbl=define
longdblsize=16
longdblkind=3
ivtype='long'
ivsize=8
nvtype='double'
nvsize=8
Off_t='off_t'
lseeksize=8
alignbytes=8
prototype=define
Linker and Libraries:
ld='cc'
ldflags =' -fstack-protector-strong -L/usr/local/lib'
libpth=/usr/local/lib /usr/lib/gcc/x86_64-linux-gnu/6/include-fixed /usr/include/x86_64-linux-gnu /usr/lib /lib/x86_64-linux-gnu /lib/../lib /usr/lib/x86_64-linux-gnu /usr/lib/../lib /lib
libs=-lpthread -lnsl -ldb -ldl -lm -lcrypt -lutil -lc
perllibs=-lpthread -lnsl -ldl -lm -lcrypt -lutil -lc
libc=libc-2.24.so
so=so
useshrplib=false
libperl=libperl.a
gnulibc_version='2.24'
Dynamic Linking:
dlsrc=dl_dlopen.xs
dlext=so
d_dlsymun=undef
ccdlflags='-Wl,-E'
cccdlflags='-fPIC'
lddlflags='-shared -O2 -L/usr/local/lib -fstack-protector-strong'
Characteristics of this binary (from libperl):
Compile-time options:
HAS_TIMES
PERLIO_LAYERS
PERL_COPY_ON_WRITE
PERL_DONT_CREATE_GVSV
PERL_MALLOC_WRAP
PERL_OP_PARENT
PERL_PRESERVE_IVUV
USE_64_BIT_ALL
USE_64_BIT_INT
USE_LARGE_FILES
USE_LOCALE
USE_LOCALE_COLLATE
USE_LOCALE_CTYPE
USE_LOCALE_NUMERIC
USE_LOCALE_TIME
USE_PERLIO
USE_PERL_ATOF
Built under linux
Compiled at Jun 22 2020 23:26:03
%ENV:
PERL="5.32.0"
PERL5LIB=""
PERL5OPT=""
PERL5_CPANPLUS_IS_RUNNING="11798"
PERL5_CPAN_IS_RUNNING="11798"
PERLVER="5.32.0"
PERL_INLINE_DIRECTORY="/home/david/.Inline-5.32.0"
PERL_MM_USE_DEFAULT="1"
PERL_USE_UNSAFE_INC="0"
@INC:
/home/david/cpantesting/perl-5.32.0/lib/site_perl/5.32.0/x86_64-linux
/home/david/cpantesting/perl-5.32.0/lib/site_perl/5.32.0
/home/david/cpantesting/perl-5.32.0/lib/5.32.0/x86_64-linux
/home/david/cpantesting/perl-5.32.0/lib/5.32.0