YAML-Syck v1.31 Perl 5 v5.31.6 x86_64-linux-thread-multi
- Status
- Pass
- From
- Carlos Guevara
- Dist
-
YAML-Syck v1.31
- Platform
- Perl 5 v5.31.6 x86_64-linux-thread-multi
- Date
- 2019-11-02 04:31:38
- ID
- a930aece-fd29-11e9-9a3a-a20041e60656
This distribution has been tested as part of the CPAN Testers
project, supporting the Perl programming language. See
http://wiki.cpantesters.org/ for more information or email
questions to cpan-testers-discuss@perl.org
--
Dear Todd Rinaldo,
This is a computer-generated report for YAML-Syck-1.31
on perl 5.31.6, created by CPAN-Reporter-1.2018.
Thank you for uploading your work to CPAN. Congratulations!
All tests were successful.
Sections of this report:
* Tester comments
* Program output
* Prerequisites
* Environment and other context
------------------------------
TESTER COMMENTS
------------------------------
Additional comments from tester:
none provided
------------------------------
PROGRAM OUTPUT
------------------------------
Output from '/usr/bin/make test':
"/home/cpan/bin/perl-blead/bin/perl5.31.6" -MExtUtils::Command::MM -e 'cp_nonempty' -- Syck.bs blib/arch/auto/YAML/Syck/Syck.bs 644
PERL_DL_NONLAZY=1 "/home/cpan/bin/perl-blead/bin/perl5.31.6" "-MExtUtils::Command::MM" "-MTest::Harness" "-e" "undef *Test::Harness::Switches; test_harness(0, 'blib/lib', 'blib/arch')" t/*.t
t/1-basic.t ................. ok
t/11-loadfile.t ............. ok
t/12-dumpfile.t ............. ok
t/2-scalars.t ............... ok
t/3-objects.t ............... ok
t/4-perl_tag_scheme.t ....... ok
t/json-basic.t .............. ok
t/json-circular-ref.t ....... ok
t/json-crlf.t ............... ok
t/json-dumpinto.t ........... ok
t/json-empty.t .............. ok
t/json-indent.t ............. ok
t/json-loadfile.t ........... ok
t/json-minus.t .............. ok
t/json-newline.t ............ ok
t/json-null.t ............... ok
t/json-numbers.t ............ ok
t/json-refs.t ............... ok
t/json-singlequote.t ........ ok
t/leak.t .................... ok
t/load-blessed.t ............ ok
t/manifest.t ................ skipped: Author tests not required for installation
t/meta.t .................... ok
t/yaml-alias.t .............. ok
t/yaml-blessed-ref.t ........ ok
t/yaml-dumpinto.t ........... ok
t/yaml-implicit-warnings.t .. ok
t/yaml-str-colon-first.t .... ok
t/yaml-tie.t ................ ok
t/yaml-utf.t ................ ok
All tests successful.
Files=30, Tests=620, 4 wallclock secs ( 0.20 usr 0.04 sys + 2.98 cusr 0.59 csys = 3.81 CPU)
Result: PASS
------------------------------
PREREQUISITES
------------------------------
Prerequisite modules loaded:
requires:
Module Need Have
------------------- ----- --------
perl 5.006 5.031006
build_requires:
Module Need Have
------------------- ----- --------
Test::More 0 1.302168
configure_requires:
Module Need Have
------------------- ----- --------
ExtUtils::MakeMaker 0 7.38
------------------------------
ENVIRONMENT AND OTHER CONTEXT
------------------------------
Environment variables:
LANG = en_US.UTF-8
LC_ALL = C
NONINTERACTIVE_TESTING = 1
PATH = /home/cpan/bin/perl-blead/bin:/home/cpan/bin:/home/cpan/bin:/home/cpan/bin:/usr/local/sbin:/usr/local/bin:/usr/sbin:/usr/bin:/sbin:/bin:/usr/games:/usr/local/games:/snap/bin
PERL5LIB =
PERL5OPT =
PERL5_CPANPLUS_IS_RUNNING = 8468
PERL5_CPAN_IS_RUNNING = 8468
PERL_MM_USE_DEFAULT = 1
PERL_USE_UNSAFE_INC = 1
PERL_VERSION = blead
SHELL = /bin/bash
TERM = screen
TMPDIR = /home/cpan/tmp
Perl special variables (and OS-specific diagnostics, for MSWin32):
$^X = /home/cpan/bin/perl-blead/bin/perl5.31.6
$UID/$EUID = 1002 / 1002
$GID = 1006 1006
$EGID = 1006 1006
Perl module toolchain versions installed:
Module Have
------------------- --------
CPAN 2.27
CPAN::Meta 2.150010
Cwd 3.78
ExtUtils::CBuilder 0.280233
ExtUtils::Command 7.38
ExtUtils::Install 2.14
ExtUtils::MakeMaker 7.38
ExtUtils::Manifest 1.72
ExtUtils::ParseXS 3.40
File::Spec 3.78
JSON 4.02
JSON::PP 4.04
Module::Build 0.4229
Module::Signature n/a
Parse::CPAN::Meta 2.150010
Test::Harness 3.42
Test::More 1.302168
YAML 1.29
YAML::Syck n/a
version 0.9924
--
Summary of my perl5 (revision 5 version 31 subversion 6) configuration:
Commit id: dd1a3ba7882ca70c1e85b0fd6c03d07856672075
Platform:
osname=linux
osvers=4.15.0-66-generic
archname=x86_64-linux-thread-multi
uname='linux cjg-bionic 4.15.0-66-generic #75-ubuntu smp tue oct 1 05:24:09 utc 2019 x86_64 x86_64 x86_64 gnulinux '
config_args='-des -Dprefix=~/bin/perl-blead -Dscriptdir=~/bin/perl-blead/bin -Dusedevel -Duse64bitall -Duseithreads'
hint=recommended
useposix=true
d_sigaction=define
useithreads=define
usemultiplicity=define
use64bitint=define
use64bitall=define
uselongdouble=undef
usemymalloc=n
default_inc_excludes_dot=define
bincompat5005=undef
Compiler:
cc='cc'
ccflags ='-D_REENTRANT -D_GNU_SOURCE -fwrapv -fno-strict-aliasing -pipe -fstack-protector-strong -I/usr/local/include -D_LARGEFILE_SOURCE -D_FILE_OFFSET_BITS=64'
optimize='-O2'
cppflags='-D_REENTRANT -D_GNU_SOURCE -fwrapv -fno-strict-aliasing -pipe -fstack-protector-strong -I/usr/local/include'
ccversion=''
gccversion='7.4.0'
gccosandvers=''
intsize=4
longsize=8
ptrsize=8
doublesize=8
byteorder=12345678
doublekind=3
d_longlong=define
longlongsize=8
d_longdbl=define
longdblsize=16
longdblkind=3
ivtype='long'
ivsize=8
nvtype='double'
nvsize=8
Off_t='off_t'
lseeksize=8
alignbytes=8
prototype=define
Linker and Libraries:
ld='cc'
ldflags =' -fstack-protector-strong -L/usr/local/lib'
libpth=/usr/local/lib /usr/lib/gcc/x86_64-linux-gnu/7/include-fixed /usr/include/x86_64-linux-gnu /usr/lib /lib/x86_64-linux-gnu /lib/../lib /usr/lib/x86_64-linux-gnu /usr/lib/../lib /lib
libs=-lpthread -lnsl -ldl -lm -lcrypt -lutil -lc
perllibs=-lpthread -lnsl -ldl -lm -lcrypt -lutil -lc
libc=libc-2.27.so
so=so
useshrplib=false
libperl=libperl.a
gnulibc_version='2.27'
Dynamic Linking:
dlsrc=dl_dlopen.xs
dlext=so
d_dlsymun=undef
ccdlflags='-Wl,-E'
cccdlflags='-fPIC'
lddlflags='-shared -O2 -L/usr/local/lib -fstack-protector-strong'
Characteristics of this binary (from libperl):
Compile-time options:
HAS_TIMES
MULTIPLICITY
PERLIO_LAYERS
PERL_COPY_ON_WRITE
PERL_DONT_CREATE_GVSV
PERL_IMPLICIT_CONTEXT
PERL_MALLOC_WRAP
PERL_OP_PARENT
PERL_PRESERVE_IVUV
PERL_USE_DEVEL
USE_64_BIT_ALL
USE_64_BIT_INT
USE_ITHREADS
USE_LARGE_FILES
USE_LOCALE
USE_LOCALE_COLLATE
USE_LOCALE_CTYPE
USE_LOCALE_NUMERIC
USE_LOCALE_TIME
USE_PERLIO
USE_PERL_ATOF
USE_REENTRANT_API
USE_THREAD_SAFE_LOCALE
Built under linux
Compiled at Nov 1 2019 19:36:36
%ENV:
PERL5LIB=""
PERL5OPT=""
PERL5_CPANPLUS_IS_RUNNING="8468"
PERL5_CPAN_IS_RUNNING="8468"
PERL_MM_USE_DEFAULT="1"
PERL_USE_UNSAFE_INC="1"
PERL_VERSION="blead"
@INC:
/home/cpan/bin/perl-blead/lib/site_perl/5.31.6/x86_64-linux-thread-multi
/home/cpan/bin/perl-blead/lib/site_perl/5.31.6
/home/cpan/bin/perl-blead/lib/5.31.6/x86_64-linux-thread-multi
/home/cpan/bin/perl-blead/lib/5.31.6
.