POE v1.370 Perl 5 v5.36.1 x86_64-cygwin-threads-multi
- Status
- Pass
- From
- Peter John Acklam (PJACKLAM)
- Dist
-
POE v1.370
- Platform
- Perl 5 v5.36.1 x86_64-cygwin-threads-multi
- Date
- 2023-11-27 17:26:05
- ID
- a9511ed0-6e5b-1014-825c-fbde59e64fcb
This distribution has been tested as part of the CPAN Testers
project, supporting the Perl programming language. See
http://wiki.cpantesters.org/ for more information or email
questions to cpan-testers-discuss@perl.org
--
Dear Chris Williams,
This is a computer-generated report for POE-1.370
on perl 5.36.1, created by CPAN-Reporter-1.2019.
Thank you for uploading your work to CPAN. Congratulations!
All tests were successful.
Sections of this report:
* Tester comments
* Program output
* Prerequisites
* Environment and other context
------------------------------
TESTER COMMENTS
------------------------------
Additional comments from tester:
none provided
------------------------------
PROGRAM OUTPUT
------------------------------
Output from '/usr/bin/make test':
"/usr/bin/perl.exe" mylib/gen-tests.perl lib/POE.pm
PERL_DL_NONLAZY=1 "/usr/bin/perl.exe" "-MExtUtils::Command::MM" "-MTest::Harness" "-e" "undef *Test::Harness::Switches; test_harness(0, 'blib/lib', 'blib/arch')" t/*.t t/*/*.t t/*/*/*.t
# Testing POE 1.370, POE::Test::Loops 1.360, Perl 5.036001, /usr/bin/perl on cygwin
# pogomips: 39988943
t/00_info.t ........................................ ok
t/10_units/01_pod/01_pod.t ......................... skipped: enable by setting RELEASE_TESTING
t/10_units/01_pod/02_pod_coverage.t ................ skipped: enable by setting RELEASE_TESTING
t/10_units/01_pod/03_pod_no404s.t .................. skipped: Need network access (and permission) for these tests
t/10_units/01_pod/04_pod_linkcheck.t ............... skipped: enable by setting RELEASE_TESTING
t/10_units/02_pipes/01_base.t ...................... skipped: not implemented yet
t/10_units/02_pipes/02_oneway.t .................... ok
t/10_units/02_pipes/03_twoway.t .................... ok
t/10_units/03_base/01_poe.t ........................ ok
t/10_units/03_base/03_component.t .................. ok
t/10_units/03_base/04_driver.t ..................... ok
t/10_units/03_base/05_filter.t ..................... ok
t/10_units/03_base/06_loop.t ....................... ok
t/10_units/03_base/07_queue.t ...................... ok
t/10_units/03_base/08_resource.t ................... ok
t/10_units/03_base/09_resources.t .................. ok
t/10_units/03_base/10_wheel.t ...................... ok
t/10_units/03_base/11_assert_usage.t ............... ok
t/10_units/03_base/12_assert_retval.t .............. ok
t/10_units/03_base/13_assert_data.t ................ ok
t/10_units/03_base/14_kernel.t ..................... ok
t/10_units/03_base/15_kernel_internal.t ............ ok
t/10_units/03_base/16_nfa_usage.t .................. ok
t/10_units/03_base/17_detach_start.t ............... ok
t/10_units/04_drivers/01_sysrw.t ................... ok
t/10_units/05_filters/01_block.t ................... ok
t/10_units/05_filters/02_grep.t .................... ok
t/10_units/05_filters/03_http.t .................... skipped: Need network access (and permission) for these tests
t/10_units/05_filters/04_line.t .................... ok
t/10_units/05_filters/05_map.t ..................... ok
t/10_units/05_filters/06_recordblock.t ............. ok
t/10_units/05_filters/07_reference.t ............... ok
t/10_units/05_filters/08_stream.t .................. ok
t/10_units/05_filters/50_stackable.t ............... ok
t/10_units/05_filters/51_reference_die.t ........... ok
t/10_units/05_filters/99_filterchange.t ............ ok
t/10_units/06_queues/01_array.t .................... ok
t/10_units/07_exceptions/01_normal.t ............... ok
t/10_units/07_exceptions/02_turn_off.t ............. ok
t/10_units/07_exceptions/03_not_handled.t .......... ok
t/10_units/08_loops/01_explicit_loop.t ............. ok
t/10_units/08_loops/02_explicit_loop_fail.t ........ ok
t/10_units/08_loops/03_explicit_loop_poll.t ........ ok
t/10_units/08_loops/04_explicit_loop_envvar.t ...... ok
t/10_units/08_loops/05_kernel_loop.t ............... ok
t/10_units/08_loops/06_kernel_loop_poll.t .......... ok
t/10_units/08_loops/07_kernel_loop_fail.t .......... ok
t/10_units/08_loops/08_kernel_loop_search_poll.t ... ok
t/10_units/08_loops/09_naive_loop_load.t ........... ok
t/10_units/08_loops/10_naive_loop_load_poll.t ...... ok
t/10_units/08_loops/11_double_loop.t ............... ok
t/20_resources/10_perl/aliases.t ................... ok
t/20_resources/10_perl/caller_state.t .............. ok
t/20_resources/10_perl/events.t .................... ok
t/20_resources/10_perl/extrefs.t ................... ok
t/20_resources/10_perl/extrefs_gc.t ................ ok
t/20_resources/10_perl/filehandles.t ............... skipped: Network access (and permission) required to run this test
t/20_resources/10_perl/sessions.t .................. ok
t/20_resources/10_perl/sids.t ...................... ok
t/20_resources/10_perl/signals.t ................... ok
# Testing POE 1.370, POE::Test::Loops 1.360, Using Loop(POE::Loop::IO_Poll), Perl 5.036001, /usr/bin/perl on cygwin
t/30_loops/io_poll/00_info.t ....................... ok
t/30_loops/io_poll/all_errors.t .................... skipped: most of these should move into other test files
t/30_loops/io_poll/comp_tcp.t ...................... skipped: Network access (and permission) required to run this test
t/30_loops/io_poll/comp_tcp_concurrent.t ........... skipped: Network access (and permission) required to run this test
t/30_loops/io_poll/connect_errors.t ................ skipped: Network access (and permission) required to run this test
t/30_loops/io_poll/k_alarms.t ...................... ok
t/30_loops/io_poll/k_aliases.t ..................... ok
t/30_loops/io_poll/k_detach.t ...................... ok
t/30_loops/io_poll/k_run_returns.t ................. ok
t/30_loops/io_poll/k_selects.t ..................... ok
t/30_loops/io_poll/k_sig_child.t ................... ok
t/30_loops/io_poll/k_signals.t ..................... ok
t/30_loops/io_poll/k_signals_rerun.t ............... ok
t/30_loops/io_poll/sbk_signal_init.t ............... ok
t/30_loops/io_poll/ses_nfa.t ....................... ok
# This test generates some STDERR during trace testing.
=== 4736 === 23 -> _start (from /cygdrive/c/src/perl/.cpan/build/POE-1.370-0/blib/lib/POE/Kernel.pm at 1498)
=== 4736 === 23 -> woot (from /src/perl/.cpan/build/POE-Test-Loops-1.360-0/blib/lib/POE/Test/Loops/ses_session.pm at 691)
=== 4736 === 23 -> narf (from /src/perl/.cpan/build/POE-Test-Loops-1.360-0/blib/lib/POE/Test/Loops/ses_session.pm at 692)
=== 4736 === 23 -> _stop (from /cygdrive/c/src/perl/.cpan/build/POE-1.370-0/blib/lib/POE/Resource/Sessions.pm at 571)
t/30_loops/io_poll/ses_session.t ................... ok
t/30_loops/io_poll/wheel_accept.t .................. skipped: Network access (and permission) required to run this test
t/30_loops/io_poll/wheel_curses.t .................. skipped: Need help with Curses functions blocking under ptys
t/30_loops/io_poll/wheel_readline.t ................ ok
t/30_loops/io_poll/wheel_readwrite.t ............... ok
t/30_loops/io_poll/wheel_run.t ..................... ok
t/30_loops/io_poll/wheel_run_size.t ................ ok
t/30_loops/io_poll/wheel_sf_ipv6.t ................. skipped: Socket::GetAddrInfo is needed for IPv6 tests
t/30_loops/io_poll/wheel_sf_tcp.t .................. skipped: Network access (and permission) required to run this test
t/30_loops/io_poll/wheel_sf_udp.t .................. skipped: Network access (and permission) required to run this test
t/30_loops/io_poll/wheel_sf_unix.t ................. skipped: Network access (and permission) required to run this test
t/30_loops/io_poll/wheel_tail.t .................... ok
t/30_loops/io_poll/z_kogman_sig_order.t ............ ok
t/30_loops/io_poll/z_leolo_wheel_run.t ............. ok
# Using '/bin/true' as our thing to run under system()
t/30_loops/io_poll/z_merijn_sigchld_system.t ....... ok
t/30_loops/io_poll/z_rt39872_sigchld.t ............. ok
# Parent 4780 waiting 3sec for slow systems to settle.
# sending sigusr1
# sent sigusr1
t/30_loops/io_poll/z_rt39872_sigchld_stop.t ........ ok
t/30_loops/io_poll/z_rt53302_fh_watchers.t ......... skipped: Network access (and permission) required to run this test
t/30_loops/io_poll/z_rt54319_bazerka_followtail.t .. ok
t/30_loops/io_poll/z_steinert_signal_integrity.t ... ok
# Testing POE 1.370, POE::Test::Loops 1.360, Using Loop(POE::Loop::Select), Perl 5.036001, /usr/bin/perl on cygwin
t/30_loops/select/00_info.t ........................ ok
t/30_loops/select/all_errors.t ..................... skipped: most of these should move into other test files
t/30_loops/select/comp_tcp.t ....................... skipped: Network access (and permission) required to run this test
t/30_loops/select/comp_tcp_concurrent.t ............ skipped: Network access (and permission) required to run this test
t/30_loops/select/connect_errors.t ................. skipped: Network access (and permission) required to run this test
t/30_loops/select/k_alarms.t ....................... ok
t/30_loops/select/k_aliases.t ...................... ok
t/30_loops/select/k_detach.t ....................... ok
t/30_loops/select/k_run_returns.t .................. ok
t/30_loops/select/k_selects.t ...................... ok
t/30_loops/select/k_sig_child.t .................... ok
t/30_loops/select/k_signals.t ...................... ok
t/30_loops/select/k_signals_rerun.t ................ ok
t/30_loops/select/sbk_signal_init.t ................ ok
t/30_loops/select/ses_nfa.t ........................ ok
# This test generates some STDERR during trace testing.
=== 4825 === 23 -> _start (from /cygdrive/c/src/perl/.cpan/build/POE-1.370-0/blib/lib/POE/Kernel.pm at 1498)
=== 4825 === 23 -> woot (from /src/perl/.cpan/build/POE-Test-Loops-1.360-0/blib/lib/POE/Test/Loops/ses_session.pm at 691)
=== 4825 === 23 -> narf (from /src/perl/.cpan/build/POE-Test-Loops-1.360-0/blib/lib/POE/Test/Loops/ses_session.pm at 692)
=== 4825 === 23 -> _stop (from /cygdrive/c/src/perl/.cpan/build/POE-1.370-0/blib/lib/POE/Resource/Sessions.pm at 571)
t/30_loops/select/ses_session.t .................... ok
t/30_loops/select/wheel_accept.t ................... skipped: Network access (and permission) required to run this test
t/30_loops/select/wheel_curses.t ................... skipped: Need help with Curses functions blocking under ptys
t/30_loops/select/wheel_readline.t ................. ok
t/30_loops/select/wheel_readwrite.t ................ ok
t/30_loops/select/wheel_run.t ...................... ok
t/30_loops/select/wheel_run_size.t ................. ok
t/30_loops/select/wheel_sf_ipv6.t .................. skipped: Socket::GetAddrInfo is needed for IPv6 tests
t/30_loops/select/wheel_sf_tcp.t ................... skipped: Network access (and permission) required to run this test
t/30_loops/select/wheel_sf_udp.t ................... skipped: Network access (and permission) required to run this test
t/30_loops/select/wheel_sf_unix.t .................. skipped: Network access (and permission) required to run this test
t/30_loops/select/wheel_tail.t ..................... ok
t/30_loops/select/z_kogman_sig_order.t ............. ok
t/30_loops/select/z_leolo_wheel_run.t .............. ok
# Using '/bin/true' as our thing to run under system()
t/30_loops/select/z_merijn_sigchld_system.t ........ ok
t/30_loops/select/z_rt39872_sigchld.t .............. ok
# Parent 4869 waiting 3sec for slow systems to settle.
# sending sigusr1
# sent sigusr1
t/30_loops/select/z_rt39872_sigchld_stop.t ......... ok
t/30_loops/select/z_rt53302_fh_watchers.t .......... skipped: Network access (and permission) required to run this test
t/30_loops/select/z_rt54319_bazerka_followtail.t ... ok
t/30_loops/select/z_steinert_signal_integrity.t .... ok
t/90_regression/agaran-filter-httpd.t .............. ok
t/90_regression/averell-callback-ret.t ............. ok
t/90_regression/bingos-followtail.t ................ ok
t/90_regression/broeren-win32-nbio.t ............... skipped: This test examines ActiveState Perl behavior.
t/90_regression/cfedde-filter-httpd.t .............. skipped: - Network access (and permission) required to run this test
t/90_regression/ferrari-server-unix.t .............. skipped: Network access (and permission) required to run this test
t/90_regression/grinnz-die-in-die.t ................ ok
Died at t/90_regression/hinrik-wheel-run-die.t line 21.
t/90_regression/hinrik-wheel-run-die.t ............. ok
# This test can take up to 10 seconds
t/90_regression/kjeldahl-stop-start-polling.t ...... ok
# This test can take up to 10 seconds
t/90_regression/kjeldahl-stop-start-sig-nopipe.t ... ok
# This test can take up to 10 seconds
t/90_regression/kjeldahl-stop-start-sig-pipe.t ..... ok
t/90_regression/leolo-sig-die.t .................... ok
t/90_regression/meh-startstop-return.t ............. ok
t/90_regression/neyuki_detach.t .................... ok
t/90_regression/pipe-followtail.t .................. ok
t/90_regression/prumike-win32-stat.t ............... skipped: This test examines Strawberry/ActiveState Perl behavior.
t/90_regression/rt14444-arg1.t ..................... ok
t/90_regression/rt1648-tied-stderr.t ............... ok
t/90_regression/rt19908-merlyn-stop.t .............. ok
t/90_regression/rt23181-sigchld-rc.t ............... ok
t/90_regression/rt47966-sigchld.t .................. skipped: enable by setting RELEASE_TESTING
t/90_regression/rt56417-wheel-run.t ................ ok
t/90_regression/rt65460-forking.t .................. skipped: enable by setting (AUTOMATED|RELEASE)_TESTING
t/90_regression/socketfactory-timeout.t ............ ok
t/90_regression/somni-poco-server-tcp.t ............ skipped: Network access (and permission) required to run this test
t/90_regression/steinert-passed-wheel.t ............ ok
t/90_regression/suzman_windows.t ................... ok
t/90_regression/ton-stop-corruption.t .............. ok
t/90_regression/tracing-sane-exit.t ................ ok
t/90_regression/whelan-dieprop.t ................... ok
t/90_regression/whjackson-followtail.t ............. ok
All tests successful.
Files=161, Tests=3721, 246 wallclock secs ( 0.86 usr 1.36 sys + 22.80 cusr 166.00 csys = 191.02 CPU)
Result: PASS
------------------------------
PREREQUISITES
------------------------------
Prerequisite modules loaded:
requires:
Module Need Have
---------------- ----- ------
Carp 0 1.52
Errno 1.09 1.36
Exporter 0 5.77
File::Spec 0.87 3.84
IO 1.24 1.51
IO::Handle 1.27 1.51
IO::Pipely 0.005 0.006
POE::Test::Loops 1.360 1.360
POSIX 1.02 2.03
Socket 1.7 2.037
Storable 2.16 3.26
Test::Harness 2.26 3.48
Time::HiRes 1.59 1.9770
build_requires:
Module Need Have
---------------- ----- ------
POE::Test::Loops 1.360 1.360
configure_requires:
Module Need Have
---------------- ----- ------
POE::Test::Loops 1.360 1.360
------------------------------
ENVIRONMENT AND OTHER CONTEXT
------------------------------
Environment variables:
COMSPEC = C:\WINDOWS\system32\cmd.exe
LANG = en_US.utf8
NUMBER_OF_PROCESSORS = 24
PATH = /cygdrive/c/home/peter/bin/wrappers:/cygdrive/c/home/peter/bin:/usr/local/bin:/usr/bin:/bin:/usr/sbin:/sbin:/cygdrive/c/home/peter/bin/users/acklam-peter-j:/cygdrive/c/prog/emacs-29.1_2/bin:/cygdrive/c/Windows:/cygdrive/c/Garmin
PERL5LIB = /src/perl/.cpan/build/IO-Pipely-0.006-0/blib/arch:/src/perl/.cpan/build/IO-Pipely-0.006-0/blib/lib:/src/perl/.cpan/build/POE-Test-Loops-1.360-0/blib/arch:/src/perl/.cpan/build/POE-Test-Loops-1.360-0/blib/lib:/usr/local/lib/perl5/site_perl/5.36:/usr/local/lib/perl5/site_perl/5.36/x86_64-cygwin-threads-multi:/usr/local/lib/perl5/site_perl:/usr/local/lib/perl5/vendor_perl/5.36:/usr/local/lib/perl5/vendor_perl/5.36/x86_64-cygwin-threads-multi:/usr/local/lib/perl5/vendor_perl:/usr/local/lib/perl5/5.36:/usr/local/lib/perl5/5.36/x86_64-cygwin-threads-multi:/usr/local/lib/perl5:/usr/local/share/perl5/site_perl/5.36:/usr/local/share/perl5/site_perl/5.36/x86_64-cygwin-threads-multi:/usr/local/share/perl5/site_perl:/usr/local/share/perl5/vendor_perl/5.36:/usr/local/share/perl5/vendor_perl/5.36/x86_64-cygwin-threads-multi:/usr/local/share/perl5/vendor_perl:/usr/local/share/perl5/5.36:/usr/local/share/perl5/5.36/x86_64-cygwin-threads-multi:/usr/local/share/perl5
PERL5OPT =
PERL5_CPANPLUS_IS_RUNNING = 4378
PERL5_CPAN_IS_RUNNING = 4378
PERL_CANARY_STABILITY_NOPROMPT = 1
PERL_CPAN_REPORTER_CONFIG = /cygdrive/c/home/peter/.cpanreporter/config-cygwin-AR-A01-L0042.ini
PERL_MB_OPT = --install_base /usr/local
PERL_MM_OPT = INSTALL_BASE=/usr/local
PERL_USE_UNSAFE_INC = 1
PROCESSOR_IDENTIFIER = Intel64 Family 6 Model 151 Stepping 2, GenuineIntel
SHELL = /bin/bash
TEMP = /tmp
TERM = xterm
Perl special variables (and OS-specific diagnostics, for MSWin32):
$^X = /usr/bin/perl
$UID/$EUID = 1061331 / 1061331
$GID = 1049089 1049089 578 545 4 66049 11 15 4095 66048 1104222 1150627 1098011 1051245 1113266 1156262 1089123 1139839 1090502 1141767 1081310 1090413 1061909 1058653 1081942 1122108 1125494 1137338 1137546 1088201 1143577 1151869 1090906 1093944 1122107 1051228 1057394 1141985 1159857 1068783 1154883 1152922 1137881 1138202 1056539 1057337 1089132 1100278 1051354 1104220 1059243 1089865 1152821 1087957 1105777 1155862 1150082 1135663 1049649 1152548 1125495 1152552 1139179 1069945 1142012 1059531 1090104 1090492 1155459 1068897 1157946 1081637 1095782 1075170 1144155 1139332 1146142 1111057 1159858 1069144 1154614 1081620 1141978 70145 70148 70149 1136189 1049147 1083352 266241 401408
$EGID = 1049089 1049089 578 545 4 66049 11 15 4095 66048 1104222 1150627 1098011 1051245 1113266 1156262 1089123 1139839 1090502 1141767 1081310 1090413 1061909 1058653 1081942 1122108 1125494 1137338 1137546 1088201 1143577 1151869 1090906 1093944 1122107 1051228 1057394 1141985 1159857 1068783 1154883 1152922 1137881 1138202 1056539 1057337 1089132 1100278 1051354 1104220 1059243 1089865 1152821 1087957 1105777 1155862 1150082 1135663 1049649 1152548 1125495 1152552 1139179 1069945 1142012 1059531 1090104 1090492 1155459 1068897 1157946 1081637 1095782 1075170 1144155 1139332 1146142 1111057 1159858 1069144 1154614 1081620 1141978 70145 70148 70149 1136189 1049147 1083352 266241 401408
Perl module toolchain versions installed:
Module Have
------------------- --------
CPAN 2.36
CPAN::Meta 2.150010
Cwd 3.84
ExtUtils::CBuilder 0.280236
ExtUtils::Command 7.70
ExtUtils::Install 2.22
ExtUtils::MakeMaker 7.70
ExtUtils::Manifest 1.75
ExtUtils::ParseXS 3.51
File::Spec 3.84
JSON 4.10
JSON::PP 4.16
Module::Build 0.4234
Module::Signature 0.88
Parse::CPAN::Meta 2.150010
Test2 1.302196
Test::Harness 3.48
Test::More 1.302196
YAML 1.30
YAML::Syck 1.34
version 0.9930
--
Summary of my perl5 (revision 5 version 36 subversion 1) configuration:
Platform:
osname=cygwin
osvers=3.4.6-1.x86_64
archname=x86_64-cygwin-threads-multi
uname='cygwin_nt-10.0-22621 walter 3.4.6-1.x86_64 2023-02-14 13:23 utc x86_64 cygwin '
config_args='-des -Dprefix=/usr -Dmksymlinks -Darchname=x86_64-cygwin-threads -Dlibperl=cygperl5_36.dll -Dcc=gcc -Dld=g++ -Accflags=-ggdb -O2 -pipe -Wall -Werror=format-security -D_FORTIFY_SOURCE=2 -fstack-protector-strong --param=ssp-buffer-size=4 -fdebug-prefix-map=/mnt/share/cygpkgs/perl/perl.x86_64/build=/usr/src/debug/perl-5.36.1-1 -fdebug-prefix-map=/mnt/share/cygpkgs/perl/perl.x86_64/src/perl-5.36.1=/usr/src/debug/perl-5.36.1-1 -fwrapv'
hint=recommended
useposix=true
d_sigaction=define
useithreads=define
usemultiplicity=define
use64bitint=define
use64bitall=define
uselongdouble=undef
usemymalloc=n
default_inc_excludes_dot=define
Compiler:
cc='gcc'
ccflags ='-DPERL_USE_SAFE_PUTENV -U__STRICT_ANSI__ -D_GNU_SOURCE -ggdb -O2 -pipe -Wall -Werror=format-security -D_FORTIFY_SOURCE=2 -fstack-protector-strong --param=ssp-buffer-size=4 -fdebug-prefix-map=/mnt/share/cygpkgs/perl/perl.x86_64/build=/usr/src/debug/perl-5.36.1-1 -fdebug-prefix-map=/mnt/share/cygpkgs/perl/perl.x86_64/src/perl-5.36.1=/usr/src/debug/perl-5.36.1-1 -fwrapv -fno-strict-aliasing'
optimize='-O3'
cppflags='-DPERL_USE_SAFE_PUTENV -U__STRICT_ANSI__ -D_GNU_SOURCE -ggdb -O2 -pipe -Wall -Werror=format-security -D_FORTIFY_SOURCE=2 -fstack-protector-strong --param=ssp-buffer-size=4 -fdebug-prefix-map=/mnt/share/cygpkgs/perl/perl.x86_64/build=/usr/src/debug/perl-5.36.1-1 -fdebug-prefix-map=/mnt/share/cygpkgs/perl/perl.x86_64/src/perl-5.36.1=/usr/src/debug/perl-5.36.1-1 -fwrapv -fno-strict-aliasing'
ccversion=''
gccversion='11.3.1 20230310'
gccosandvers=''
intsize=4
longsize=8
ptrsize=8
doublesize=8
byteorder=12345678
doublekind=3
d_longlong=define
longlongsize=8
d_longdbl=define
longdblsize=16
longdblkind=3
ivtype='long'
ivsize=8
nvtype='double'
nvsize=8
Off_t='off_t'
lseeksize=8
alignbytes=8
prototype=define
Linker and Libraries:
ld='g++'
ldflags =' -Wl,--enable-auto-import -Wl,--export-all-symbols -Wl,--enable-auto-image-base -fstack-protector-strong'
libpth=/usr/lib
libs=-lpthread -lnsl -lgdbm -ldb -ldl -lcrypt -lgdbm_compat
perllibs=-lpthread -lnsl -ldl -lcrypt
libc=/usr/lib/libcygwin.a
so=dll
useshrplib=true
libperl=cygperl5_36.dll
gnulibc_version=''
Dynamic Linking:
dlsrc=dl_dlopen.xs
dlext=dll
d_dlsymun=undef
ccdlflags=' '
cccdlflags=' '
lddlflags=' --shared -Wl,--enable-auto-import -Wl,--export-all-symbols -Wl,--enable-auto-image-base -fstack-protector-strong'
Characteristics of this binary (from libperl):
Compile-time options:
HAS_TIMES
MULTIPLICITY
PERLIO_LAYERS
PERL_COPY_ON_WRITE
PERL_DONT_CREATE_GVSV
PERL_OP_PARENT
PERL_PRESERVE_IVUV
PERL_USE_SAFE_PUTENV
USE_64_BIT_ALL
USE_64_BIT_INT
USE_ITHREADS
USE_LARGE_FILES
USE_LOCALE
USE_LOCALE_COLLATE
USE_LOCALE_CTYPE
USE_LOCALE_NUMERIC
USE_LOCALE_TIME
USE_PERLIO
USE_PERL_ATOF
USE_REENTRANT_API
USE_THREAD_SAFE_LOCALE
Locally applied patches:
Cygwin: README
Cygwin: use auto-image-base instead of fixed DLL base address
Cygwin: modify hints
Cygwin: Configure correct libsearch
Cygwin: Configure correct libpth
Cygwin: Win32 correct UTF8 handling
Built under cygwin
Compiled at May 2 2023 20:12:20
%ENV:
PERL5LIB="/src/perl/.cpan/build/IO-Pipely-0.006-0/blib/arch:/src/perl/.cpan/build/IO-Pipely-0.006-0/blib/lib:/src/perl/.cpan/build/POE-Test-Loops-1.360-0/blib/arch:/src/perl/.cpan/build/POE-Test-Loops-1.360-0/blib/lib:/usr/local/lib/perl5/site_perl/5.36:/usr/local/lib/perl5/site_perl/5.36/x86_64-cygwin-threads-multi:/usr/local/lib/perl5/site_perl:/usr/local/lib/perl5/vendor_perl/5.36:/usr/local/lib/perl5/vendor_perl/5.36/x86_64-cygwin-threads-multi:/usr/local/lib/perl5/vendor_perl:/usr/local/lib/perl5/5.36:/usr/local/lib/perl5/5.36/x86_64-cygwin-threads-multi:/usr/local/lib/perl5:/usr/local/share/perl5/site_perl/5.36:/usr/local/share/perl5/site_perl/5.36/x86_64-cygwin-threads-multi:/usr/local/share/perl5/site_perl:/usr/local/share/perl5/vendor_perl/5.36:/usr/local/share/perl5/vendor_perl/5.36/x86_64-cygwin-threads-multi:/usr/local/share/perl5/vendor_perl:/usr/local/share/perl5/5.36:/usr/local/share/perl5/5.36/x86_64-cygwin-threads-multi:/usr/local/share/perl5"
PERL5OPT=""
PERL5_CPANPLUS_IS_RUNNING="4378"
PERL5_CPAN_IS_RUNNING="4378"
PERL_CANARY_STABILITY_NOPROMPT="1"
PERL_CPAN_REPORTER_CONFIG="/cygdrive/c/home/peter/.cpanreporter/config-cygwin-AR-A01-L0042.ini"
PERL_MB_OPT="--install_base /usr/local"
PERL_MM_OPT="INSTALL_BASE=/usr/local"
PERL_USE_UNSAFE_INC="1"
@INC:
/src/perl/.cpan/build/IO-Pipely-0.006-0/blib/arch
/src/perl/.cpan/build/IO-Pipely-0.006-0/blib/lib
/src/perl/.cpan/build/POE-Test-Loops-1.360-0/blib/arch
/src/perl/.cpan/build/POE-Test-Loops-1.360-0/blib/lib
/usr/local/lib/perl5/site_perl/5.36
/usr/local/lib/perl5/site_perl/5.36/x86_64-cygwin-threads-multi
/usr/local/lib/perl5/site_perl
/usr/local/lib/perl5/vendor_perl/5.36
/usr/local/lib/perl5/vendor_perl/5.36/x86_64-cygwin-threads-multi
/usr/local/lib/perl5/vendor_perl
/usr/local/lib/perl5/5.36
/usr/local/lib/perl5/5.36/x86_64-cygwin-threads-multi
/usr/local/lib/perl5/x86_64-cygwin-threads-multi
/usr/local/lib/perl5
/usr/local/share/perl5/site_perl/5.36
/usr/local/share/perl5/site_perl/5.36/x86_64-cygwin-threads-multi
/usr/local/share/perl5/site_perl
/usr/local/share/perl5/vendor_perl/5.36
/usr/local/share/perl5/vendor_perl/5.36/x86_64-cygwin-threads-multi
/usr/local/share/perl5/vendor_perl
/usr/local/share/perl5/5.36
/usr/local/share/perl5/5.36/x86_64-cygwin-threads-multi
/usr/local/share/perl5
/usr/local/lib/perl5/site_perl/5.36/x86_64-cygwin-threads
/usr/local/share/perl5/site_perl/5.36
/usr/lib/perl5/vendor_perl/5.36/x86_64-cygwin-threads
/usr/share/perl5/vendor_perl/5.36
/usr/lib/perl5/5.36/x86_64-cygwin-threads
/usr/share/perl5/5.36
.