Report for Mojolicious-Plugin-TemplatePerlish-0.002

Back
From: metabase:user:314402c4-2aae-11df-837a-5e0a49663a4f
Subject: PASS Mojolicious-Plugin-TemplatePerlish-0.002 v5.14.4 FreeBSD
Date: 2016-05-20T00:49:09Z

This distribution has been tested as part of the CPAN Testers
project, supporting the Perl programming language.  See
http://wiki.cpantesters.org/ for more information or email
questions to cpan-testers-discuss@perl.org


--
Dear Flavio Poletti,

This is a computer-generated report for Mojolicious-Plugin-TemplatePerlish-0.002
on perl 5.14.4, created by CPAN-Reporter-1.2015.

Thank you for uploading your work to CPAN.  Congratulations!
All tests were successful.

Sections of this report:

    * Tester comments
    * Program output
    * Prerequisites
    * Environment and other context

------------------------------
TESTER COMMENTS
------------------------------

Additional comments from tester:

none provided

------------------------------
PROGRAM OUTPUT
------------------------------

Output from './Build test':

# Testing Mojolicious::Plugin::TemplatePerlish 0.002 against /usr/perl5.14.4/bin/perl
t/00-load.t .............. ok
This perl may crash while using this module. See `WARNING' section in the documentation at /usr/perl5.14.4/lib/site_perl/5.14.4/amd64-freebsd/Net/DNS/Native.pm line 12, <DATA> line 2125.
t/01.lite_app.t .......... ok
This perl may crash while using this module. See `WARNING' section in the documentation at /usr/perl5.14.4/lib/site_perl/5.14.4/amd64-freebsd/Net/DNS/Native.pm line 12, <DATA> line 2125.
t/02.renderer.t .......... ok
t/author-pod-coverage.t .. skipped: these tests are for testing by the author
t/author-pod-syntax.t .... skipped: these tests are for testing by the author
t/release-pod-version.t .. skipped: these tests are for release candidate testing
All tests successful.
Files=6, Tests=19,  6 wallclock secs ( 0.13 usr  0.08 sys +  4.58 cusr  1.05 csys =  5.84 CPU)
Result: PASS

------------------------------
PREREQUISITES
------------------------------

Prerequisite modules loaded:

requires:

    Module              Need  Have 
    ------------------- ----- -----
    Mojolicious         6.0   6.62 
    Template::Perlish   1.52  1.52 

build_requires:

    Module              Need  Have 
    ------------------- ----- -----
    Path::Tiny          0.084 0.090

configure_requires:

    Module              Need  Have 
    ------------------- ----- -----
    Module::Build::Tiny 0.034 0.039


------------------------------
ENVIRONMENT AND OTHER CONTEXT
------------------------------

Environment variables:

    LC_ALL = de_DE.ISO8859-1
    PATH = /usr/local/bin:/usr/bin:/bin:/usr/local/sbin:/usr/sbin:/sbin:/home/cpansand/bin/freebsd9.3:/home/cpansand/bin/sh:/home/cpansand/bin:/usr/games:/home/cpansand/devel:/usr/home/eserte/src/srezic-misc/scripts
    PERL5LIB = /home/eserte/.cpan/build/2016052000/WWW-SourceForge-0.73-0dLYL5/blib/arch:/home/eserte/.cpan/build/2016052000/WWW-SourceForge-0.73-0dLYL5/blib/lib:/home/eserte/.cpan/build/2016052000/LWP-Authen-OAuth-1.02-EnEM4j/blib/arch:/home/eserte/.cpan/build/2016052000/LWP-Authen-OAuth-1.02-EnEM4j/blib/lib:/home/eserte/.cpan/build/2016052000/Script-Toolbox-0.50-Kle9rT/blib/arch:/home/eserte/.cpan/build/2016052000/Script-Toolbox-0.50-Kle9rT/blib/lib:/home/eserte/.cpan/build/2016052000/Net-SSH2-0.59_23-A6av6k/blib/arch:/home/eserte/.cpan/build/2016052000/Net-SSH2-0.59_23-A6av6k/blib/lib:/home/eserte/.cpan/build/2016052000/Gearman-1.12.006-oYuv1_/blib/arch:/home/eserte/.cpan/build/2016052000/Gearman-1.12.006-oYuv1_/blib/lib
    PERL5OPT = 
    PERL5_CPANPLUS_IS_RUNNING = 47113
    PERL5_CPAN_IS_RUNNING = 47113
    PERL5_CPAN_IS_RUNNING_IN_RECURSION = 47061,47113
    PERLDOC = -MPod::Perldoc::ToTextOverstrike
    PERL_BATCH = yes
    PERL_CANARY_STABILITY_NOPROMPT = 1
    PERL_CPAN_REPORTER_CONFIG = /var/tmp/cpansmoker-1023/2016052000/cpanreporter_000_config.ini
    PERL_EXTUTILS_AUTOINSTALL = --defaultdeps
    SHELL = /usr/local/bin/zsh
    TERM = screen
    TMPDIR = /var/tmp/cpansmoker-1023/2016052000

Perl special variables (and OS-specific diagnostics, for MSWin32):

    $^X = /usr/perl5.14.4/bin/perl
    $UID/$EUID = 1023 / 1023
    $GID = 1023 1023
    $EGID = 1023 1023

Perl module toolchain versions installed:

    Module              Have    
    ------------------- --------
    CPAN                2.10    
    CPAN::Meta          2.150005
    Cwd                 3.62    
    ExtUtils::CBuilder  0.280224
    ExtUtils::Command   7.16    
    ExtUtils::Install   2.04    
    ExtUtils::MakeMaker 7.16    
    ExtUtils::Manifest  1.70    
    ExtUtils::ParseXS   3.30    
    File::Spec          3.62    
    JSON                2.90    
    JSON::PP            2.27300 
    Module::Build       0.4218  
    Module::Signature   0.79    
    Parse::CPAN::Meta   1.4414  
    Test::Harness       3.36    
    Test::More          1.302019
    YAML                1.15    
    YAML::Syck          1.29    
    version             0.9916  


--

Summary of my perl5 (revision 5 version 14 subversion 4) configuration:
   
  Platform:
    osname=freebsd, osvers=9.2-release-p4, archname=amd64-freebsd
    uname='freebsd cvrsnica-freebsd-92 9.2-release-p4 freebsd 9.2-release-p4 #0: tue apr 8 18:08:22 utc 2014 root@amd64-builder.daemonology.net:usrobjusrsrcsysgeneric amd64 '
    config_args='-ds -e -Dprefix=/usr/perl5.14.4'
    hint=recommended, useposix=true, d_sigaction=define
    useithreads=undef, usemultiplicity=undef
    useperlio=define, d_sfio=undef, uselargefiles=define, usesocks=undef
    use64bitint=define, use64bitall=define, uselongdouble=undef
    usemymalloc=n, bincompat5005=undef
  Compiler:
    cc='cc', ccflags ='-DHAS_FPSETMASK -DHAS_FLOATINGPOINT_H -fno-strict-aliasing -pipe -fstack-protector -I/usr/local/include',
    optimize='-O',
    cppflags='-DHAS_FPSETMASK -DHAS_FLOATINGPOINT_H -fno-strict-aliasing -pipe -fstack-protector -I/usr/local/include'
    ccversion='', gccversion='4.2.1 20070831 patched [FreeBSD]', gccosandvers=''
    intsize=4, longsize=8, ptrsize=8, doublesize=8, byteorder=12345678
    d_longlong=define, longlongsize=8, d_longdbl=define, longdblsize=16
    ivtype='long', ivsize=8, nvtype='double', nvsize=8, Off_t='off_t', lseeksize=8
    alignbytes=8, prototype=define
  Linker and Libraries:
    ld='cc', ldflags ='-Wl,-E  -fstack-protector -L/usr/local/lib'
    libpth=/usr/lib /usr/local/lib
    libs=-lgdbm -lm -lcrypt -lutil -lc
    perllibs=-lm -lcrypt -lutil -lc
    libc=, so=so, useshrplib=false, libperl=libperl.a
    gnulibc_version=''
  Dynamic Linking:
    dlsrc=dl_dlopen.xs, dlext=so, d_dlsymun=undef, ccdlflags=' '
    cccdlflags='-DPIC -fPIC', lddlflags='-shared  -L/usr/local/lib -fstack-protector'


Characteristics of this binary (from libperl): 
  Compile-time options: PERL_DONT_CREATE_GVSV PERL_MALLOC_WRAP
                        PERL_PRESERVE_IVUV USE_64_BIT_ALL USE_64_BIT_INT
                        USE_LARGE_FILES USE_PERLIO USE_PERL_ATOF
  Built under freebsd
  Compiled at May 16 2014 00:20:44
  %ENV:
    PERL5LIB="/home/eserte/.cpan/build/2016052000/WWW-SourceForge-0.73-0dLYL5/blib/arch:/home/eserte/.cpan/build/2016052000/WWW-SourceForge-0.73-0dLYL5/blib/lib:/home/eserte/.cpan/build/2016052000/LWP-Authen-OAuth-1.02-EnEM4j/blib/arch:/home/eserte/.cpan/build/2016052000/LWP-Authen-OAuth-1.02-EnEM4j/blib/lib:/home/eserte/.cpan/build/2016052000/Script-Toolbox-0.50-Kle9rT/blib/arch:/home/eserte/.cpan/build/2016052000/Script-Toolbox-0.50-Kle9rT/blib/lib:/home/eserte/.cpan/build/2016052000/Net-SSH2-0.59_23-A6av6k/blib/arch:/home/eserte/.cpan/build/2016052000/Net-SSH2-0.59_23-A6av6k/blib/lib:/home/eserte/.cpan/build/2016052000/Gearman-1.12.006-oYuv1_/blib/arch:/home/eserte/.cpan/build/2016052000/Gearman-1.12.006-oYuv1_/blib/lib"
    PERL5OPT=""
    PERL5_CPANPLUS_IS_RUNNING="47113"
    PERL5_CPAN_IS_RUNNING="47113"
    PERL5_CPAN_IS_RUNNING_IN_RECURSION="47061,47113"
    PERLDOC="-MPod::Perldoc::ToTextOverstrike"
    PERL_BATCH="yes"
    PERL_CANARY_STABILITY_NOPROMPT="1"
    PERL_CPAN_REPORTER_CONFIG="/var/tmp/cpansmoker-1023/2016052000/cpanreporter_000_config.ini"
    PERL_EXTUTILS_AUTOINSTALL="--defaultdeps"
  @INC:
    /home/eserte/.cpan/build/2016052000/WWW-SourceForge-0.73-0dLYL5/blib/arch
    /home/eserte/.cpan/build/2016052000/WWW-SourceForge-0.73-0dLYL5/blib/lib
    /home/eserte/.cpan/build/2016052000/LWP-Authen-OAuth-1.02-EnEM4j/blib/arch
    /home/eserte/.cpan/build/2016052000/LWP-Authen-OAuth-1.02-EnEM4j/blib/lib
    /home/eserte/.cpan/build/2016052000/Script-Toolbox-0.50-Kle9rT/blib/arch
    /home/eserte/.cpan/build/2016052000/Script-Toolbox-0.50-Kle9rT/blib/lib
    /home/eserte/.cpan/build/2016052000/Net-SSH2-0.59_23-A6av6k/blib/arch
    /home/eserte/.cpan/build/2016052000/Net-SSH2-0.59_23-A6av6k/blib/lib
    /home/eserte/.cpan/build/2016052000/Gearman-1.12.006-oYuv1_/blib/arch
    /home/eserte/.cpan/build/2016052000/Gearman-1.12.006-oYuv1_/blib/lib
    /usr/perl5.14.4/lib/site_perl/5.14.4/amd64-freebsd
    /usr/perl5.14.4/lib/site_perl/5.14.4
    /usr/perl5.14.4/lib/5.14.4/amd64-freebsd
    /usr/perl5.14.4/lib/5.14.4
    .