Report for Weather-OpenWeatherMap-0.002002

Back
From: metabase:user:314402c4-2aae-11df-837a-5e0a49663a4f
Subject: PASS Weather-OpenWeatherMap-0.002002 v5.18.2 FreeBSD
Date: 2014-05-17T17:28:29Z

This distribution has been tested as part of the CPAN Testers
project, supporting the Perl programming language.  See
http://wiki.cpantesters.org/ for more information or email
questions to cpan-testers-discuss@perl.org


--
Dear Jon Portnoy,

This is a computer-generated report for Weather-OpenWeatherMap-0.002002
on perl 5.18.2, created by CPAN-Reporter-1.2011.

Thank you for uploading your work to CPAN.  Congratulations!
All tests were successful.

Sections of this report:

    * Tester comments
    * Program output
    * Prerequisites
    * Environment and other context

------------------------------
TESTER COMMENTS
------------------------------

Additional comments from tester:

none provided

------------------------------
PROGRAM OUTPUT
------------------------------

Output from '/usr/bin/make test':

Skip blib/lib/auto/share/dist/Weather-OpenWeatherMap/3day.json (unchanged)
Skip blib/lib/auto/share/dist/Weather-OpenWeatherMap/current.json (unchanged)
Skip blib/lib/auto/share/dist/Weather-OpenWeatherMap/failure.json (unchanged)
Skip blib/lib/auto/share/dist/Weather-OpenWeatherMap/find.json (unchanged)
PERL_DL_NONLAZY=1 /usr/perl5.18.2/bin/perl5.18.2 "-MExtUtils::Command::MM" "-MTest::Harness" "-e" "undef *Test::Harness::Switches; test_harness(0, 'blib/lib', 'blib/arch')" t/*.t t/request/*.t t/result/*.t
# 
# Versions for all modules listed in MYMETA.json (including optional ones):
#    Version Module                  
#   -------- ------------------------
#   2.141170 CPAN::Meta              
#      2.125 CPAN::Meta::Requirements
#     1.3301 Carp                    
#       5.90 Digest::SHA             
#      0.038 Exporter::Tiny          
#       6.98 ExtUtils::MakeMaker     
#      1.102 File::ShareDir          
#       0.08 File::ShareDir::Install 
#       6.00 HTTP::Request           
#   1.002002 JSON::MaybeXS           
#       6.06 LWP::UserAgent          
#   1.002002 List::Objects::Types    
#   2.010002 List::Objects::WithUtils
#      0.014 Module::Runtime         
#   1.004002 Moo                     
#      0.014 MooX::late              
#      0.054 Path::Tiny              
#      1.002 Test::Roo               
#   0.200011 Throwable               
#       0.22 Try::Tiny               
#      0.001 Types::DateTime         
#      0.005 Types::Path::Tiny       
#      0.042 Types::Standard         
#       3.31 URI::Escape             
#       0.24 namespace::clean        
#   1.005004 strictures              
t/00-report-prereqs.t ...... ok
        # Sleeping 1 second
        # Sleeping 1 second
t/cache.t .................. ok
t/error.t .................. ok
t/openweathermap.t ......... ok
t/release-cpan-changes.t ... skipped: these tests are for release candidate testing
t/release-dist-manifest.t .. skipped: these tests are for release candidate testing
t/release-no-tabs.t ........ skipped: these tests are for release candidate testing
t/release-pod-coverage.t ... skipped: these tests are for release candidate testing
t/release-pod-linkcheck.t .. skipped: these tests are for release candidate testing
t/release-pod-syntax.t ..... skipped: these tests are for release candidate testing
t/release-synopsis.t ....... skipped: these tests are for release candidate testing
t/release-unused-vars.t .... skipped: these tests are for release candidate testing
t/request/current.t ........ ok
t/request/find.t ........... ok
t/request/forecast.t ....... ok
t/result/current.t ......... ok
t/result/find.t ............ ok
t/result/forecast.t ........ ok
t/units.t .................. ok
All tests successful.
Files=19, Tests=15, 17 wallclock secs ( 0.32 usr  0.15 sys + 10.04 cusr  2.34 csys = 12.84 CPU)
Result: PASS

------------------------------
PREREQUISITES
------------------------------

Prerequisite modules loaded:

requires:

    Module                   Need     Have    
    ------------------------ -------- --------
    Carp                     0        1.3301  
    Digest::SHA              0        5.90    
    Exporter::Tiny           0        0.038   
    File::ShareDir           0        1.102   
    HTTP::Request            0        6.00    
    JSON::MaybeXS            0        1.002002
    List::Objects::Types     1        1.002002
    List::Objects::WithUtils 2.010002 2.010002
    LWP::UserAgent           0        6.06    
    Module::Runtime          0        0.014   
    Moo                      1        1.004002
    MooX::late               0.014    0.014   
    namespace::clean         0        0.24    
    Path::Tiny               0.05     0.054   
    strictures               1        1.005004
    Throwable                0.2      0.200011
    Try::Tiny                0        0.22    
    Types::DateTime          0        0.001   
    Types::Path::Tiny        0.005    0.005   
    Types::Standard          0        0.042   
    URI::Escape              0        3.31    

build_requires:

    Module                   Need     Have    
    ------------------------ -------- --------
    Test::Roo                1        1.002   

configure_requires:

    Module                   Need     Have    
    ------------------------ -------- --------
    ExtUtils::MakeMaker      6.30     6.98    
    File::ShareDir::Install  0.03     0.08    


------------------------------
ENVIRONMENT AND OTHER CONTEXT
------------------------------

Environment variables:

    DBIC_NO_WARN_BAD_PERL = 1
    LC_ALL = de_DE.ISO8859-1
    PATH = /usr/local/bin:/usr/bin:/bin:/usr/local/sbin:/usr/sbin:/sbin:/home/cpansand/bin/freebsd10.0:/home/cpansand/bin/sh:/home/cpansand/bin:/usr/games:/home/cpansand/devel:/home/eserte/src/srezic-misc/scripts
    PERL5LIB = /home/cpansand/.cpan/build/Validate-SPF-0.001-eWM5A_/blib/arch:/home/cpansand/.cpan/build/Validate-SPF-0.001-eWM5A_/blib/lib:/home/cpansand/.cpan/build/Unix-Passwd-File-0.12-gQloai/blib/arch:/home/cpansand/.cpan/build/Unix-Passwd-File-0.12-gQloai/blib/lib:/home/cpansand/.cpan/build/HTML-Tree-5.908-1oWMtz/blib/arch:/home/cpansand/.cpan/build/HTML-Tree-5.908-1oWMtz/blib/lib
    PERL5OPT = 
    PERL5_CPANPLUS_IS_RUNNING = 68234
    PERL5_CPAN_IS_RUNNING = 68234
    PERL5_CPAN_IS_RUNNING_IN_RECURSION = 68212,68234
    PERLDOC = -MPod::Perldoc::ToTextOverstrike
    PERL_BATCH = yes
    PERL_CPAN_REPORTER_CONFIG = /var/tmp/cpansmoker-1023/fof6A6NGmg_config.ini
    PERL_EXTUTILS_AUTOINSTALL = --defaultdeps
    PERL_HTML_DISPLAY_CLASS = HTML::Display::Mozilla
    SHELL = /usr/local/bin/zsh
    TERM = screen
    TMPDIR = /var/tmp/cpansmoker-1023

Perl special variables (and OS-specific diagnostics, for MSWin32):

    $^X = /usr/perl5.18.2/bin/perl5.18.2
    $UID/$EUID = 1023 / 1023
    $GID = 1023 1023
    $EGID = 1023 1023

Perl module toolchain versions installed:

    Module              Have    
    ------------------- --------
    CPAN                2.05    
    CPAN::Meta          2.141170
    Cwd                 3.40    
    ExtUtils::CBuilder  0.280216
    ExtUtils::Command   1.17    
    ExtUtils::Install   1.67    
    ExtUtils::MakeMaker 6.98    
    ExtUtils::Manifest  1.63    
    ExtUtils::ParseXS   3.24    
    File::Spec          3.40    
    JSON                2.90    
    JSON::PP            2.27203 
    Module::Build       0.4205  
    Module::Signature   0.73    
    Parse::CPAN::Meta   1.4414  
    Test::Harness       3.30    
    Test::More          1.001003
    YAML                0.90    
    YAML::Syck          1.27    
    version             0.9908  


--

Summary of my perl5 (revision 5 version 18 subversion 2) configuration:
   
  Platform:
    osname=freebsd, osvers=10.0-release, archname=amd64-freebsd
    uname='freebsd cvrsnica-freebsd-10-64bit.herceg.de 10.0-release freebsd 10.0-release #0 r260789: thu jan 16 22:34:59 utc 2014 root@snap.freebsd.org:usrobjusrsrcsysgeneric amd64 '
    config_args='-ds -e -Dprefix=/usr/perl5.18.2'
    hint=recommended, useposix=true, d_sigaction=define
    useithreads=undef, usemultiplicity=undef
    useperlio=define, d_sfio=undef, uselargefiles=define, usesocks=undef
    use64bitint=define, use64bitall=define, uselongdouble=undef
    usemymalloc=n, bincompat5005=undef
  Compiler:
    cc='cc', ccflags ='-DHAS_FPSETMASK -DHAS_FLOATINGPOINT_H -fno-strict-aliasing -pipe -fstack-protector -I/usr/local/include',
    optimize='-O',
    cppflags='-DHAS_FPSETMASK -DHAS_FLOATINGPOINT_H -fno-strict-aliasing -pipe -fstack-protector -I/usr/local/include'
    ccversion='', gccversion='4.2.1 Compatible FreeBSD Clang 3.3 (tags/RELEASE_33/final 183502)', gccosandvers=''
    intsize=4, longsize=8, ptrsize=8, doublesize=8, byteorder=12345678
    d_longlong=define, longlongsize=8, d_longdbl=define, longdblsize=16
    ivtype='long', ivsize=8, nvtype='double', nvsize=8, Off_t='off_t', lseeksize=8
    alignbytes=8, prototype=define
  Linker and Libraries:
    ld='cc', ldflags ='-Wl,-E  -fstack-protector -L/usr/local/lib'
    libpth=/usr/lib /usr/local/lib
    libs=-lgdbm -lm -lcrypt -lutil -lc
    perllibs=-lm -lcrypt -lutil -lc
    libc=, so=so, useshrplib=false, libperl=libperl.a
    gnulibc_version=''
  Dynamic Linking:
    dlsrc=dl_dlopen.xs, dlext=so, d_dlsymun=undef, ccdlflags=' '
    cccdlflags='-DPIC -fPIC', lddlflags='-shared  -L/usr/local/lib -fstack-protector'


Characteristics of this binary (from libperl): 
  Compile-time options: HAS_TIMES PERLIO_LAYERS PERL_DONT_CREATE_GVSV
                        PERL_HASH_FUNC_ONE_AT_A_TIME_HARD PERL_MALLOC_WRAP
                        PERL_PRESERVE_IVUV PERL_SAWAMPERSAND USE_64_BIT_ALL
                        USE_64_BIT_INT USE_LARGE_FILES USE_LOCALE
                        USE_LOCALE_COLLATE USE_LOCALE_CTYPE
                        USE_LOCALE_NUMERIC USE_PERLIO USE_PERL_ATOF
  Built under freebsd
  Compiled at Feb 16 2014 21:09:14
  %ENV:
    PERL5LIB="/home/cpansand/.cpan/build/Validate-SPF-0.001-eWM5A_/blib/arch:/home/cpansand/.cpan/build/Validate-SPF-0.001-eWM5A_/blib/lib:/home/cpansand/.cpan/build/Unix-Passwd-File-0.12-gQloai/blib/arch:/home/cpansand/.cpan/build/Unix-Passwd-File-0.12-gQloai/blib/lib:/home/cpansand/.cpan/build/HTML-Tree-5.908-1oWMtz/blib/arch:/home/cpansand/.cpan/build/HTML-Tree-5.908-1oWMtz/blib/lib"
    PERL5OPT=""
    PERL5_CPANPLUS_IS_RUNNING="68234"
    PERL5_CPAN_IS_RUNNING="68234"
    PERL5_CPAN_IS_RUNNING_IN_RECURSION="68212,68234"
    PERLDOC="-MPod::Perldoc::ToTextOverstrike"
    PERL_BATCH="yes"
    PERL_CPAN_REPORTER_CONFIG="/var/tmp/cpansmoker-1023/fof6A6NGmg_config.ini"
    PERL_EXTUTILS_AUTOINSTALL="--defaultdeps"
    PERL_HTML_DISPLAY_CLASS="HTML::Display::Mozilla"
  @INC:
    /home/cpansand/.cpan/build/Validate-SPF-0.001-eWM5A_/blib/arch
    /home/cpansand/.cpan/build/Validate-SPF-0.001-eWM5A_/blib/lib
    /home/cpansand/.cpan/build/Unix-Passwd-File-0.12-gQloai/blib/arch
    /home/cpansand/.cpan/build/Unix-Passwd-File-0.12-gQloai/blib/lib
    /home/cpansand/.cpan/build/HTML-Tree-5.908-1oWMtz/blib/arch
    /home/cpansand/.cpan/build/HTML-Tree-5.908-1oWMtz/blib/lib
    /usr/perl5.18.2/lib/site_perl/5.18.2/amd64-freebsd
    /usr/perl5.18.2/lib/site_perl/5.18.2
    /usr/perl5.18.2/lib/5.18.2/amd64-freebsd
    /usr/perl5.18.2/lib/5.18.2
    .