CPP-panda-lib v1.3.5 Perl 5 v5.18.4 x86_64-linux-thread-multi
- Status
- Pass
- From
- David Cantrell (DCANTRELL)
- Dist
-
CPP-panda-lib v1.3.5
- Platform
- Perl 5 v5.18.4 x86_64-linux-thread-multi
- Date
- 2020-01-22 21:32:17
- ID
- a9a2a04a-3d5e-11ea-bce4-f978052d0de1
This distribution has been tested as part of the CPAN Testers
project, supporting the Perl programming language. See
http://wiki.cpantesters.org/ for more information or email
questions to cpan-testers-discuss@perl.org
--
Dear Oleg Pronin,
This is a computer-generated report for CPP-panda-lib-1.3.5
on perl 5.18.4, created by CPAN-Reporter-1.2018.
Thank you for uploading your work to CPAN. Congratulations!
All tests were successful.
Sections of this report:
* Tester comments
* Program output
* Prerequisites
* Environment and other context
------------------------------
TESTER COMMENTS
------------------------------
Additional comments from tester:
this report is from an automated smoke testing program
and was not reviewed by a human for accuracy
------------------------------
PROGRAM OUTPUT
------------------------------
Output from '/usr/bin/make test':
"/home/david/cpantesting/perl-5.18.4/bin/perl" -MExtUtils::Command::MM -e 'cp_nonempty' -- lib.bs blib/arch/auto/CPP/panda/lib/lib.bs 644
c++ -c -Isrc -I/home/david/cpantesting/perl-5.18.4/lib/site_perl/5.18.4/XS/Install.x/i -I/home/david/cpantesting/perl-5.18.4/lib/site_perl/5.18.4/CPP/catch.x/i -D_REENTRANT -D_GNU_SOURCE -fno-strict-aliasing -pipe -fstack-protector -I/usr/local/include -D_LARGEFILE_SOURCE -D_FILE_OFFSET_BITS=64 -fwrapv -fwrapv -Wall -Wextra -std=c++14 -Wno-reserved-user-defined-literal -Wno-literal-suffix -Wno-unknown-warning-option -o t/bench.o -O0 -DVERSION=\"0.0.0\" -DXS_VERSION=\"0.0.0\" -fPIC "-I/home/david/cpantesting/perl-5.18.4/lib/5.18.4/x86_64-linux-thread-multi/CORE" t/bench.cc
c++ -c -Isrc -I/home/david/cpantesting/perl-5.18.4/lib/site_perl/5.18.4/XS/Install.x/i -I/home/david/cpantesting/perl-5.18.4/lib/site_perl/5.18.4/CPP/catch.x/i -D_REENTRANT -D_GNU_SOURCE -fno-strict-aliasing -pipe -fstack-protector -I/usr/local/include -D_LARGEFILE_SOURCE -D_FILE_OFFSET_BITS=64 -fwrapv -fwrapv -Wall -Wextra -std=c++14 -Wno-reserved-user-defined-literal -Wno-literal-suffix -Wno-unknown-warning-option -o t/dispatcher.o -O0 -DVERSION=\"0.0.0\" -DXS_VERSION=\"0.0.0\" -fPIC "-I/home/david/cpantesting/perl-5.18.4/lib/5.18.4/x86_64-linux-thread-multi/CORE" t/dispatcher.cc
c++ -c -Isrc -I/home/david/cpantesting/perl-5.18.4/lib/site_perl/5.18.4/XS/Install.x/i -I/home/david/cpantesting/perl-5.18.4/lib/site_perl/5.18.4/CPP/catch.x/i -D_REENTRANT -D_GNU_SOURCE -fno-strict-aliasing -pipe -fstack-protector -I/usr/local/include -D_LARGEFILE_SOURCE -D_FILE_OFFSET_BITS=64 -fwrapv -fwrapv -Wall -Wextra -std=c++14 -Wno-reserved-user-defined-literal -Wno-literal-suffix -Wno-unknown-warning-option -o t/endian.o -O0 -DVERSION=\"0.0.0\" -DXS_VERSION=\"0.0.0\" -fPIC "-I/home/david/cpantesting/perl-5.18.4/lib/5.18.4/x86_64-linux-thread-multi/CORE" t/endian.cc
c++ -c -Isrc -I/home/david/cpantesting/perl-5.18.4/lib/site_perl/5.18.4/XS/Install.x/i -I/home/david/cpantesting/perl-5.18.4/lib/site_perl/5.18.4/CPP/catch.x/i -D_REENTRANT -D_GNU_SOURCE -fno-strict-aliasing -pipe -fstack-protector -I/usr/local/include -D_LARGEFILE_SOURCE -D_FILE_OFFSET_BITS=64 -fwrapv -fwrapv -Wall -Wextra -std=c++14 -Wno-reserved-user-defined-literal -Wno-literal-suffix -Wno-unknown-warning-option -o t/error.o -O0 -DVERSION=\"0.0.0\" -DXS_VERSION=\"0.0.0\" -fPIC "-I/home/david/cpantesting/perl-5.18.4/lib/5.18.4/x86_64-linux-thread-multi/CORE" t/error.cc
c++ -c -Isrc -I/home/david/cpantesting/perl-5.18.4/lib/site_perl/5.18.4/XS/Install.x/i -I/home/david/cpantesting/perl-5.18.4/lib/site_perl/5.18.4/CPP/catch.x/i -D_REENTRANT -D_GNU_SOURCE -fno-strict-aliasing -pipe -fstack-protector -I/usr/local/include -D_LARGEFILE_SOURCE -D_FILE_OFFSET_BITS=64 -fwrapv -fwrapv -Wall -Wextra -std=c++14 -Wno-reserved-user-defined-literal -Wno-literal-suffix -Wno-unknown-warning-option -o t/excepted.o -O0 -DVERSION=\"0.0.0\" -DXS_VERSION=\"0.0.0\" -fPIC "-I/home/david/cpantesting/perl-5.18.4/lib/5.18.4/x86_64-linux-thread-multi/CORE" t/excepted.cc
c++ -c -Isrc -I/home/david/cpantesting/perl-5.18.4/lib/site_perl/5.18.4/XS/Install.x/i -I/home/david/cpantesting/perl-5.18.4/lib/site_perl/5.18.4/CPP/catch.x/i -D_REENTRANT -D_GNU_SOURCE -fno-strict-aliasing -pipe -fstack-protector -I/usr/local/include -D_LARGEFILE_SOURCE -D_FILE_OFFSET_BITS=64 -fwrapv -fwrapv -Wall -Wextra -std=c++14 -Wno-reserved-user-defined-literal -Wno-literal-suffix -Wno-unknown-warning-option -o t/exception.o -O0 -DVERSION=\"0.0.0\" -DXS_VERSION=\"0.0.0\" -fPIC "-I/home/david/cpantesting/perl-5.18.4/lib/5.18.4/x86_64-linux-thread-multi/CORE" t/exception.cc
c++ -c -Isrc -I/home/david/cpantesting/perl-5.18.4/lib/site_perl/5.18.4/XS/Install.x/i -I/home/david/cpantesting/perl-5.18.4/lib/site_perl/5.18.4/CPP/catch.x/i -D_REENTRANT -D_GNU_SOURCE -fno-strict-aliasing -pipe -fstack-protector -I/usr/local/include -D_LARGEFILE_SOURCE -D_FILE_OFFSET_BITS=64 -fwrapv -fwrapv -Wall -Wextra -std=c++14 -Wno-reserved-user-defined-literal -Wno-literal-suffix -Wno-unknown-warning-option -o t/from_chars.o -O0 -DVERSION=\"0.0.0\" -DXS_VERSION=\"0.0.0\" -fPIC "-I/home/david/cpantesting/perl-5.18.4/lib/5.18.4/x86_64-linux-thread-multi/CORE" t/from_chars.cc
c++ -c -Isrc -I/home/david/cpantesting/perl-5.18.4/lib/site_perl/5.18.4/XS/Install.x/i -I/home/david/cpantesting/perl-5.18.4/lib/site_perl/5.18.4/CPP/catch.x/i -D_REENTRANT -D_GNU_SOURCE -fno-strict-aliasing -pipe -fstack-protector -I/usr/local/include -D_LARGEFILE_SOURCE -D_FILE_OFFSET_BITS=64 -fwrapv -fwrapv -Wall -Wextra -std=c++14 -Wno-reserved-user-defined-literal -Wno-literal-suffix -Wno-unknown-warning-option -o t/function.o -O0 -DVERSION=\"0.0.0\" -DXS_VERSION=\"0.0.0\" -fPIC "-I/home/david/cpantesting/perl-5.18.4/lib/5.18.4/x86_64-linux-thread-multi/CORE" t/function.cc
c++ -c -Isrc -I/home/david/cpantesting/perl-5.18.4/lib/site_perl/5.18.4/XS/Install.x/i -I/home/david/cpantesting/perl-5.18.4/lib/site_perl/5.18.4/CPP/catch.x/i -D_REENTRANT -D_GNU_SOURCE -fno-strict-aliasing -pipe -fstack-protector -I/usr/local/include -D_LARGEFILE_SOURCE -D_FILE_OFFSET_BITS=64 -fwrapv -fwrapv -Wall -Wextra -std=c++14 -Wno-reserved-user-defined-literal -Wno-literal-suffix -Wno-unknown-warning-option -o t/intrusive_chain.o -O0 -DVERSION=\"0.0.0\" -DXS_VERSION=\"0.0.0\" -fPIC "-I/home/david/cpantesting/perl-5.18.4/lib/5.18.4/x86_64-linux-thread-multi/CORE" t/intrusive_chain.cc
c++ -c -Isrc -I/home/david/cpantesting/perl-5.18.4/lib/site_perl/5.18.4/XS/Install.x/i -I/home/david/cpantesting/perl-5.18.4/lib/site_perl/5.18.4/CPP/catch.x/i -D_REENTRANT -D_GNU_SOURCE -fno-strict-aliasing -pipe -fstack-protector -I/usr/local/include -D_LARGEFILE_SOURCE -D_FILE_OFFSET_BITS=64 -fwrapv -fwrapv -Wall -Wextra -std=c++14 -Wno-reserved-user-defined-literal -Wno-literal-suffix -Wno-unknown-warning-option -o t/iptr.o -O0 -DVERSION=\"0.0.0\" -DXS_VERSION=\"0.0.0\" -fPIC "-I/home/david/cpantesting/perl-5.18.4/lib/5.18.4/x86_64-linux-thread-multi/CORE" t/iptr.cc
c++ -c -Isrc -I/home/david/cpantesting/perl-5.18.4/lib/site_perl/5.18.4/XS/Install.x/i -I/home/david/cpantesting/perl-5.18.4/lib/site_perl/5.18.4/CPP/catch.x/i -D_REENTRANT -D_GNU_SOURCE -fno-strict-aliasing -pipe -fstack-protector -I/usr/local/include -D_LARGEFILE_SOURCE -D_FILE_OFFSET_BITS=64 -fwrapv -fwrapv -Wall -Wextra -std=c++14 -Wno-reserved-user-defined-literal -Wno-literal-suffix -Wno-unknown-warning-option -o t/owning_list.o -O0 -DVERSION=\"0.0.0\" -DXS_VERSION=\"0.0.0\" -fPIC "-I/home/david/cpantesting/perl-5.18.4/lib/5.18.4/x86_64-linux-thread-multi/CORE" t/owning_list.cc
c++ -c -Isrc -I/home/david/cpantesting/perl-5.18.4/lib/site_perl/5.18.4/XS/Install.x/i -I/home/david/cpantesting/perl-5.18.4/lib/site_perl/5.18.4/CPP/catch.x/i -D_REENTRANT -D_GNU_SOURCE -fno-strict-aliasing -pipe -fstack-protector -I/usr/local/include -D_LARGEFILE_SOURCE -D_FILE_OFFSET_BITS=64 -fwrapv -fwrapv -Wall -Wextra -std=c++14 -Wno-reserved-user-defined-literal -Wno-literal-suffix -Wno-unknown-warning-option -o t/string_char.o -O0 -DVERSION=\"0.0.0\" -DXS_VERSION=\"0.0.0\" -fPIC "-I/home/david/cpantesting/perl-5.18.4/lib/5.18.4/x86_64-linux-thread-multi/CORE" t/string_char.cc
c++ -c -Isrc -I/home/david/cpantesting/perl-5.18.4/lib/site_perl/5.18.4/XS/Install.x/i -I/home/david/cpantesting/perl-5.18.4/lib/site_perl/5.18.4/CPP/catch.x/i -D_REENTRANT -D_GNU_SOURCE -fno-strict-aliasing -pipe -fstack-protector -I/usr/local/include -D_LARGEFILE_SOURCE -D_FILE_OFFSET_BITS=64 -fwrapv -fwrapv -Wall -Wextra -std=c++14 -Wno-reserved-user-defined-literal -Wno-literal-suffix -Wno-unknown-warning-option -o t/string_char16.o -O0 -DVERSION=\"0.0.0\" -DXS_VERSION=\"0.0.0\" -fPIC "-I/home/david/cpantesting/perl-5.18.4/lib/5.18.4/x86_64-linux-thread-multi/CORE" t/string_char16.cc
c++ -c -Isrc -I/home/david/cpantesting/perl-5.18.4/lib/site_perl/5.18.4/XS/Install.x/i -I/home/david/cpantesting/perl-5.18.4/lib/site_perl/5.18.4/CPP/catch.x/i -D_REENTRANT -D_GNU_SOURCE -fno-strict-aliasing -pipe -fstack-protector -I/usr/local/include -D_LARGEFILE_SOURCE -D_FILE_OFFSET_BITS=64 -fwrapv -fwrapv -Wall -Wextra -std=c++14 -Wno-reserved-user-defined-literal -Wno-literal-suffix -Wno-unknown-warning-option -o t/string_char32.o -O0 -DVERSION=\"0.0.0\" -DXS_VERSION=\"0.0.0\" -fPIC "-I/home/david/cpantesting/perl-5.18.4/lib/5.18.4/x86_64-linux-thread-multi/CORE" t/string_char32.cc
c++ -c -Isrc -I/home/david/cpantesting/perl-5.18.4/lib/site_perl/5.18.4/XS/Install.x/i -I/home/david/cpantesting/perl-5.18.4/lib/site_perl/5.18.4/CPP/catch.x/i -D_REENTRANT -D_GNU_SOURCE -fno-strict-aliasing -pipe -fstack-protector -I/usr/local/include -D_LARGEFILE_SOURCE -D_FILE_OFFSET_BITS=64 -fwrapv -fwrapv -Wall -Wextra -std=c++14 -Wno-reserved-user-defined-literal -Wno-literal-suffix -Wno-unknown-warning-option -o t/string_containers.o -O0 -DVERSION=\"0.0.0\" -DXS_VERSION=\"0.0.0\" -fPIC "-I/home/david/cpantesting/perl-5.18.4/lib/5.18.4/x86_64-linux-thread-multi/CORE" t/string_containers.cc
c++ -c -Isrc -I/home/david/cpantesting/perl-5.18.4/lib/site_perl/5.18.4/XS/Install.x/i -I/home/david/cpantesting/perl-5.18.4/lib/site_perl/5.18.4/CPP/catch.x/i -D_REENTRANT -D_GNU_SOURCE -fno-strict-aliasing -pipe -fstack-protector -I/usr/local/include -D_LARGEFILE_SOURCE -D_FILE_OFFSET_BITS=64 -fwrapv -fwrapv -Wall -Wextra -std=c++14 -Wno-reserved-user-defined-literal -Wno-literal-suffix -Wno-unknown-warning-option -o t/string_wchar.o -O0 -DVERSION=\"0.0.0\" -DXS_VERSION=\"0.0.0\" -fPIC "-I/home/david/cpantesting/perl-5.18.4/lib/5.18.4/x86_64-linux-thread-multi/CORE" t/string_wchar.cc
c++ -c -Isrc -I/home/david/cpantesting/perl-5.18.4/lib/site_perl/5.18.4/XS/Install.x/i -I/home/david/cpantesting/perl-5.18.4/lib/site_perl/5.18.4/CPP/catch.x/i -D_REENTRANT -D_GNU_SOURCE -fno-strict-aliasing -pipe -fstack-protector -I/usr/local/include -D_LARGEFILE_SOURCE -D_FILE_OFFSET_BITS=64 -fwrapv -fwrapv -Wall -Wextra -std=c++14 -Wno-reserved-user-defined-literal -Wno-literal-suffix -Wno-unknown-warning-option -o t/test.o -O0 -DVERSION=\"0.0.0\" -DXS_VERSION=\"0.0.0\" -fPIC "-I/home/david/cpantesting/perl-5.18.4/lib/5.18.4/x86_64-linux-thread-multi/CORE" t/test.cc
c++ -c -Isrc -I/home/david/cpantesting/perl-5.18.4/lib/site_perl/5.18.4/XS/Install.x/i -I/home/david/cpantesting/perl-5.18.4/lib/site_perl/5.18.4/CPP/catch.x/i -D_REENTRANT -D_GNU_SOURCE -fno-strict-aliasing -pipe -fstack-protector -I/usr/local/include -D_LARGEFILE_SOURCE -D_FILE_OFFSET_BITS=64 -fwrapv -fwrapv -Wall -Wextra -std=c++14 -Wno-reserved-user-defined-literal -Wno-literal-suffix -Wno-unknown-warning-option -o t/to_chars.o -O0 -DVERSION=\"0.0.0\" -DXS_VERSION=\"0.0.0\" -fPIC "-I/home/david/cpantesting/perl-5.18.4/lib/5.18.4/x86_64-linux-thread-multi/CORE" t/to_chars.cc
c++ -c -Isrc -I/home/david/cpantesting/perl-5.18.4/lib/site_perl/5.18.4/XS/Install.x/i -I/home/david/cpantesting/perl-5.18.4/lib/site_perl/5.18.4/CPP/catch.x/i -D_REENTRANT -D_GNU_SOURCE -fno-strict-aliasing -pipe -fstack-protector -I/usr/local/include -D_LARGEFILE_SOURCE -D_FILE_OFFSET_BITS=64 -fwrapv -fwrapv -Wall -Wextra -std=c++14 -Wno-reserved-user-defined-literal -Wno-literal-suffix -Wno-unknown-warning-option -o t/traits.o -O0 -DVERSION=\"0.0.0\" -DXS_VERSION=\"0.0.0\" -fPIC "-I/home/david/cpantesting/perl-5.18.4/lib/5.18.4/x86_64-linux-thread-multi/CORE" t/traits.cc
c++ -c -Isrc -I/home/david/cpantesting/perl-5.18.4/lib/site_perl/5.18.4/XS/Install.x/i -I/home/david/cpantesting/perl-5.18.4/lib/site_perl/5.18.4/CPP/catch.x/i -D_REENTRANT -D_GNU_SOURCE -fno-strict-aliasing -pipe -fstack-protector -I/usr/local/include -D_LARGEFILE_SOURCE -D_FILE_OFFSET_BITS=64 -fwrapv -fwrapv -Wall -Wextra -std=c++14 -Wno-reserved-user-defined-literal -Wno-literal-suffix -Wno-unknown-warning-option -o t/varint.o -O0 -DVERSION=\"0.0.0\" -DXS_VERSION=\"0.0.0\" -fPIC "-I/home/david/cpantesting/perl-5.18.4/lib/5.18.4/x86_64-linux-thread-multi/CORE" t/varint.cc
Running Mkbootstrap for MyTest ()
chmod 644 "MyTest.bs"
"/home/david/cpantesting/perl-5.18.4/bin/perl" -MExtUtils::Command::MM -e 'cp_nonempty' -- MyTest.bs blib/arch/auto/MyTest/MyTest.bs 644
rm -f blib/arch/auto/MyTest/MyTest.so
c++ -shared -O2 -L/usr/local/lib -fstack-protector t/bench.o t/dispatcher.o t/endian.o t/error.o t/excepted.o t/exception.o t/from_chars.o t/function.o t/intrusive_chain.o t/iptr.o t/owning_list.o t/string_char.o t/string_char16.o t/string_char32.o t/string_containers.o t/string_wchar.o t/test.o t/to_chars.o t/traits.o t/varint.o blib/arch/auto/CPP/panda/lib/lib.so -o blib/arch/auto/MyTest/MyTest.so \
\
chmod 755 blib/arch/auto/MyTest/MyTest.so
Manifying 1 pod document
PERL_DL_NONLAZY=1 "/home/david/cpantesting/perl-5.18.4/bin/perl" "-MExtUtils::Command::MM" "-MTest::Harness" "-e" "undef *Test::Harness::Switches; test_harness(0, 'blib/lib', 'blib/arch')" t/*.t
t/dispatcher.t ......... ok
t/endian.t ............. ok
t/error.t .............. ok
t/excepted.t ........... ok
t/exception.t .......... skipped: set TEST_FULL=1 to enable this test
t/from_chars.t ......... ok
t/function.t ........... ok
t/intrusive_chain.t .... ok
t/iptr.t ............... ok
t/owning_list.t ........ ok
t/string_char.t ........ ok
t/string_char16.t ...... ok
t/string_char32.t ...... ok
t/string_containers.t .. ok
t/string_wchar.t ....... ok
t/to_chars.t ........... ok
t/traits.t ............. ok
t/varint.t ............. ok
All tests successful.
Files=18, Tests=103, 20 wallclock secs ( 1.24 usr 0.02 sys + 2.65 cusr 0.40 csys = 4.31 CPU)
Result: PASS
------------------------------
PREREQUISITES
------------------------------
Prerequisite modules loaded:
requires:
Module Need Have
------------ -------- --------
perl 5.012000 5.018004
XS::Install v1.2.12 1.2.12
build_requires:
Module Need Have
------------ -------- --------
CPP::catch v1.0.9 1.0.9
Test::Catch v1.0.10 1.0.10
Test::Deep 0 1.128
Test::More 0 1.302162
Test::Simple 0.96 1.302162
configure_requires:
Module Need Have
------------ -------- --------
CPP::catch v1.0.9 1.0.9
Test::Catch v1.0.10 1.0.10
XS::Install v1.2.12 1.2.12
------------------------------
ENVIRONMENT AND OTHER CONTEXT
------------------------------
Environment variables:
AUTOMATED_TESTING = 1
LANG = en_US.UTF-8
NONINTERACTIVE_TESTING = 1
PATH = /usr/local/bin:/usr/bin:/bin:/usr/local/games:/usr/games
PERL = 5.18.4
PERL5LIB =
PERL5OPT =
PERL5_CPANPLUS_IS_RUNNING = 30014
PERL5_CPAN_IS_RUNNING = 30014
PERLVER = 5.18.4
PERL_INLINE_DIRECTORY = /home/david/.Inline-5.18.4
PERL_MM_USE_DEFAULT = 1
PERL_USE_UNSAFE_INC = 0
SHELL = /bin/bash
TERM = screen
Perl special variables (and OS-specific diagnostics, for MSWin32):
$^X = /home/david/cpantesting/perl-5.18.4/bin/perl
$UID/$EUID = 1000 / 1000
$GID = 1000 27 1000
$EGID = 1000 27 1000
Perl module toolchain versions installed:
Module Have
------------------- --------
CPAN 2.00
CPAN::Meta 2.150010
Cwd 3.40
ExtUtils::CBuilder 0.280210
ExtUtils::Command 7.44
ExtUtils::Install 2.06
ExtUtils::MakeMaker 7.44
ExtUtils::Manifest 1.70
ExtUtils::ParseXS 3.35
File::Spec 3.40
JSON n/a
JSON::PP 4.02
Module::Build 0.4229
Module::Signature n/a
Parse::CPAN::Meta 2.150010
Test::Harness 3.42
Test::More 1.302162
YAML n/a
YAML::Syck n/a
version 0.9902
--
Summary of my perl5 (revision 5 version 18 subversion 4) configuration:
Platform:
osname=linux, osvers=4.9.0-8-amd64, archname=x86_64-linux-thread-multi
uname='linux pigsty 4.9.0-8-amd64 #1 smp debian 4.9.144-3 (2019-02-02) x86_64 gnulinux '
config_args='-de -Duse64bitall -Dusethreads -Dprefix=/home/david/cpantesting/perl-5.18.4 -A ccflags=-fwrapv'
hint=previous, useposix=true, d_sigaction=define
useithreads=define, usemultiplicity=define
useperlio=define, d_sfio=undef, uselargefiles=define, usesocks=undef
use64bitint=define, use64bitall=define, uselongdouble=undef
usemymalloc=n, bincompat5005=undef
Compiler:
cc='cc', ccflags ='-D_REENTRANT -D_GNU_SOURCE -fno-strict-aliasing -pipe -fstack-protector -I/usr/local/include -D_LARGEFILE_SOURCE -D_FILE_OFFSET_BITS=64 -fwrapv -fwrapv',
optimize='-O2',
cppflags='-D_REENTRANT -D_GNU_SOURCE -fno-strict-aliasing -pipe -fstack-protector -I/usr/local/include -D_REENTRANT -D_GNU_SOURCE -fno-strict-aliasing -pipe -fstack-protector -I/usr/local/include -D_LARGEFILE_SOURCE -D_FILE_OFFSET_BITS=64 -fwrapv -D_REENTRANT -D_GNU_SOURCE -fno-strict-aliasing -pipe -fstack-protector -I/usr/local/include -D_LARGEFILE_SOURCE -D_FILE_OFFSET_BITS=64 -fwrapv -fwrapv'
ccversion='', gccversion='6.3.0 20170516', gccosandvers=''
intsize=4, longsize=8, ptrsize=8, doublesize=8, byteorder=12345678
d_longlong=define, longlongsize=8, d_longdbl=define, longdblsize=16
ivtype='long', ivsize=8, nvtype='double', nvsize=8, Off_t='off_t', lseeksize=8
alignbytes=8, prototype=define
Linker and Libraries:
ld='cc', ldflags =' -fstack-protector -L/usr/local/lib'
libpth=/usr/local/lib /lib/x86_64-linux-gnu /lib/../lib /usr/lib/x86_64-linux-gnu /usr/lib/../lib /lib /usr/lib
libs=-lnsl -ldb -ldl -lm -lcrypt -lutil -lpthread -lc
perllibs=-lnsl -ldl -lm -lcrypt -lutil -lpthread -lc
libc=libc-2.24.so, so=so, useshrplib=false, libperl=libperl.a
gnulibc_version='2.24'
Dynamic Linking:
dlsrc=dl_dlopen.xs, dlext=so, d_dlsymun=undef, ccdlflags='-Wl,-E'
cccdlflags='-fPIC', lddlflags='-shared -O2 -L/usr/local/lib -fstack-protector'
Characteristics of this binary (from libperl):
Compile-time options: HAS_TIMES MULTIPLICITY PERLIO_LAYERS
PERL_DONT_CREATE_GVSV
PERL_HASH_FUNC_ONE_AT_A_TIME_HARD
PERL_IMPLICIT_CONTEXT PERL_MALLOC_WRAP
PERL_PRESERVE_IVUV PERL_SAWAMPERSAND USE_64_BIT_ALL
USE_64_BIT_INT USE_ITHREADS USE_LARGE_FILES
USE_LOCALE USE_LOCALE_COLLATE USE_LOCALE_CTYPE
USE_LOCALE_NUMERIC USE_PERLIO USE_PERL_ATOF
USE_REENTRANT_API
Locally applied patches:
Devel::PatchPerl 1.56
Built under linux
Compiled at Apr 25 2019 17:34:00
%ENV:
PERL="5.18.4"
PERL5LIB=""
PERL5OPT=""
PERL5_CPANPLUS_IS_RUNNING="30014"
PERL5_CPAN_IS_RUNNING="30014"
PERLVER="5.18.4"
PERL_INLINE_DIRECTORY="/home/david/.Inline-5.18.4"
PERL_MM_USE_DEFAULT="1"
PERL_USE_UNSAFE_INC="0"
@INC:
/home/david/cpantesting/perl-5.18.4/lib/site_perl/5.18.4/x86_64-linux-thread-multi
/home/david/cpantesting/perl-5.18.4/lib/site_perl/5.18.4
/home/david/cpantesting/perl-5.18.4/lib/5.18.4/x86_64-linux-thread-multi
/home/david/cpantesting/perl-5.18.4/lib/5.18.4
.