Back
From: metabase:user:cd035d39-6d5b-1014-ab3a-39c0c09612a1
Subject: PASS SOAP-Transport-TCP-0.715 v5.12.3
Date: 2011-08-29T09:17:02Z
This distribution has been tested as part of the CPAN Testers
project, supporting the Perl programming language. See
http://wiki.cpantesters.org/ for more information or email
questions to cpan-testers-discuss@perl.org
--
Dear Martin Kutter,
This is a computer-generated report for SOAP-Transport-TCP-0.715
on perl 5.12.3, created by CPAN-Reporter-1.1902.
Thank you for uploading your work to CPAN. Congratulations!
All tests were successful.
Sections of this report:
* Tester comments
* Program output
* Prerequisites
* Environment and other context
------------------------------
TESTER COMMENTS
------------------------------
Additional comments from tester:
none provided
------------------------------
PROGRAM OUTPUT
------------------------------
Output from 'C:\strawberry\perl\bin\perl.exe ./Build test':
t/096_characters.t .... skipped: (no reason given)
t/097_kwalitee.t ...... skipped: (no reason given)
t/098_pod.t ........... skipped: (no reason given)
t/099_pod_coverage.t .. skipped: (no reason given)
t/TCP.t ............... ok
All tests successful.
Files=5, Tests=7, 2 wallclock secs ( 0.14 usr + 0.13 sys = 0.27 CPU)
Result: PASS
------------------------------
PREREQUISITES
------------------------------
Prerequisite modules loaded:
requires:
Module Need Have
------------- -------- --------
IO::File 0 1.14
Net::FTP 0 2.77
perl v5.6.2 5.012003
SOAP::Lite 0.714 0.714
build_requires:
Module Need Have
------------- -------- --------
Test::More 0 0.98
configure_requires:
Module Need Have
------------- -------- --------
Module::Build 0.340201 0.3800
------------------------------
ENVIRONMENT AND OTHER CONTEXT
------------------------------
Environment variables:
COMSPEC = C:\WINNT\system32\cmd.exe
LANG = C
NUMBER_OF_PROCESSORS = 1
PATH = C:\Programme\PC Connectivity Solution\;C:\WINNT\system32;C:\WINNT;C:\WINNT\system32\WBEM;C:\Programme\Gemeinsame Dateien\GTK\2.0\bin;C:\cygwin\bin;C:\WINNT\AINTX;C:\Programme\Microsoft SQL Server\80\Tools\BINN;C:\Programme\Gemeinsame Dateien\Adobe\AGL;C:\Programme\netz\GnuPG\;C:\Programme\Gemeinsame Dateien\DivX Shared\;C:\WINNT\system32\WindowsPowerShell\v1.0;C:\WINNT\system32\WindowsPowerShell\v1.0;C:\strawberry\c\bin;C:\strawberry\perl\site\bin;C:\strawberry\perl\bin;C:\Programme\utils\TortoiseSVN\bin;C:\Programme\utils\BOND\BIBLIO_CLIENT\BIN\;
PERL5LIB =
PERL5OPT =
PERL5_CPANPLUS_IS_RUNNING = 2796
PERL5_CPAN_IS_RUNNING = 2796
PERL_JSON_BACKEND = JSON::XS
PERL_YAML_BACKEND = YAML
PROCESSOR_IDENTIFIER = x86 Family 15 Model 4 Stepping 1, GenuineIntel
TEMP = c:\temp
TERM = dumb
Perl special variables (and OS-specific diagnostics, for MSWin32):
$^X = C:\strawberry\perl\bin\perl.exe
$UID/$EUID = 0 / 0
$GID = 0
$EGID = 0
Win32::GetOSName = WinXP/.Net
Win32::GetOSVersion = Service Pack 3, 5, 1, 2600, 2, 3, 0, 256, 1
Win32::FsType = NTFS
Win32::IsAdminUser = 1
Perl module toolchain versions installed:
Module Have
------------------- --------
CPAN 1.9800
Cwd 3.33
ExtUtils::CBuilder 0.280202
ExtUtils::Command 1.17
ExtUtils::Install 1.55
ExtUtils::MakeMaker 6.59
ExtUtils::Manifest 1.60
ExtUtils::ParseXS 3.04
File::Spec 3.33
Module::Build 0.3800
Module::Signature 0.68
Test::Harness 3.23
Test::More 0.98
YAML 0.73
YAML::Syck n/a
version 0.93
--
Summary of my perl5 (revision 5 version 12 subversion 3) configuration:
Platform:
osname=MSWin32, osvers=5.1, archname=MSWin32-x86-multi-thread
uname='Win32 strawberryperl 5.12.3.0 #1 Sun May 15 09:44:53 2011 i386'
config_args='undef'
hint=recommended, useposix=true, d_sigaction=undef
useithreads=define, usemultiplicity=define
useperlio=define, d_sfio=undef, uselargefiles=define, usesocks=undef
use64bitint=undef, use64bitall=undef, uselongdouble=undef
usemymalloc=n, bincompat5005=undef
Compiler:
cc='gcc', ccflags =' -s -O2 -DWIN32 -DHAVE_DES_FCRYPT -DUSE_SITECUSTOMIZE -DPERL_IMPLICIT_CONTEXT -DPERL_IMPLICIT_SYS -fno-strict-aliasing -mms-bitfields -DPERL_MSVCRT_READFIX',
optimize='-s -O2',
cppflags='-DWIN32'
ccversion='', gccversion='4.4.3', gccosandvers=''
intsize=4, longsize=4, ptrsize=4, doublesize=8, byteorder=1234
d_longlong=undef, longlongsize=8, d_longdbl=define, longdblsize=12
ivtype='long', ivsize=4, nvtype='double', nvsize=8, Off_t='long long', lseeksize=8
alignbytes=8, prototype=define
Linker and Libraries:
ld='g++', ldflags ='-s -L"C:\strawberry\perl\lib\CORE" -L"C:\strawberry\c\lib"'
libpth=C:\strawberry\c\lib C:\strawberry\c\i686-w64-mingw32\lib
libs=-lmoldname -lkernel32 -luser32 -lgdi32 -lwinspool -lcomdlg32 -ladvapi32 -lshell32 -lole32 -loleaut32 -lnetapi32 -luuid -lws2_32 -lmpr -lwinmm -lversion -lodbc32 -lodbccp32 -lcomctl32
perllibs=-lmoldname -lkernel32 -luser32 -lgdi32 -lwinspool -lcomdlg32 -ladvapi32 -lshell32 -lole32 -loleaut32 -lnetapi32 -luuid -lws2_32 -lmpr -lwinmm -lversion -lodbc32 -lodbccp32 -lcomctl32
libc=, so=dll, useshrplib=true, libperl=libperl512.a
gnulibc_version=''
Dynamic Linking:
dlsrc=dl_win32.xs, dlext=dll, d_dlsymun=undef, ccdlflags=' '
cccdlflags=' ', lddlflags='-mdll -s -L"C:\strawberry\perl\lib\CORE" -L"C:\strawberry\c\lib"'
Characteristics of this binary (from libperl):
Compile-time options: MULTIPLICITY PERL_DONT_CREATE_GVSV
PERL_IMPLICIT_CONTEXT PERL_IMPLICIT_SYS
PERL_MALLOC_WRAP PL_OP_SLAB_ALLOC USE_ITHREADS
USE_LARGE_FILES USE_PERLIO USE_PERL_ATOF
USE_SITECUSTOMIZE
Built under MSWin32
Compiled at May 15 2011 17:02:01
%ENV:
PERL5_CPANPLUS_IS_RUNNING="2796"
PERL5_CPAN_IS_RUNNING="2796"
PERL_JSON_BACKEND="JSON::XS"
PERL_YAML_BACKEND="YAML"
@INC:
C:/strawberry/perl/site/lib
C:/strawberry/perl/vendor/lib
C:/strawberry/perl/lib
.