Back
From: metabase:user:30977d10-2aae-11df-837a-5e0a49663a4f
Subject: PASS MooseX-UndefTolerant-0.21 v5.14.4 GNU/Linux
Date: 2016-10-31T15:49:52Z
This distribution has been tested as part of the CPAN Testers
project, supporting the Perl programming language. See
http://wiki.cpantesters.org/ for more information or email
questions to cpan-testers-discuss@perl.org
--
Dear Karen Etheridge,
This is a computer-generated report for MooseX-UndefTolerant-0.21
on perl 5.14.4, created by CPAN-Reporter-1.2017.
Thank you for uploading your work to CPAN. Congratulations!
All tests were successful.
Sections of this report:
* Tester comments
* Program output
* Prerequisites
* Environment and other context
------------------------------
TESTER COMMENTS
------------------------------
Additional comments from tester:
this report is from an automated smoke testing program
and was not reviewed by a human for accuracy
------------------------------
PROGRAM OUTPUT
------------------------------
Output from '/usr/bin/make test':
PERL_DL_NONLAZY=1 "/home/stro/perl/5.14.4/bin/perl" "-MExtUtils::Command::MM" "-MTest::Harness" "-e" "undef *Test::Harness::Switches; test_harness(0, 'blib/lib', 'blib/arch')" t/*.t
# Testing MooseX::UndefTolerant 0.21, Perl 5.014004, /home/stro/perl/5.14.4/bin/perl
t/00-load.t ............ ok
#
# Versions for all modules listed in MYMETA.json (including optional ones):
#
# === Configure Requires ===
#
# Module Want Have
# ------------------- ----- -----
# Module::Build::Tiny 0.034 0.039
#
# === Build Requires ===
#
# Module Want Have
# ------------------- ---- ----
# ExtUtils::MakeMaker any 7.24
#
# === Test Requires ===
#
# Module Want Have
# ---------------- ---- --------
# File::Spec any 3.62
# Module::Metadata any 1.000033
# Test::Fatal any 0.014
# Test::Moose any 2.1900
# Test::More 0.88 1.302059
# if any 0.0605
# lib any 0.63
#
# === Test Recommends ===
#
# Module Want Have
# ---------- -------- --------
# CPAN::Meta 2.120900 2.150010
#
# === Runtime Requires ===
#
# Module Want Have
# -------------------- ---- ------
# Moose 0.89 2.1900
# Moose::Exporter any 2.1900
# Moose::Role any 2.1900
# namespace::autoclean any 0.28
# strict any 1.04
# warnings any 1.12
#
# === Other Modules ===
#
# Module Have
# --------- -------
# JSON::PP 2.27300
# Sub::Name 0.21
# YAML 1.18
# autodie 2.29
#
t/00-report-prereqs.t .. ok
t/basic.t .............. ok
t/constructor.t ........ ok
t/defaults.t ........... ok
t/roles.t .............. ok
t/undef_init_arg.t ..... ok
# Conflicts detected for Module::Runtime:
# Moose::Autobox is version 0.15, but must be greater than version 0.15
# Conflicts detected for Moose:
# Moose::Autobox is version 0.15, but must be greater than version 0.15
t/zzz-check-breaks.t ... ok
All tests successful.
Files=8, Tests=158, 18 wallclock secs ( 0.04 usr 0.00 sys + 4.02 cusr 0.46 csys = 4.52 CPU)
Result: PASS
------------------------------
PREREQUISITES
------------------------------
Prerequisite modules loaded:
requires:
Module Need Have
-------------------- -------- --------
Moose 0.89 2.1900
Moose::Exporter 0 2.1900
Moose::Role 0 2.1900
namespace::autoclean 0 0.28
perl 5.006 5.014004
strict 0 1.04
warnings 0 1.12
build_requires:
Module Need Have
-------------------- -------- --------
ExtUtils::MakeMaker 0 7.24
File::Spec 0 3.62
if 0 0.0605
lib 0 0.63
Module::Metadata 0 1.000033
Test::Fatal 0 0.014
Test::Moose 0 2.1900
Test::More 0.88 1.302059
configure_requires:
Module Need Have
-------------------- -------- --------
Module::Build::Tiny 0.034 0.039
perl 5.006 5.014004
opt_build_requires:
Module Need Have
-------------------- -------- --------
CPAN::Meta 2.120900 2.150010
------------------------------
ENVIRONMENT AND OTHER CONTEXT
------------------------------
Environment variables:
AUTOMATED_TESTING = 1
LANG = en_US.UTF-8
PATH = /usr/local/bin:/usr/bin:/bin:/usr/local/games:/usr/games
PERL5LIB =
PERL5OPT =
PERL5_CPANPLUS_IS_RUNNING = 21549
PERL5_CPAN_IS_RUNNING = 21549
PERL5_CPAN_IS_RUNNING_IN_RECURSION = 19800,21549
PERL_CR_SMOKER_CURRENT = MooseX-UndefTolerant-0.21
PERL_EXTUTILS_AUTOINSTALL = --defaultdeps
PERL_MM_USE_DEFAULT = 1
SHELL = /bin/bash
TERM = xterm
Perl special variables (and OS-specific diagnostics, for MSWin32):
$^X = /home/stro/perl/5.14.4/bin/perl
$UID/$EUID = 1000 / 1000
$GID = 1000 24 25 29 30 44 46 108 114 1000
$EGID = 1000 24 25 29 30 44 46 108 114 1000
Perl module toolchain versions installed:
Module Have
------------------- --------
CPAN 2.15
CPAN::Meta 2.150010
Cwd 3.62
ExtUtils::CBuilder 0.280224
ExtUtils::Command 7.24
ExtUtils::Install 1.56
ExtUtils::MakeMaker 7.24
ExtUtils::Manifest 1.70
ExtUtils::ParseXS 3.30
File::Spec 3.62
JSON 2.90
JSON::PP 2.27300
Module::Build 0.4220
Module::Signature 0.81
Parse::CPAN::Meta 2.150010
Test::Harness 3.36
Test::More 1.302059
YAML 1.18
YAML::Syck 1.29
version 0.9917
--
Summary of my perl5 (revision 5 version 14 subversion 4) configuration:
Platform:
osname=linux, osvers=3.16.0-4-amd64, archname=x86_64-linux
uname='linux vm-debian-001 3.16.0-4-amd64 #1 smp debian 3.16.7-ckt11-1 (2015-05-24) x86_64 gnulinux '
config_args=''
hint=recommended, useposix=true, d_sigaction=define
useithreads=undef, usemultiplicity=undef
useperlio=define, d_sfio=undef, uselargefiles=define, usesocks=undef
use64bitint=define, use64bitall=define, uselongdouble=undef
usemymalloc=n, bincompat5005=undef
Compiler:
cc='cc', ccflags ='-fno-strict-aliasing -pipe -fstack-protector -I/usr/local/include -D_LARGEFILE_SOURCE -D_FILE_OFFSET_BITS=64',
optimize='-O2',
cppflags='-fno-strict-aliasing -pipe -fstack-protector -I/usr/local/include'
ccversion='', gccversion='4.9.2', gccosandvers=''
intsize=4, longsize=8, ptrsize=8, doublesize=8, byteorder=12345678
d_longlong=define, longlongsize=8, d_longdbl=define, longdblsize=16
ivtype='long', ivsize=8, nvtype='double', nvsize=8, Off_t='off_t', lseeksize=8
alignbytes=8, prototype=define
Linker and Libraries:
ld='cc', ldflags =' -fstack-protector -L/usr/local/lib'
libpth=/usr/local/lib /lib/x86_64-linux-gnu /lib/../lib /usr/lib/x86_64-linux-gnu /usr/lib/../lib /lib /usr/lib
libs=-lnsl -ldl -lm -lcrypt -lutil -lc
perllibs=-lnsl -ldl -lm -lcrypt -lutil -lc
libc=, so=so, useshrplib=false, libperl=libperl.a
gnulibc_version='2.19'
Dynamic Linking:
dlsrc=dl_dlopen.xs, dlext=so, d_dlsymun=undef, ccdlflags='-Wl,-E'
cccdlflags='-fPIC', lddlflags='-shared -O2 -L/usr/local/lib -fstack-protector'
Characteristics of this binary (from libperl):
Compile-time options: PERL_DONT_CREATE_GVSV PERL_MALLOC_WRAP
PERL_PRESERVE_IVUV USE_64_BIT_ALL USE_64_BIT_INT
USE_LARGE_FILES USE_PERLIO USE_PERL_ATOF
Built under linux
Compiled at Jul 11 2015 01:43:29
%ENV:
PERL5LIB=""
PERL5OPT=""
PERL5_CPANPLUS_IS_RUNNING="21549"
PERL5_CPAN_IS_RUNNING="21549"
PERL5_CPAN_IS_RUNNING_IN_RECURSION="19800,21549"
PERL_CR_SMOKER_CURRENT="MooseX-UndefTolerant-0.21"
PERL_EXTUTILS_AUTOINSTALL="--defaultdeps"
PERL_MM_USE_DEFAULT="1"
@INC:
/home/stro/perl/5.14.4/lib/site_perl/5.14.4/x86_64-linux
/home/stro/perl/5.14.4/lib/site_perl/5.14.4
/home/stro/perl/5.14.4/lib/5.14.4/x86_64-linux
/home/stro/perl/5.14.4/lib/5.14.4
.