Astro-Catalog v4.33 Perl 5 v5.27.4 x86_64-linux

Status
Pass
From
Serguei Trouchelle (STRO)
Dist
Astro-Catalog v4.33
Platform
Perl 5 v5.27.4 x86_64-linux
Date
2018-02-10 16:23:01
ID
a9cb56f4-0e7e-11e8-b377-500ccce27de7
This distribution has been tested as part of the CPAN Testers
project, supporting the Perl programming language.  See
http://wiki.cpantesters.org/ for more information or email
questions to cpan-testers-discuss@perl.org


--
Dear Graham Bell,

This is a computer-generated report for Astro-Catalog-4.33
on perl 5.27.4, created by CPAN-Reporter-1.2018.

Thank you for uploading your work to CPAN.  Congratulations!
All tests were successful.

Sections of this report:

    * Tester comments
    * Program output
    * Prerequisites
    * Environment and other context

------------------------------
TESTER COMMENTS
------------------------------

Additional comments from tester:

this report is from an automated smoke testing program
and was not reviewed by a human for accuracy

------------------------------
PROGRAM OUTPUT
------------------------------

Output from './Build test':

# Astro::Catalog::IO::LCOGTFITSTable can not locate Astro/FITS/CFITSIO.pm
# Astro::Catalog::IO::FITSTable can not locate Astro/FITS/CFITSIO.pm
# Astro::Catalog::IO::VOTable can not locate Astro/VO/VOTable/Document.pm
t/1_compile.t ..... ok
t/2_astrom.t ...... ok
t/2_cluster.t ..... ok
t/2_findoff.t ..... ok
t/2_fitstable.t ... skipped: Tests require Astro::FITS::CFITSIO
t/2_gaiapick.t .... ok
t/2_jcmt.t ........ ok
t/2_jcmt_loose.t .. ok
t/2_northstar.t ... ok
t/2_ritmatch.t .... ok
t/2_sextractor.t .. ok
t/2_simple.t ...... ok
t/2_stl.t ......... ok
t/2_tst.t ......... ok
t/2_ukirtbs.t ..... ok
t/2_votable.t ..... skipped: Astro::VO::VOTable not installed
t/2_xy.t .......... ok
t/3_catalog.t ..... ok
t/3_item.t ........ ok
t/3_morphology.t .. ok
t/3_star.t ........ ok
t/4_cmc.t ......... ok
Unable to find plausible coordinate in string '------ ------ ------' at /home/stro/perl/5.27.4/lib/site_perl/5.27.4/Astro/Coords/Equatorial.pm line 145.
Unable to find plausible coordinate in string '------ ----- ----' at /home/stro/perl/5.27.4/lib/site_perl/5.27.4/Astro/Coords/Equatorial.pm line 147.
# Cannot connect to ESO GSC: Coordinates must be an Astro::Coords object at /home/stro/cpan/build/5.27.4/build/Astro-Catalog-4.33-0/blib/lib/Astro/Catalog/Query/GSC.pm line 224.
t/4_gsc.t ......... ok
# Error 404: Failed to establish network connection using url http://scully.harvard.edu/~cgi/MPCheck.COM?decl=-14+02+00&sort=d&mot=h&which=pos&ra=07+13+42&TextArea=&tmot=s&needed=f&radius=300&type=p&oc=500&year=2004&limit=20&ps=n&month=3&day=1.87 at t/4_mpc.t line 104.
t/4_mpc.t ......... ok
Subroutine _call redefined at (eval 334) line 60.
Subroutine SesameService::want_som redefined at (eval 334) line 105.
Subroutine AUTOLOAD redefined at (eval 334) line 122.
Subroutine SesameService::getAvailability redefined at (eval 334) line 120.
Subroutine SesameService::SesameXML redefined at (eval 334) line 120.
Subroutine SesameService::Sesame redefined at (eval 334) line 120.
Subroutine SesameService::sesame redefined at (eval 334) line 120.
Subroutine SesameService::main redefined at (eval 334) line 120.
t/4_sesame.t ...... ok
# Can not construct Skycat client: unable to find a remote service named gsc@eso at t/4_skycat_gsc.t line 126.
t/4_skycat_gsc.t .. ok
# Cannot connect to USNO-A2: Error 404: Failed to establish network connection using url http://archive.eso.org/skycat/servers/usnoa_res?sort=ra&magfaint=100&magbright=0&object=HT Cas&nout=2000&radmax=1&format=1 at t/4_usnoa2.t line 174.
t/4_usnoa2.t ...... ok
All tests successful.
Files=27, Tests=2974, 21 wallclock secs ( 0.26 usr  0.04 sys + 13.08 cusr  0.82 csys = 14.20 CPU)
Result: PASS

------------------------------
PREREQUISITES
------------------------------

Prerequisite modules loaded:

requires:

    Module                    Need    Have    
    ------------------------- ------- --------
    Astro::Coords             0.12    0.19    
    Astro::Flux               0.01    0.01    
    Astro::Telescope          0.5     0.71    
    Carp                      1.01    1.43    
    Class::Struct             0.63    0.65    
    Data::Dumper              2.12    2.167_02
    DateTime                  0       1.45    
    DateTime::Format::ISO8601 0       0.08    
    File::Spec                0.84    3.68    
    File::Temp                0.14    0.2304  
    LWP                       5.53    6.31    
    Misc::Quality             0.01    0.01    
    Net::Domain               2.13    3.10    
    Number::Uncertainty       0.01    1.4     
    Pod::Usage                1.14    1.69    
    Scalar::Util              1.14    1.49    
    SOAP::Lite                0       1.26    
    Time::Piece               1.08    1.3203  

build_requires:

    Module                    Need    Have    
    ------------------------- ------- --------
    Test::More                0       1.302122

configure_requires:

    Module                    Need    Have    
    ------------------------- ------- --------
    Module::Build             0.3     0.4224  

opt_requires:

    Module                    Need    Have    
    ------------------------- ------- --------
  ! Astro::FITS::CFITSIO      1.03    n/a     
  ! Astro::VO::VOTable        0.9     n/a     
    Tk                        804.029 804.034 


------------------------------
ENVIRONMENT AND OTHER CONTEXT
------------------------------

Environment variables:

    AUTOMATED_TESTING = 1
    LANG = en_US.UTF-8
    PATH = /usr/local/bin:/usr/bin:/bin:/usr/local/games:/usr/games
    PERL5LIB = 
    PERL5OPT = 
    PERL5_CPANPLUS_IS_RUNNING = 2803
    PERL5_CPAN_IS_RUNNING = 2803
    PERL5_CPAN_IS_RUNNING_IN_RECURSION = 15031,2803
    PERL_CR_SMOKER_CURRENT = Astro-Catalog-4.33
    PERL_EXTUTILS_AUTOINSTALL = --defaultdeps
    PERL_MM_USE_DEFAULT = 1
    PERL_USE_UNSAFE_INC = 1
    SHELL = /bin/bash
    TERM = xterm-256color

Perl special variables (and OS-specific diagnostics, for MSWin32):

    $^X = /home/stro/perl/5.27.4/bin/perl
    $UID/$EUID = 1000 / 1000
    $GID = 1000 24 25 29 30 44 46 108 114 1000
    $EGID = 1000 24 25 29 30 44 46 108 114 1000

Perl module toolchain versions installed:

    Module              Have    
    ------------------- --------
    CPAN                2.18    
    CPAN::Meta          2.150010
    Cwd                 3.68    
    ExtUtils::CBuilder  0.280228
    ExtUtils::Command   7.30    
    ExtUtils::Install   2.14    
    ExtUtils::MakeMaker 7.30    
    ExtUtils::Manifest  1.70    
    ExtUtils::ParseXS   3.35    
    File::Spec          3.68    
    JSON                2.97001 
    JSON::PP            2.97001 
    Module::Build       0.4224  
    Module::Signature   0.81    
    Parse::CPAN::Meta   2.150010
    Test::Harness       3.39    
    Test::More          1.302122
    YAML                1.24    
    YAML::Syck          1.30    
    version             0.9918  


--

Summary of my perl5 (revision 5 version 27 subversion 4) configuration:
   
  Platform:
    osname=linux
    osvers=3.16.0-4-amd64
    archname=x86_64-linux
    uname='linux vm-debian-001 3.16.0-4-amd64 #1 smp debian 3.16.7-ckt11-1 (2015-05-24) x86_64 gnulinux '
    config_args=''
    hint=recommended
    useposix=true
    d_sigaction=define
    useithreads=undef
    usemultiplicity=undef
    use64bitint=define
    use64bitall=define
    uselongdouble=undef
    usemymalloc=n
    default_inc_excludes_dot=define
    bincompat5005=undef
  Compiler:
    cc='cc'
    ccflags ='-fwrapv -fno-strict-aliasing -pipe -fstack-protector-strong -I/usr/local/include -D_LARGEFILE_SOURCE -D_FILE_OFFSET_BITS=64 -D_FORTIFY_SOURCE=2'
    optimize='-O2'
    cppflags='-fwrapv -fno-strict-aliasing -pipe -fstack-protector-strong -I/usr/local/include'
    ccversion=''
    gccversion='4.9.2'
    gccosandvers=''
    intsize=4
    longsize=8
    ptrsize=8
    doublesize=8
    byteorder=12345678
    doublekind=3
    d_longlong=define
    longlongsize=8
    d_longdbl=define
    longdblsize=16
    longdblkind=3
    ivtype='long'
    ivsize=8
    nvtype='double'
    nvsize=8
    Off_t='off_t'
    lseeksize=8
    alignbytes=8
    prototype=define
  Linker and Libraries:
    ld='cc'
    ldflags =' -fstack-protector-strong -L/usr/local/lib'
    libpth=/usr/local/lib /usr/lib/gcc/x86_64-linux-gnu/4.9/include-fixed /usr/include/x86_64-linux-gnu /usr/lib /lib/x86_64-linux-gnu /lib/../lib /usr/lib/x86_64-linux-gnu /usr/lib/../lib /lib
    libs=-lpthread -lnsl -ldl -lm -lcrypt -lutil -lc
    perllibs=-lpthread -lnsl -ldl -lm -lcrypt -lutil -lc
    libc=libc-2.19.so
    so=so
    useshrplib=false
    libperl=libperl.a
    gnulibc_version='2.19'
  Dynamic Linking:
    dlsrc=dl_dlopen.xs
    dlext=so
    d_dlsymun=undef
    ccdlflags='-Wl,-E'
    cccdlflags='-fPIC'
    lddlflags='-shared -O2 -L/usr/local/lib -fstack-protector-strong'


Characteristics of this binary (from libperl): 
  Compile-time options:
    HAS_TIMES
    PERLIO_LAYERS
    PERL_COPY_ON_WRITE
    PERL_DONT_CREATE_GVSV
    PERL_MALLOC_WRAP
    PERL_OP_PARENT
    PERL_PRESERVE_IVUV
    USE_64_BIT_ALL
    USE_64_BIT_INT
    USE_LARGE_FILES
    USE_LOCALE
    USE_LOCALE_COLLATE
    USE_LOCALE_CTYPE
    USE_LOCALE_NUMERIC
    USE_LOCALE_TIME
    USE_PERLIO
    USE_PERL_ATOF
  Built under linux
  Compiled at Sep 21 2017 00:29:22
  %ENV:
    PERL5LIB=""
    PERL5OPT=""
    PERL5_CPANPLUS_IS_RUNNING="2803"
    PERL5_CPAN_IS_RUNNING="2803"
    PERL5_CPAN_IS_RUNNING_IN_RECURSION="15031,2803"
    PERL_CR_SMOKER_CURRENT="Astro-Catalog-4.33"
    PERL_EXTUTILS_AUTOINSTALL="--defaultdeps"
    PERL_MM_USE_DEFAULT="1"
    PERL_USE_UNSAFE_INC="1"
  @INC:
    /home/stro/perl/5.27.4/lib/site_perl/5.27.4/x86_64-linux
    /home/stro/perl/5.27.4/lib/site_perl/5.27.4
    /home/stro/perl/5.27.4/lib/5.27.4/x86_64-linux
    /home/stro/perl/5.27.4/lib/5.27.4
    .