Report for String-Errf-0.007

Back
From: metabase:user:e3434da8-b236-11df-85ca-0247c6d74bde
Subject: PASS String-Errf-0.007 v5.21.1 GNU/Linux
Date: 2014-08-22T22:07:10Z

This distribution has been tested as part of the CPAN Testers
project, supporting the Perl programming language.  See
http://wiki.cpantesters.org/ for more information or email
questions to cpan-testers-discuss@perl.org


--
Dear Ricardo SIGNES,

This is a computer-generated report for String-Errf-0.007
on perl 5.21.1, created by CPAN-Reporter-1.2011.

Thank you for uploading your work to CPAN.  Congratulations!
All tests were successful.

Sections of this report:

    * Tester comments
    * Program output
    * Prerequisites
    * Environment and other context

------------------------------
TESTER COMMENTS
------------------------------

Additional comments from tester:

none provided

------------------------------
PROGRAM OUTPUT
------------------------------

Output from '/usr/bin/make test':

PERL_DL_NONLAZY=1 /home/ack/perl5/perlbrew/perls/perl-blead/bin/perl5.21.1 "-MExtUtils::Command::MM" "-MTest::Harness" "-e" "undef *Test::Harness::Switches; test_harness(0, 'blib/lib', 'blib/arch')" t/*.t
# 
# 
# Generated by Dist::Zilla::Plugin::ReportVersions::Tiny v1.10
# perl: 5.021001 (wanted any version) on linux from /home/ack/perl5/perlbrew/perls/perl-blead/bin/perl5.21.1
# 
# Carp                                          => 1.34       (want any version)
# Date::Format                                  => 2.24       (want any version)
# ExtUtils::MakeMaker                           => 6.98       (want 6.30)   
# JSON                                          => 2.90       (want 2)      
# Params::Util                                  => 1.07       (want any version)
# Scalar::Util                                  => 1.39       (want any version)
# String::Formatter                             => 0.102084   (want 0.102081)
# Sub::Exporter                                 => 0.987      (want any version)
# Test::More                                    => 1.001003   (want 0.96)   
# Time::Piece                                   => 1.27       (want any version)
# autodie                                       => 2.25       (want any version)
# parent                                        => 0.228      (want any version)
# strict                                        => 1.08       (want any version)
# warnings                                      => 1.24       (want any version)
# 
# Thanks for using my code.  I hope it works for you.
# If not, please try and include this output in the bug report.
# That will help me reproduce the issue and solve your problem.
# 
t/000-report-versions-tiny.t .. ok
t/bad.t ....................... ok
t/basic.t ..................... ok
All tests successful.
Files=3, Tests=5,  0 wallclock secs ( 0.03 usr  0.01 sys +  0.26 cusr  0.02 csys =  0.32 CPU)
Result: PASS

------------------------------
PREREQUISITES
------------------------------

Prerequisite modules loaded:

requires:

    Module              Need     Have    
    ------------------- -------- --------
    Carp                0        1.34    
    Params::Util        0        1.07    
    parent              0        0.228   
    Scalar::Util        0        1.39    
    strict              0        1.08    
    String::Formatter   0.102081 0.102084
    Sub::Exporter       0        0.987   
    Time::Piece         0        1.27    
    warnings            0        1.24    

build_requires:

    Module              Need     Have    
    ------------------- -------- --------
    autodie             0        2.25    
    Date::Format        0        2.24    
    JSON                2        2.90    
    Test::More          0.96     1.001003

configure_requires:

    Module              Need     Have    
    ------------------- -------- --------
    ExtUtils::MakeMaker 6.30     6.98    


------------------------------
ENVIRONMENT AND OTHER CONTEXT
------------------------------

Environment variables:

    LANG = en_GB.UTF-8
    LC_ADDRESS = nl_NL.utf8
    LC_COLLATE = C
    LC_IDENTIFICATION = nl_NL.utf8
    LC_MEASUREMENT = nl_NL.utf8
    LC_MONETARY = nl_NL.utf8
    LC_NAME = nl_NL.utf8
    LC_NUMERIC = nl_NL.utf8
    LC_PAPER = nl_NL.utf8
    LC_TELEPHONE = nl_NL.utf8
    LC_TIME = nl_NL.utf8
    PATH = /home/ack/perl5/perlbrew/bin:/home/ack/perl5/perlbrew/perls/perl-blead/bin:/home/ack/.cabal/bin:/home/ack/bin:/home/ack/racket/bin:/home/ack/lisp/plt/bin:/usr/bin/mh:/usr/lib64/qt-3.3/bin:/usr/local/heroku/bin:/usr/libexec/lightdm:/usr/local/bin:/usr/bin:/bin:/usr/local/sbin:/usr/sbin:/usr/games:/usr/lib/surfraw:/home/ack/lisp/racket/bin:/home/ack/src/go/bin:/home/ack/.local/bin:/home/ack/bin
    PERL5LIB = 
    PERL5OPT = 
    PERL5_CPANPLUS_IS_RUNNING = 21636
    PERL5_CPAN_IS_RUNNING = 21636
    PERLBREW_BASHRC_VERSION = 0.69
    PERLBREW_HOME = /home/ack/.perlbrew
    PERLBREW_MANPATH = /home/ack/perl5/perlbrew/perls/perl-blead/man
    PERLBREW_PATH = /home/ack/perl5/perlbrew/bin:/home/ack/perl5/perlbrew/perls/perl-blead/bin
    PERLBREW_PERL = perl-blead
    PERLBREW_ROOT = /home/ack/perl5/perlbrew
    PERLBREW_VERSION = 0.69
    SHELL = /bin/bash
    TERM = dumb

Perl special variables (and OS-specific diagnostics, for MSWin32):

    $^X = /home/ack/perl5/perlbrew/perls/perl-blead/bin/perl5.21.1
    $UID/$EUID = 1000 / 1000
    $GID = 1000 10 989 1000
    $EGID = 1000 10 989 1000

Perl module toolchain versions installed:

    Module              Have    
    ------------------- --------
    CPAN                2.05    
    CPAN::Meta          2.141520
    Cwd                 3.48    
    ExtUtils::CBuilder  0.280216
    ExtUtils::Command   1.18    
    ExtUtils::Install   1.68    
    ExtUtils::MakeMaker 6.98    
    ExtUtils::Manifest  1.63    
    ExtUtils::ParseXS   3.24    
    File::Spec          3.48    
    JSON                2.90    
    JSON::PP            2.27203 
    Module::Build       0.4205  
    Module::Signature   n/a     
    Parse::CPAN::Meta   1.4414  
    Test::Harness       3.32    
    Test::More          1.001003
    YAML                1.09    
    YAML::Syck          1.27    
    version             0.9908  


--

Summary of my perl5 (revision 5 version 21 subversion 1) configuration:
  Snapshot of: 7e9572462f6d8949ffd898bb5320541cb2f76b48
  Platform:
    osname=linux, osvers=3.11.10-301.fc20.x86_64, archname=x86_64-linux
    uname='linux localhost.localdomain 3.11.10-301.fc20.x86_64 #1 smp thu dec 5 14:01:17 utc 2013 x86_64 x86_64 x86_64 gnulinux '
    config_args='-de -Dprefix=/home/ack/perl5/perlbrew/perls/perl-blead -Dusedevel -Aeval:scriptdir=/home/ack/perl5/perlbrew/perls/perl-blead/bin'
    hint=recommended, useposix=true, d_sigaction=define
    useithreads=undef, usemultiplicity=undef
    use64bitint=define, use64bitall=define, uselongdouble=undef
    usemymalloc=n, bincompat5005=undef
  Compiler:
    cc='cc', ccflags ='-fwrapv -fno-strict-aliasing -pipe -fstack-protector -I/usr/local/include -D_LARGEFILE_SOURCE -D_FILE_OFFSET_BITS=64',
    optimize='-O2',
    cppflags='-fwrapv -fno-strict-aliasing -pipe -fstack-protector -I/usr/local/include'
    ccversion='', gccversion='4.8.2 20131212 (Red Hat 4.8.2-7)', gccosandvers=''
    intsize=4, longsize=8, ptrsize=8, doublesize=8, byteorder=12345678
    d_longlong=define, longlongsize=8, d_longdbl=define, longdblsize=16
    ivtype='long', ivsize=8, nvtype='double', nvsize=8, Off_t='off_t', lseeksize=8
    alignbytes=8, prototype=define
  Linker and Libraries:
    ld='cc', ldflags =' -fstack-protector -L/usr/local/lib'
    libpth=/usr/local/lib /usr/lib /lib/../lib64 /usr/lib/../lib64 /lib /lib64 /usr/lib64 /usr/local/lib64
    libs=-lnsl -lgdbm -ldb -ldl -lm -lcrypt -lutil -lc -lgdbm_compat
    perllibs=-lnsl -ldl -lm -lcrypt -lutil -lc
    libc=libc-2.18.so, so=so, useshrplib=false, libperl=libperl.a
    gnulibc_version='2.18'
  Dynamic Linking:
    dlsrc=dl_dlopen.xs, dlext=so, d_dlsymun=undef, ccdlflags='-Wl,-E'
    cccdlflags='-fPIC', lddlflags='-shared -O2 -L/usr/local/lib -fstack-protector'


Characteristics of this binary (from libperl): 
  Compile-time options: HAS_TIMES PERLIO_LAYERS PERL_DONT_CREATE_GVSV
                        PERL_HASH_FUNC_ONE_AT_A_TIME_HARD PERL_MALLOC_WRAP
                        PERL_NEW_COPY_ON_WRITE PERL_PRESERVE_IVUV
                        PERL_USE_DEVEL USE_64_BIT_ALL USE_64_BIT_INT
                        USE_LARGE_FILES USE_LOCALE USE_LOCALE_COLLATE
                        USE_LOCALE_CTYPE USE_LOCALE_NUMERIC USE_PERLIO
                        USE_PERL_ATOF
  Built under linux
  Compiled at Jun 12 2014 19:48:17
  %ENV:
    PERL5LIB=""
    PERL5OPT=""
    PERL5_CPANPLUS_IS_RUNNING="21636"
    PERL5_CPAN_IS_RUNNING="21636"
    PERLBREW_BASHRC_VERSION="0.69"
    PERLBREW_HOME="/home/ack/.perlbrew"
    PERLBREW_MANPATH="/home/ack/perl5/perlbrew/perls/perl-blead/man"
    PERLBREW_PATH="/home/ack/perl5/perlbrew/bin:/home/ack/perl5/perlbrew/perls/perl-blead/bin"
    PERLBREW_PERL="perl-blead"
    PERLBREW_ROOT="/home/ack/perl5/perlbrew"
    PERLBREW_VERSION="0.69"
  @INC:
    /home/ack/perl5/perlbrew/perls/perl-blead/lib/site_perl/5.21.1/x86_64-linux
    /home/ack/perl5/perlbrew/perls/perl-blead/lib/site_perl/5.21.1
    /home/ack/perl5/perlbrew/perls/perl-blead/lib/5.21.1/x86_64-linux
    /home/ack/perl5/perlbrew/perls/perl-blead/lib/5.21.1
    .