Report for VANAMBURG-SEMPROG-SimpleGraph-0.010

Back
From: metabase:user:9820532a-708b-1014-9a05-b18a96298da1
Subject: PASS VANAMBURG-SEMPROG-SimpleGraph-0.010 v5.15.5 FreeBSD
Date: 2011-12-05T13:04:28Z

This distribution has been tested as part of the CPAN Testers
project, supporting the Perl programming language.  See
http://wiki.cpantesters.org/ for more information or email
questions to cpan-testers-discuss@perl.org


--
Dear Gordon Van Amburg,

This is a computer-generated report for VANAMBURG-SEMPROG-SimpleGraph-0.010
on perl 5.15.5, created by CPAN-Reporter-1.2002.

Thank you for uploading your work to CPAN.  Congratulations!
All tests were successful.

Sections of this report:

    * Tester comments
    * Program output
    * Prerequisites
    * Environment and other context

------------------------------
TESTER COMMENTS
------------------------------

Additional comments from tester:

this report is from an automated smoke testing program
and was not reviewed by a human for accuracy

------------------------------
PROGRAM OUTPUT
------------------------------

Output from '/usr/bin/make test':

PERL_DL_NONLAZY=1 /usr/home/test/perl5/perlbrew/perls/perl-5.15.5-th/bin/perl5.15.5 "-MExtUtils::Command::MM" "-e" "test_harness(0, 'blib/lib', 'blib/arch')" t/*.t
# >>> t1 is gordon, add, triple1
# >>> gordon
# >>> gordon triples is 2
# >>> triple2 triples is 1
# >>> gordon triples is now 1
# >>> pot_belly_cost is cheap
t/00-load.t ......................... ok
t/pod-coverage.t .................... ok
# 
#    sub=San_Francisco_California
#    pred=population  obj=744042
#    pred=longitude  obj=-122.4183
#    pred=mayor  obj=Gavin Newsom
#    pred=latitude  obj=37.775
#    pred=name  obj=San Francisco
#    pred=inside  obj=California
#    sub=Fresno_California  obj=Alan Autry
#    sub=Chula_Vista_California  obj=Cheryl Cox
#    sub=Corona_California  obj=Jeff Miller
#    sub=Garden_Grove_California  obj=William Dalton
#    sub=Athens_Greece  obj=Dora Bakoyannis
#    sub=Portsmouth_New_Hampshire  obj=Thomas G. Ferrini
#    sub=San_Jose_California  obj=Norman Mineta
#    sub=Wasilla_Alaska  obj=Sarah Palin
#    sub=Anaheim_California  obj=Curt Pringle
#    sub=Fontana_California  obj=Acquanetta Warren
#    sub=San_Francisco_California  obj=Gavin Newsom
#    sub=Cleveland_Ohio  obj=Dennis Kucinich
#    sub=Detroit_Michigan  obj=Frank Murphy
#    sub=Adelanto_California  obj=Steven R. Baisden
#    sub=Fremont_California  obj=Bob Wasserman
#    sub=Adelanto_California  obj=Charley B. Glasper
#    sub=Chicago_Illinois  obj=Richard M. Daley
#    sub=Portsmouth_New_Hampshire  obj=John Blalock
#    sub=Aliso_Viejo_California  obj=Donald Garcia
#    sub=Cincinnati_Ohio  obj=Jerry Springer
#    sub=Aliso_Viejo_California  obj=William Phillips
#    sub=Alameda_California  obj=Beverly Johnson
#    sub=Glendale_California  obj=John Drayman
#    sub=Half_Moon_Bay_California  obj=Bonnie McClung
#    sub=New_York_New_York  obj=Michael Bloomberg
#    sub=Fremont_California  obj=Bill Harrison
#    sub=Cleveland_Ohio  obj=Frank G. Jackson
#    sub=Banning_California  obj=Debbie Franklin
#    sub=Philadelphia_Pennsylvania  obj=John F. Street
#    sub=Alameda_California  obj=Lena Tam
#    sub=Bakersfield_California  obj=Harvey Hall
#    sub=Corona_California  obj=Steve Nolan
#    sub=Edmonton_Canada  obj=Bill Smith
#    sub=Stuttgart_Germany  obj=Manfred Rommel
#    sub=Cleveland_Ohio  obj=Newton D. Baker
#    sub=Hillsdale_Michigan  obj=Michael Sessions
#    sub=Half_Moon_Bay_California  obj=John Muller
#    sub=Fontana_California  obj=Mark Nuaimi
#    sub=Banning_California  obj=Brenda Salas
#    sub=Garden_Grove_California  obj=Mark Rosen
# there are 30 cal cities
# mayor of Adelanto_California is Steven R. Baisden
# mayor of Adelanto_California is Charley B. Glasper
# mayor of Fontana_California is Acquanetta Warren
# mayor of Fontana_California is Mark Nuaimi
# mayor of Anaheim_California is Curt Pringle
# mayor of San_Jose_California is Norman Mineta
# mayor of San_Francisco_California is Gavin Newsom
# mayor of Glendale_California is John Drayman
# mayor of Half_Moon_Bay_California is Bonnie McClung
# mayor of Half_Moon_Bay_California is John Muller
# mayor of Alameda_California is Beverly Johnson
# mayor of Alameda_California is Lena Tam
# mayor of Corona_California is Steve Nolan
# mayor of Corona_California is Jeff Miller
# mayor of Chula_Vista_California is Cheryl Cox
# mayor of Aliso_Viejo_California is William Phillips
# mayor of Aliso_Viejo_California is Donald Garcia
# mayor of Garden_Grove_California is Mark Rosen
# mayor of Garden_Grove_California is William Dalton
# mayor of Bakersfield_California is Harvey Hall
# mayor of Fremont_California is Bill Harrison
# mayor of Fremont_California is Bob Wasserman
# mayor of Fresno_California is Alan Autry
# mayor of Banning_California is Debbie Franklin
# mayor of Banning_California is Brenda Salas
t/semprog_ch02_03_places.t .......... ok
# jt's partners
#     Justin Timberlake + Britney Spears
#     Alyssa Milano + Justin Timberlake
#     Justin Timberlake + Jessica Biel
#     Justin Timberlake + Cameron Diaz
#     Justin Timberlake + Cameron Diaz
#     Alyssa Milano + Justin Timberlake
#     Justin Timberlake + Jenna Dewan
#     Justin Timberlake + Britney Spears
#     Justin Timberlake + Jessica Biel
#     Justin Timberlake + Jenna Dewan
t/semprog_ch02_04_celebs.t .......... ok
# $VAR1 = 'PNSN';
# $VAR2 = 'CLMS';
# $VAR3 = 'BLK';
# $VAR4 = 'MS';
# $VAR5 = 'TRAD';
# $VAR6 = 'GBL';
# $VAR7 = 'LEH';
# $VAR8 = 'SCHW';
# $VAR9 = 'TWPG';
# $VAR10 = 'NITE';
# $VAR11 = 'MER';
# $VAR12 = 'OXPS';
# $VAR13 = 'DHIL';
# $VAR14 = 'GS';
# $VAR15 = 'LAB';
# $VAR16 = 'COWN';
# $VAR17 = 'MKTX';
# $VAR18 = 'LM';
# $VAR19 = 'JEF';
# $VAR20 = 'SF';
# $VAR21 = 'ITG';
# $VAR22 = 'WDR';
# $VAR23 = 'BSC';
t/semprog_ch02_05_business.t ........ ok
t/semprog_ch02_moviegraph.t ......... ok
# $VAR1 = {
#           'dollars' => '30700.0',
#           'cont' => 'contrib285',
#           'company' => 'BSC'
#         };
t/semprog_ch03_01_queries.t ......... ok
# triples before:
# $VAR1 = [
#           'White House',
#           'address',
#           '1600 Pennsylvania Avenue, Washington DC'
#         ];
# triples after:
# $VAR1 = [
#           'White House',
#           'longitude',
#           '38.898748'
#         ];
# $VAR2 = [
#           'White House',
#           'latitude',
#           '-77.037684'
#         ];
# $VAR3 = [
#           'White House',
#           'address',
#           '1600 Pennsylvania Avenue, Washington DC'
#         ];
t/semprog_ch03_02_inference.t ....... ok
# getting geo code data from internet -- could take a while...
# touristy triples:
# $VAR1 = [
#           'Pot Belly',
#           'is_a',
#           'touristy restaurant'
#         ];
t/semprog_ch03_03_chain_of_rules.t .. ok
# loading movie data...
# load done.  finding path
# path=Kevin Bacon, Wild Things, Neve Campbell, Blind Horizon, Val Kilmer
# path=Kevin Bacon, Tremors, Ariana Richards, Angus, Rita Moreno, Marlowe, Bruce Lee
# path=Kevin Bacon, The River Wild, Benjamin Bratt, Clear and Present Danger, Harrison Ford
t/semprog_ch03_04_shortest_path.t ... ok
t/semprog_ch03_05_join_graph.t ...... ok
All tests successful.
Files=11, Tests=42, 153 wallclock secs ( 0.14 usr  0.22 sys + 73.12 cusr  3.03 csys = 76.51 CPU)
Result: PASS

------------------------------
PREREQUISITES
------------------------------

Prerequisite modules loaded:

requires:

    Module              Need Have   
    ------------------- ---- -------
    File::Slurp         0    9999.19
    JSON                0    2.53   
    List::MoreUtils     0    0.33   
    LWP::Simple         0    6.00   
    Modern::Perl        1.03 1.03   
    Moose               0.93 2.0401 
    Moose::Role         0    2.0401 
    Set::Scalar         0    1.25   
    Test::More          0    0.98   
    Text::CSV_XS        0    0.85   
    URI::Escape         0    3.31   

build_requires:

    Module              Need Have   
    ------------------- ---- -------
    ExtUtils::MakeMaker 0    6.62   

configure_requires:

    Module              Need Have   
    ------------------- ---- -------
    ExtUtils::MakeMaker 0    6.62   


------------------------------
ENVIRONMENT AND OTHER CONTEXT
------------------------------

Environment variables:

    AUTOMATED_TESTING = 1
    LANG = C
    LC_ALL = C
    PATH = /home/test/perl5/perlbrew/bin:/home/test/perl5/perlbrew/perls/perl-5.15.5-th/bin:~/bin:/sbin:/bin:/usr/sbin:/usr/bin:/usr/games:/usr/local/sbin:/usr/local/bin:/home/test/bin
    PATH_WITHOUT_PERLBREW = ~/bin:/sbin:/bin:/usr/sbin:/usr/bin:/usr/games:/usr/local/sbin:/usr/local/bin:/home/test/bin
    PERL5LIB = 
    PERL5OPT = 
    PERL5_CPANPLUS_IS_RUNNING = 73317
    PERL5_CPAN_IS_RUNNING = 73317
    PERL5_CPAN_IS_RUNNING_IN_RECURSION = 1016,73317
    PERLBREW_BASHRC_VERSION = 0.33
    PERLBREW_HOME = /home/test/.perlbrew
    PERLBREW_PATH = /home/test/perl5/perlbrew/bin:/home/test/perl5/perlbrew/perls/perl-5.15.5-th/bin
    PERLBREW_PERL = perl-5.15.5-th
    PERLBREW_ROOT = /home/test/perl5/perlbrew
    PERLBREW_VERSION = 0.33
    PERL_CPANM_OPT = --prompt --mirror http://172.16.1.3/cpan/
    PERL_CR_SMOKER_CURRENT = VANAMBURG-SEMPROG-SimpleGraph-0.010
    PERL_EXTUTILS_AUTOINSTALL = --defaultdeps
    PERL_MM_USE_DEFAULT = 1
    SHELL = /usr/local/bin/bash
    TERM = linux

Perl special variables (and OS-specific diagnostics, for MSWin32):

    $^X = /usr/home/test/perl5/perlbrew/perls/perl-5.15.5-th/bin/perl5.15.5
    $UID/$EUID = 1002 / 1002
    $GID = 1002 1002
    $EGID = 1002 1002

Perl module toolchain versions installed:

    Module              Have    
    ------------------- --------
    CPAN                1.9800  
    CPAN::Meta          2.112621
    Cwd                 3.33    
    ExtUtils::CBuilder  0.280202
    ExtUtils::Command   1.17    
    ExtUtils::Install   1.57    
    ExtUtils::MakeMaker 6.62    
    ExtUtils::Manifest  1.60    
    ExtUtils::ParseXS   3.05    
    File::Spec          3.33    
    JSON                2.53    
    JSON::PP            2.27008 
    Module::Build       0.3800  
    Module::Signature   n/a     
    Parse::CPAN::Meta   1.4401  
    Test::Harness       3.23    
    Test::More          0.98    
    YAML                0.73    
    YAML::Syck          1.19    
    version             0.95    


--

Summary of my perl5 (revision 5 version 15 subversion 5) configuration:
   
  Platform:
    osname=freebsd, osvers=8.1-release, archname=amd64-freebsd-thread-multi
    uname='freebsd fbsd.local 8.1-release freebsd 8.1-release #0: mon jul 19 02:36:49 utc 2010 root@mason.cse.buffalo.edu:usrobjusrsrcsysgeneric amd64 '
    config_args='-de -Dprefix=/home/test/perl5/perlbrew/perls/perl-5.15.5-th -Dusethreads -Dusedevel'
    hint=recommended, useposix=true, d_sigaction=define
    useithreads=define, usemultiplicity=define
    useperlio=define, d_sfio=undef, uselargefiles=define, usesocks=undef
    use64bitint=define, use64bitall=define, uselongdouble=undef
    usemymalloc=n, bincompat5005=undef
  Compiler:
    cc='cc', ccflags ='-DHAS_FPSETMASK -DHAS_FLOATINGPOINT_H -fno-strict-aliasing -pipe -fstack-protector -I/usr/local/include',
    optimize='-O',
    cppflags='-DHAS_FPSETMASK -DHAS_FLOATINGPOINT_H -fno-strict-aliasing -pipe -fstack-protector -I/usr/local/include'
    ccversion='', gccversion='4.2.1 20070719  [FreeBSD]', gccosandvers=''
    intsize=4, longsize=8, ptrsize=8, doublesize=8, byteorder=12345678
    d_longlong=define, longlongsize=8, d_longdbl=define, longdblsize=16
    ivtype='long', ivsize=8, nvtype='double', nvsize=8, Off_t='off_t', lseeksize=8
    alignbytes=8, prototype=define
  Linker and Libraries:
    ld='cc', ldflags ='-pthread -Wl,-E  -fstack-protector -L/usr/local/lib'
    libpth=/usr/lib /usr/local/lib
    libs=-lm -lcrypt
    perllibs=-lm -lcrypt
    libc=, so=so, useshrplib=false, libperl=libperl.a
    gnulibc_version=''
  Dynamic Linking:
    dlsrc=dl_dlopen.xs, dlext=so, d_dlsymun=undef, ccdlflags=' '
    cccdlflags='-DPIC -fPIC', lddlflags='-shared  -L/usr/local/lib -fstack-protector'


Characteristics of this binary (from libperl): 
  Compile-time options: HAS_TIMES MULTIPLICITY PERLIO_LAYERS
                        PERL_DONT_CREATE_GVSV PERL_IMPLICIT_CONTEXT
                        PERL_MALLOC_WRAP PERL_PRESERVE_IVUV PERL_USE_DEVEL
                        USE_64_BIT_ALL USE_64_BIT_INT USE_ITHREADS
                        USE_LARGE_FILES USE_LOCALE USE_LOCALE_COLLATE
                        USE_LOCALE_CTYPE USE_LOCALE_NUMERIC USE_PERLIO
                        USE_PERL_ATOF USE_REENTRANT_API
  Built under freebsd
  Compiled at Nov 29 2011 23:43:57
  %ENV:
    PERL5LIB=""
    PERL5OPT=""
    PERL5_CPANPLUS_IS_RUNNING="73317"
    PERL5_CPAN_IS_RUNNING="73317"
    PERL5_CPAN_IS_RUNNING_IN_RECURSION="1016,73317"
    PERLBREW_BASHRC_VERSION="0.33"
    PERLBREW_HOME="/home/test/.perlbrew"
    PERLBREW_PATH="/home/test/perl5/perlbrew/bin:/home/test/perl5/perlbrew/perls/perl-5.15.5-th/bin"
    PERLBREW_PERL="perl-5.15.5-th"
    PERLBREW_ROOT="/home/test/perl5/perlbrew"
    PERLBREW_VERSION="0.33"
    PERL_CPANM_OPT="--prompt --mirror http://172.16.1.3/cpan/"
    PERL_CR_SMOKER_CURRENT="VANAMBURG-SEMPROG-SimpleGraph-0.010"
    PERL_EXTUTILS_AUTOINSTALL="--defaultdeps"
    PERL_MM_USE_DEFAULT="1"
  @INC:
    /home/test/perl5/perlbrew/perls/perl-5.15.5-th/lib/site_perl/5.15.5/amd64-freebsd-thread-multi
    /home/test/perl5/perlbrew/perls/perl-5.15.5-th/lib/site_perl/5.15.5
    /home/test/perl5/perlbrew/perls/perl-5.15.5-th/lib/5.15.5/amd64-freebsd-thread-multi
    /home/test/perl5/perlbrew/perls/perl-5.15.5-th/lib/5.15.5
    .