Report for WWW-Mechanize-Firefox-Extended-0.03

Back
From: metabase:user:320bfe00-2aae-11df-837a-5e0a49663a4f
Subject: PASS WWW-Mechanize-Firefox-Extended-0.03 v5.14.4 GNU/Linux
Date: 2015-05-20T04:21:19Z

This distribution has been tested as part of the CPAN Testers
project, supporting the Perl programming language.  See
http://wiki.cpantesters.org/ for more information or email
questions to cpan-testers-discuss@perl.org


--
Dear Hoe-Kit Chew,

This is a computer-generated report for WWW-Mechanize-Firefox-Extended-0.03
on perl 5.14.4, created by CPAN-Reporter-1.2014.

Thank you for uploading your work to CPAN.  Congratulations!
All tests were successful.

Sections of this report:

    * Tester comments
    * Program output
    * Prerequisites
    * Environment and other context

------------------------------
TESTER COMMENTS
------------------------------

Additional comments from tester:

this report is from an automated smoke testing program
and was not reviewed by a human for accuracy

------------------------------
PROGRAM OUTPUT
------------------------------

Output from '/usr/bin/make test':

PERL_DL_NONLAZY=1 "/home/sand/src/perl/repoperls/installed-perls/perl/v5.14.4/a2da/bin/perl" "-MExtUtils::Command::MM" "-MTest::Harness" "-e" "undef *Test::Harness::Switches; test_harness(0, 'blib/lib', 'blib/arch')" t/*.t
# Testing WWW::Mechanize::Firefox::Extended 0.03, Perl 5.014004
# Carp 1.36
# Config <unknown>
# DynaLoader 1.13
# Encode 2.73
# Encode::Alias 2.19
# Encode::Config 2.05
# Encode::Encoding 2.07
# Exporter 5.70
# Exporter::Heavy 5.70
# Fcntl 1.11
# File::Basename 2.82
# Firefox::Application 0.78
# HTML::Selector::XPath 0.18
# HTTP::Cookies 6.01
# HTTP::Cookies::MozRepl 0.78
# HTTP::Cookies::Netscape 6.00
# HTTP::Date 6.02
# HTTP::Headers 6.05
# HTTP::Headers::Util 6.03
# HTTP::Message 6.06
# HTTP::Request 6.00
# HTTP::Request::Common 6.04
# HTTP::Response 6.04
# HTTP::Status 6.03
# JSON 2.90
# JSON::XS 3.01
# List::Util 1.42
# MIME::Base64 3.13
# MozRepl::RemoteObject 0.39
# MozRepl::RemoteObject::Methods 0.39
# PerlIO 1.07
# Scalar::Util 1.42
# Storable 2.27
# Test::Builder 1.001014
# Test::Builder::Module 1.001014
# Test::More 1.001014
# Time::HiRes 1.972101
# Time::Local 1.2000
# Types::Serialiser 1.0
# URI 1.67
# URI::Escape 3.31
# WWW::Mechanize::Firefox 0.78
# WWW::Mechanize::Firefox::Extended 0.03
# WWW::Mechanize::Link <unknown>
# XSLoader 0.13
# attributes 0.14
# base 2.18
# bytes 1.04
# common::sense 3.73
# constant 1.21
# lib 0.63
# overload 1.13
# parent 0.225
# strict 1.04
# vars 1.02
# warnings 1.12
# warnings::register 1.02
t/00-load.t ............. ok
t/10-hasAll-hasAny.t .... skipped: Couldn't connect to MozRepl: Failed to connect to , problem connecting to "localhost", port 4242: Connection refused at /home/sand/src/perl/repoperls/installed-perls/perl/v5.14.4/a2da/lib/site_perl/5.14.4/MozRepl/Client.pm line 144
t/20-waitAll-waitAny.t .. skipped: Couldn't connect to MozRepl: Failed to connect to , problem connecting to "localhost", port 4242: Connection refused at /home/sand/src/perl/repoperls/installed-perls/perl/v5.14.4/a2da/lib/site_perl/5.14.4/MozRepl/Client.pm line 144
t/manifest.t ............ skipped: Author tests not required for installation
t/pod.t ................. ok
All tests successful.
Files=5, Tests=3,  4 wallclock secs ( 0.03 usr  0.03 sys +  0.44 cusr  0.14 csys =  0.64 CPU)
Result: PASS

------------------------------
PREREQUISITES
------------------------------

Prerequisite modules loaded:

requires:

    Module                  Need  Have     
    ----------------------- ----- ---------
    perl                    5.006 5.014004 
    Time::HiRes             0     1.9721_01
    WWW::Mechanize::Firefox 0     0.78     

build_requires:

    Module                  Need  Have     
    ----------------------- ----- ---------
    Test::More              0     1.001014 

configure_requires:

    Module                  Need  Have     
    ----------------------- ----- ---------
    ExtUtils::MakeMaker     0     7.04     


------------------------------
ENVIRONMENT AND OTHER CONTEXT
------------------------------

Environment variables:

    AUTOMATED_TESTING = 1
    LANG = en_US.UTF-8
    LANGUAGE = en_US:en
    PATH = /home/sand/bin:/usr/local/bin:/usr/bin:/bin:/usr/games:/usr/local/perl/bin:/usr/X11/bin:/sbin:/usr/sbin
    PERL5LIB = 
    PERL5OPT = 
    PERL5_CPANPLUS_IS_RUNNING = 27043
    PERL5_CPAN_IS_RUNNING = 27043
    PERL_MM_USE_DEFAULT = 1
    SHELL = /usr/bin/zsh
    TERM = screen

Perl special variables (and OS-specific diagnostics, for MSWin32):

    $^X = /home/sand/src/perl/repoperls/installed-perls/perl/v5.14.4/a2da/bin/perl
    $UID/$EUID = 1005 / 1005
    $GID = 1005 1005
    $EGID = 1005 1005

Perl module toolchain versions installed:

    Module              Have    
    ------------------- --------
    CPAN                2.10    
    CPAN::Meta          2.150004
    Cwd                 3.47    
    ExtUtils::CBuilder  0.280220
    ExtUtils::Command   1.17    
    ExtUtils::Install   1.56    
    ExtUtils::MakeMaker 7.04    
    ExtUtils::Manifest  1.70    
    ExtUtils::ParseXS   3.24    
    File::Spec          3.47    
    JSON                2.90    
    JSON::PP            2.27203 
    Module::Build       0.4212  
    Module::Signature   0.79    
    Parse::CPAN::Meta   1.4416  
    Test::Harness       3.35    
    Test::More          1.001014
    YAML                1.15    
    YAML::Syck          1.29    
    version             0.9912  


--

Summary of my perl5 (revision 5 version 14 subversion 4) configuration:
  Commit id: 26c5c13a4ece9084f310610bb17fb2f24c72a73e
  Platform:
    osname=linux, osvers=4.0.0-1-amd64, archname=x86_64-linux-thread-multi-ld
    uname='linux k83 4.0.0-1-amd64 #1 smp debian 4.0.2-1 (2015-05-11) x86_64 gnulinux '
    config_args='-Dprefix=/home/sand/src/perl/repoperls/installed-perls/perl/v5.14.4/a2da -Dmyhostname=k83 -Dinstallusrbinperl=n -Uversiononly -Dusedevel -des -Ui_db -Duseithreads -Duselongdouble -DDEBUGGING=-g'
    hint=recommended, useposix=true, d_sigaction=define
    useithreads=define, usemultiplicity=define
    useperlio=define, d_sfio=undef, uselargefiles=define, usesocks=undef
    use64bitint=define, use64bitall=define, uselongdouble=define
    usemymalloc=n, bincompat5005=undef
  Compiler:
    cc='cc', ccflags ='-D_REENTRANT -D_GNU_SOURCE -fno-strict-aliasing -pipe -fstack-protector -I/usr/local/include -D_LARGEFILE_SOURCE -D_FILE_OFFSET_BITS=64',
    optimize='-O2 -g',
    cppflags='-D_REENTRANT -D_GNU_SOURCE -fno-strict-aliasing -pipe -fstack-protector -I/usr/local/include'
    ccversion='', gccversion='4.9.2', gccosandvers=''
    intsize=4, longsize=8, ptrsize=8, doublesize=8, byteorder=12345678
    d_longlong=define, longlongsize=8, d_longdbl=define, longdblsize=16
    ivtype='long', ivsize=8, nvtype='long double', nvsize=16, Off_t='off_t', lseeksize=8
    alignbytes=16, prototype=define
  Linker and Libraries:
    ld='cc', ldflags =' -fstack-protector -L/usr/local/lib'
    libpth=/usr/local/lib /lib/x86_64-linux-gnu /lib/../lib /usr/lib/x86_64-linux-gnu /usr/lib/../lib /lib /usr/lib
    libs=-lnsl -lgdbm -ldb -ldl -lm -lcrypt -lutil -lpthread -lc -lgdbm_compat
    perllibs=-lnsl -ldl -lm -lcrypt -lutil -lpthread -lc
    libc=, so=so, useshrplib=false, libperl=libperl.a
    gnulibc_version='2.19'
  Dynamic Linking:
    dlsrc=dl_dlopen.xs, dlext=so, d_dlsymun=undef, ccdlflags='-Wl,-E'
    cccdlflags='-fPIC', lddlflags='-shared -O2 -g -L/usr/local/lib -fstack-protector'


Characteristics of this binary (from libperl): 
  Compile-time options: MULTIPLICITY PERL_DONT_CREATE_GVSV
                        PERL_IMPLICIT_CONTEXT PERL_MALLOC_WRAP
                        PERL_PRESERVE_IVUV PERL_USE_DEVEL USE_64_BIT_ALL
                        USE_64_BIT_INT USE_ITHREADS USE_LARGE_FILES
                        USE_LONG_DOUBLE USE_PERLIO USE_PERL_ATOF
                        USE_REENTRANT_API
  Built under linux
  Compiled at May 13 2015 22:20:53
  %ENV:
    PERL5LIB=""
    PERL5OPT=""
    PERL5_CPANPLUS_IS_RUNNING="27043"
    PERL5_CPAN_IS_RUNNING="27043"
    PERL_MM_USE_DEFAULT="1"
  @INC:
    /home/sand/src/perl/repoperls/installed-perls/perl/v5.14.4/a2da/lib/site_perl/5.14.4/x86_64-linux-thread-multi-ld
    /home/sand/src/perl/repoperls/installed-perls/perl/v5.14.4/a2da/lib/site_perl/5.14.4
    /home/sand/src/perl/repoperls/installed-perls/perl/v5.14.4/a2da/lib/5.14.4/x86_64-linux-thread-multi-ld
    /home/sand/src/perl/repoperls/installed-perls/perl/v5.14.4/a2da/lib/5.14.4
    .