PDF-FDF-Simple v0.21 Perl 5 v5.16.3 x86_64-linux-thread-multi
- Status
- Pass
- From
- Joachim Schrod
- Dist
-
PDF-FDF-Simple v0.21
- Platform
- Perl 5 v5.16.3 x86_64-linux-thread-multi
- Date
- 2018-07-01 23:37:06
- ID
- a9f3599c-7d87-11e8-a21c-b6fdb146b8df
This distribution has been tested as part of the CPAN Testers
project, supporting the Perl programming language. See
http://wiki.cpantesters.org/ for more information or email
questions to cpan-testers-discuss@perl.org
--
Dear Steffen Schwigon,
This is a computer-generated report for PDF-FDF-Simple-0.21
on perl 5.16.3, created by CPAN-Reporter-1.2018.
Thank you for uploading your work to CPAN. Congratulations!
All tests were successful.
Sections of this report:
* Tester comments
* Program output
* Prerequisites
* Environment and other context
------------------------------
TESTER COMMENTS
------------------------------
Additional comments from tester:
none provided
------------------------------
PROGRAM OUTPUT
------------------------------
Output from './Build test':
t/accessors.t ................... ok
t/acro8.t ....................... ok
t/attribs.t ..................... ok
t/distribution.t ................ skipped: Test::Distribution skipped unless env $DO_DIST_CHECK set.
t/fdfparser_newline.t ........... ok
t/fdfparser_round.t ............. ok
t/fdfparser_round2.t ............ ok
t/fdfparser_standard.t .......... ok
t/missingfdfvalue.t ............. ok
t/no_header.t ................... ok
t/noisyfileattr.t ............... ok
t/pod-coverage.t ................ skipped: Test::Pod::Coverage skipped unless env $DO_DIST_CHECK set.
t/simple.t ...................... ok
t/strange_id_values.t ........... ok
t/typecatalog.t ................. ok
t/undef_handling.t .............. ok
t/with_xrefs_and_valuearrays.t .. ok
All tests successful.
Files=17, Tests=165, 2 wallclock secs ( 0.03 usr 0.03 sys + 1.93 cusr 0.07 csys = 2.06 CPU)
Result: PASS
------------------------------
PREREQUISITES
------------------------------
Prerequisite modules loaded:
requires:
Module Need Have
--------------------- ------ --------
Class::Accessor::Fast 0 0.51
Compress::Zlib 0 2.081
File::ShareDir 0 1.116
Parse::RecDescent 1.94 1.967015
perl v5.6.1 5.016003
Test::More 0 1.302136
build_requires:
Module Need Have
--------------------- ------ --------
File::Copy 0 2.23
------------------------------
ENVIRONMENT AND OTHER CONTEXT
------------------------------
Environment variables:
LANG = C
LANGUAGE = en_US:en
LC_CTYPE = en_US
PATH = .:/home/schrod/bin/x86_64-linux:/home/schrod/bin:/usr/local/bin/X11:/usr/local/bin:/usr/local/sbin:/opt/perl-5.16.3/bin:/bin:/usr/bin:/usr/sbin:/sbin
PERL5LIB =
PERL5OPT =
PERL5_CPANPLUS_IS_RUNNING = 18710
PERL5_CPAN_IS_RUNNING = 18710
PERLDOC_PAGER = less -R
SHELL = /bin/bash
TERM = xterm
Perl special variables (and OS-specific diagnostics, for MSWin32):
$^X = /opt/perl-5.16.3/bin/perl
$UID/$EUID = 1014 / 1014
$GID = 2000 201 500 504 506 507 508 1005 1016 1019 2000
$EGID = 2000 201 500 504 506 507 508 1005 1016 1019 2000
Perl module toolchain versions installed:
Module Have
------------------- --------
CPAN 2.16
CPAN::Meta 2.150010
Cwd 3.74
ExtUtils::CBuilder 0.280230
ExtUtils::Command 7.34
ExtUtils::Install 2.06
ExtUtils::MakeMaker 7.34
ExtUtils::Manifest 1.70
ExtUtils::ParseXS 3.16
File::Spec 3.74
JSON 2.97001
JSON::PP 2.97001
Module::Build 0.4224
Module::Signature n/a
Parse::CPAN::Meta 2.150010
Test::Harness 3.42
Test::More 1.302136
YAML 1.26
YAML::Syck n/a
version 0.99
--
Summary of my perl5 (revision 5 version 16 subversion 3) configuration:
Platform:
osname=linux, osvers=4.9.0-6-amd64, archname=x86_64-linux-thread-multi
uname='linux n-pussy 4.9.0-6-amd64 #1 smp debian 4.9.88-1+deb9u1 (2018-05-07) x86_64 gnulinux '
config_args='-e'
hint=previous, useposix=true, d_sigaction=define
useithreads=define, usemultiplicity=define
useperlio=define, d_sfio=undef, uselargefiles=define, usesocks=undef
use64bitint=define, use64bitall=define, uselongdouble=undef
usemymalloc=n, bincompat5005=undef
Compiler:
cc='cc', ccflags ='-D_REENTRANT -D_GNU_SOURCE -fwrapv -fno-strict-aliasing -pipe -fstack-protector -I/usr/local/include -D_LARGEFILE_SOURCE -D_FILE_OFFSET_BITS=64',
optimize='-O2',
cppflags='-D_REENTRANT -D_GNU_SOURCE -fwrapv -fno-strict-aliasing -pipe -fstack-protector -I/usr/local/include -D_REENTRANT -D_GNU_SOURCE -fwrapv -fno-strict-aliasing -pipe -fstack-protector -I/usr/local/include -D_LARGEFILE_SOURCE -D_FILE_OFFSET_BITS=64'
ccversion='', gccversion='6.3.0 20170516', gccosandvers=''
intsize=4, longsize=8, ptrsize=8, doublesize=8, byteorder=12345678
d_longlong=define, longlongsize=8, d_longdbl=define, longdblsize=16
ivtype='long', ivsize=8, nvtype='double', nvsize=8, Off_t='off_t', lseeksize=8
alignbytes=8, prototype=define
Linker and Libraries:
ld='cc', ldflags =' -fstack-protector -L/usr/local/lib'
libpth=/usr/local/lib /lib/x86_64-linux-gnu /lib/../lib /usr/lib/x86_64-linux-gnu /usr/lib/../lib /lib /usr/lib
libs=-lnsl -lgdbm -ldb -ldl -lm -lcrypt -lutil -lpthread -lc -lgdbm_compat
perllibs=-lnsl -ldl -lm -lcrypt -lutil -lpthread -lc
libc=, so=so, useshrplib=false, libperl=libperl.a
gnulibc_version='2.24'
Dynamic Linking:
dlsrc=dl_dlopen.xs, dlext=so, d_dlsymun=undef, ccdlflags='-Wl,-E'
cccdlflags='-fPIC', lddlflags='-shared -O2 -L/usr/local/lib -fstack-protector'
Characteristics of this binary (from libperl):
Compile-time options: HAS_TIMES MULTIPLICITY PERLIO_LAYERS
PERL_DONT_CREATE_GVSV PERL_IMPLICIT_CONTEXT
PERL_MALLOC_WRAP PERL_PRESERVE_IVUV USE_64_BIT_ALL
USE_64_BIT_INT USE_ITHREADS USE_LARGE_FILES
USE_LOCALE USE_LOCALE_COLLATE USE_LOCALE_CTYPE
USE_LOCALE_NUMERIC USE_PERLIO USE_PERL_ATOF
USE_REENTRANT_API
Built under linux
Compiled at Jun 26 2018 01:03:43
%ENV:
PERL5LIB=""
PERL5OPT=""
PERL5_CPANPLUS_IS_RUNNING="18710"
PERL5_CPAN_IS_RUNNING="18710"
PERLDOC_PAGER="less -R"
@INC:
/opt/perl-5.16.3/lib/site_perl/5.16.3/x86_64-linux-thread-multi
/opt/perl-5.16.3/lib/site_perl/5.16.3
/opt/perl-5.16.3/lib/5.16.3/x86_64-linux-thread-multi
/opt/perl-5.16.3/lib/5.16.3
.