Back
From: metabase:user:30f4dfbe-2aae-11df-837a-5e0a49663a4f
Subject: PASS Spreadsheet-XLSX-Reader-LibXML-v0.36.24 v5.16.2 Mac OS X
Date: 2015-06-14T02:54:24Z
This distribution has been tested as part of the CPAN Testers
project, supporting the Perl programming language. See
http://wiki.cpantesters.org/ for more information or email
questions to cpan-testers-discuss@perl.org
--
Dear Jed Lund,
This is a computer-generated report for Spreadsheet-XLSX-Reader-LibXML-v0.36.24
on perl 5.16.2, created by CPAN-Reporter-1.2014.
Thank you for uploading your work to CPAN. Congratulations!
All tests were successful.
Sections of this report:
* Tester comments
* Program output
* Prerequisites
* Environment and other context
------------------------------
TESTER COMMENTS
------------------------------
Additional comments from tester:
this report is from an automated smoke testing program
and was not reviewed by a human for accuracy
------------------------------
PROGRAM OUTPUT
------------------------------
Output from '/sw/bin/make test':
PERL_DL_NONLAZY=1 "/Users/hornenj/perl5/perlbrew/perls/perl-5.16.2/bin/perl" "-MExtUtils::Command::MM" "-MTest::Harness" "-e" "undef *Test::Harness::Switches; test_harness(0, 'blib/lib', 'blib/arch')" t/Spreadsheet/XLSX/Reader/*.t t/Spreadsheet/XLSX/Reader/LibXML/*.t t/Spreadsheet/XLSX/Reader/LibXML/XMLReader/*.t
t/Spreadsheet/XLSX/Reader/01-libxml.t ............................. ok
t/Spreadsheet/XLSX/Reader/02-open_by_worksheet_bug.t .............. ok
t/Spreadsheet/XLSX/Reader/03-temp_dir_bug.t ....................... ok
t/Spreadsheet/XLSX/Reader/04-no_pivot_bug.t ....................... ok
t/Spreadsheet/XLSX/Reader/05-chart_bug.t .......................... ok
t/Spreadsheet/XLSX/Reader/LibXML/01-types.t ....................... ok
t/Spreadsheet/XLSX/Reader/LibXML/02-error.t ....................... ok
t/Spreadsheet/XLSX/Reader/LibXML/04-xml_reader.t .................. ok
t/Spreadsheet/XLSX/Reader/LibXML/05-cell_to_column_row.t .......... ok
t/Spreadsheet/XLSX/Reader/LibXML/07-fmt_default.t ................. ok
t/Spreadsheet/XLSX/Reader/LibXML/08-parse_excel_fmt_string.t ...... ok
t/Spreadsheet/XLSX/Reader/LibXML/09-cell.t ........................ ok
t/Spreadsheet/XLSX/Reader/LibXML/10-get_cell.t .................... ok
t/Spreadsheet/XLSX/Reader/LibXML/20-empty_sharedstrings_bug.t ..... ok
t/Spreadsheet/XLSX/Reader/LibXML/XMLReader/01-xml_to_perl_data.t .. ok
t/Spreadsheet/XLSX/Reader/LibXML/XMLReader/02-worksheet.t ......... ok
t/Spreadsheet/XLSX/Reader/LibXML/XMLReader/03-sharedstrings.t ..... ok
t/Spreadsheet/XLSX/Reader/LibXML/XMLReader/04-calcchain.t ......... ok
t/Spreadsheet/XLSX/Reader/LibXML/XMLReader/05-styles.t ............ ok
All tests successful.
Files=19, Tests=3262, 8 wallclock secs ( 0.19 usr 0.04 sys + 6.49 cusr 0.72 csys = 7.44 CPU)
Result: PASS
------------------------------
PREREQUISITES
------------------------------
Prerequisite modules loaded:
requires:
Module Need Have
------------------------------- ------ --------
Archive::Zip 0 1.46
Carp 0 1.36
Clone 0 0.38
Data::Dumper 0 2.154
DateTime::Format::Flexible 0 0.26
DateTimeX::Format::Excel 0.012 v0.12.26
IO::File 0 1.16
lib 0 0.63
List::Util 1.33 1.42
Moose 2.1213 2.1404
Moose::Role 0 2.1404
MooseX::HasDefaults::RO 0 0
MooseX::ShortCut::BuildInstance 1.032 v1.34.4
MooseX::StrictConstructor 0 0.19
perl 5.010 5.016002
strict 0 1.07
Type::Coercion 0 1.000005
Type::Library 1.000 1.000005
Type::Tiny 1.000 1.000005
Type::Utils 0 1.000005
Types::Standard 0 1.000005
version 0.77 0.9912
warnings 0 1.13
XML::LibXML 0 2.0121
XML::LibXML::Reader 0 2.0121
build_requires:
Module Need Have
------------------------------- ------ --------
Archive::Zip 0 1.46
Capture::Tiny 0 0.30
Carp 0 1.36
Clone 0 0.38
DateTime::Format::Flexible 0 0.26
DateTimeX::Format::Excel 0.012 v0.12.26
ExtUtils::MakeMaker 7.04 7.04
IO::File 0 1.16
List::Util 1.33 1.42
Moose 2.1213 2.1404
Moose::Role 0 2.1404
MooseX::HasDefaults::RO 0 0
MooseX::ShortCut::BuildInstance 1.032 v1.34.4
MooseX::StrictConstructor 0 0.19
Spreadsheet::ParseExcel 0 0.65
Test::Moose 0 2.1404
Test::Most 0 0.34
Test::TypeTiny 0 1.000005
Type::Tiny 1.000 1.000005
version 0.77 0.9912
XML::LibXML 0 2.0121
XML::LibXML::Reader 0 2.0121
configure_requires:
Module Need Have
------------------------------- ------ --------
Alien::LibXML 0.003 0.003
ExtUtils::MakeMaker 7.04 7.04
------------------------------
ENVIRONMENT AND OTHER CONTEXT
------------------------------
Environment variables:
AUTOMATED_TESTING = 1
LANG = en_US.UTF-8
LC_ALL = POSIX
LD_LIBRARY_PATH = :/net/traces01.be-md.ncbi.nlm.nih.gov/trace_software/vdb/mac/release/x86_64/lib
NO_NETWORK_TESTING = 1
PATH = /Users/hornenj/perl5/perlbrew/bin:/Users/hornenj/perl5/perlbrew/perls/perl-5.16.2/bin:/Users/hornenj/perl5/perlbrew/bin:/Users/hornenj/perl5/perlbrew/perls/perl-5.22.0/bin:/Users/hornenj/bin:/sw/lib/perl5/ExtUtils:/sw/bin:/am/ncbiapdata/bin:/usr/bin:/bin:/usr/X11R6/bin:/netopt/ncbi_tools/bin:/usr/local/ncbi/blast/bin:/net/traces01.be-md.ncbi.nlm.nih.gov/trace_software/vdb/mac/release/x86_64/bin
PERL5LIB = /Users/hornenj/.cpan/build/DateTime-Format-Flexible-0.26-GvdI4_/blib/arch:/Users/hornenj/.cpan/build/DateTime-Format-Flexible-0.26-GvdI4_/blib/lib:/Users/hornenj/.cpan/build/DateTime-Format-Builder-0.81-R88yvh/blib/arch:/Users/hornenj/.cpan/build/DateTime-Format-Builder-0.81-R88yvh/blib/lib:/Users/hornenj/.cpan/build/Class-Factory-Util-1.7-3Ahoe5/blib/arch:/Users/hornenj/.cpan/build/Class-Factory-Util-1.7-3Ahoe5/blib/lib:/Users/hornenj/.cpan/build/MooseX-ShortCut-BuildInstance-v1.34.4-N8CoiD/blib/arch:/Users/hornenj/.cpan/build/MooseX-ShortCut-BuildInstance-v1.34.4-N8CoiD/blib/lib:/Users/hornenj/.cpan/build/DateTimeX-Format-Excel-v0.12.26-w7FXn9/blib/arch:/Users/hornenj/.cpan/build/DateTimeX-Format-Excel-v0.12.26-w7FXn9/blib/lib:/Users/hornenj/.cpan/build/Smart-Comments-1.000005-gM0qra/blib/arch:/Users/hornenj/.cpan/build/Smart-Comments-1.000005-gM0qra/blib/lib:/Users/hornenj/.cpan/build/MooseX-HasDefaults-0.03-4cu2z9/blib/arch:/Users/hornenj/.cpan/build/MooseX-HasDefaults-0.03-4cu2z9/blib/lib:/Users/hornenj/.cpan/build/MooseX-StrictConstructor-0.19-mt8RSG/blib/arch:/Users/hornenj/.cpan/build/MooseX-StrictConstructor-0.19-mt8RSG/blib/lib:/Users/hornenj/.cpan/build/Alien-LibXML-0.003-st8AYn/blib/arch:/Users/hornenj/.cpan/build/Alien-LibXML-0.003-st8AYn/blib/lib
PERL5OPT =
PERL5_CPANPLUS_IS_RUNNING = 67896
PERL5_CPAN_IS_RUNNING = 67896
PERL5_MINISMOKEBOX = 0.58
PERLBREW_BASHRC_VERSION = 0.73
PERLBREW_HOME = /Users/hornenj/.perlbrew
PERLBREW_LIB =
PERLBREW_MANPATH = /Users/hornenj/perl5/perlbrew/perls/perl-5.16.2/man
PERLBREW_PATH = /Users/hornenj/perl5/perlbrew/bin:/Users/hornenj/perl5/perlbrew/perls/perl-5.16.2/bin
PERLBREW_PERL = perl-5.16.2
PERLBREW_ROOT = /Users/hornenj/perl5/perlbrew
PERLBREW_VERSION = 0.73
PERL_EXTUTILS_AUTOINSTALL = --defaultdeps
PERL_LOCAL_LIB_ROOT =
PERL_MM_USE_DEFAULT = 1
SHELL = /bin/bash
TERM = xterm-256color
TMPDIR = /var/folders/pz/pd7y1qjs6s3cbk170cw50fjc000c61/T/
VERSIONER_PERL_PREFER_32_BIT = no
VERSIONER_PERL_VERSION = 5.18
ac_cv_path_INTLTOOL_PERL = /usr/bin/perl
Perl special variables (and OS-specific diagnostics, for MSWin32):
$^X = /Users/hornenj/perl5/perlbrew/perls/perl-5.16.2/bin/perl
$UID/$EUID = 12481 / 12481
$GID = 14 14 5344 37103 527 241
$EGID = 14 14 5344 37103 527 241
Perl module toolchain versions installed:
Module Have
------------------- --------
CPAN 2.10
CPAN::Meta 2.150001
Cwd 3.47
ExtUtils::CBuilder 0.280223
ExtUtils::Command 1.20
ExtUtils::Install 2.04
ExtUtils::MakeMaker 7.04
ExtUtils::Manifest 1.70
ExtUtils::ParseXS 3.24
File::Spec 3.47
JSON 2.90
JSON::PP 2.27300
Module::Build 0.4212
Module::Signature n/a
Parse::CPAN::Meta 1.4414
Test::Harness 3.35
Test::More 1.001014
YAML 1.15
YAML::Syck 1.29
version 0.9912
--
Summary of my perl5 (revision 5 version 16 subversion 2) configuration:
Platform:
osname=darwin, osvers=12.2.1, archname=darwin-2level
uname='darwin ncbimac2008.ncbi.nlm.nih.gov 12.2.1 darwin kernel version 12.2.1: thu oct 18 12:13:47 pdt 2012; root:xnu-2050.20.9~1release_x86_64 x86_64 '
config_args='-de -Dprefix=/Users/hornenj/perl5/perlbrew/perls/perl-5.16.2'
hint=previous, useposix=true, d_sigaction=define
useithreads=undef, usemultiplicity=undef
useperlio=define, d_sfio=undef, uselargefiles=define, usesocks=undef
use64bitint=define, use64bitall=define, uselongdouble=undef
usemymalloc=n, bincompat5005=undef
Compiler:
cc='cc', ccflags ='-fno-common -DPERL_DARWIN -fno-strict-aliasing -pipe -fstack-protector',
optimize='-O3',
cppflags='-fno-common -DPERL_DARWIN -fno-strict-aliasing -pipe -fstack-protector -fno-common -DPERL_DARWIN -fno-strict-aliasing -pipe -fstack-protector'
ccversion='', gccversion='4.2.1 Compatible Apple LLVM 4.2 (clang-425.0.24)', gccosandvers=''
intsize=4, longsize=8, ptrsize=8, doublesize=8, byteorder=12345678
d_longlong=define, longlongsize=8, d_longdbl=define, longdblsize=16
ivtype='long', ivsize=8, nvtype='double', nvsize=8, Off_t='off_t', lseeksize=8
alignbytes=8, prototype=define
Linker and Libraries:
ld='env MACOSX_DEPLOYMENT_TARGET=10.3 cc', ldflags =' -fstack-protector'
libpth=/usr/lib
libs=-ldbm -ldl -lm -lutil -lc
perllibs=-ldl -lm -lutil -lc
libc=, so=dylib, useshrplib=false, libperl=libperl.a
gnulibc_version=''
Dynamic Linking:
dlsrc=dl_dlopen.xs, dlext=bundle, d_dlsymun=undef, ccdlflags=' '
cccdlflags=' ', lddlflags=' -bundle -undefined dynamic_lookup -fstack-protector'
Characteristics of this binary (from libperl):
Compile-time options: HAS_TIMES PERLIO_LAYERS PERL_DONT_CREATE_GVSV
PERL_MALLOC_WRAP PERL_PRESERVE_IVUV USE_64_BIT_ALL
USE_64_BIT_INT USE_LARGE_FILES USE_LOCALE
USE_LOCALE_COLLATE USE_LOCALE_CTYPE
USE_LOCALE_NUMERIC USE_PERLIO USE_PERL_ATOF
Built under darwin
Compiled at Mar 4 2013 16:03:07
%ENV:
PERL5LIB="/Users/hornenj/.cpan/build/DateTime-Format-Flexible-0.26-GvdI4_/blib/arch:/Users/hornenj/.cpan/build/DateTime-Format-Flexible-0.26-GvdI4_/blib/lib:/Users/hornenj/.cpan/build/DateTime-Format-Builder-0.81-R88yvh/blib/arch:/Users/hornenj/.cpan/build/DateTime-Format-Builder-0.81-R88yvh/blib/lib:/Users/hornenj/.cpan/build/Class-Factory-Util-1.7-3Ahoe5/blib/arch:/Users/hornenj/.cpan/build/Class-Factory-Util-1.7-3Ahoe5/blib/lib:/Users/hornenj/.cpan/build/MooseX-ShortCut-BuildInstance-v1.34.4-N8CoiD/blib/arch:/Users/hornenj/.cpan/build/MooseX-ShortCut-BuildInstance-v1.34.4-N8CoiD/blib/lib:/Users/hornenj/.cpan/build/DateTimeX-Format-Excel-v0.12.26-w7FXn9/blib/arch:/Users/hornenj/.cpan/build/DateTimeX-Format-Excel-v0.12.26-w7FXn9/blib/lib:/Users/hornenj/.cpan/build/Smart-Comments-1.000005-gM0qra/blib/arch:/Users/hornenj/.cpan/build/Smart-Comments-1.000005-gM0qra/blib/lib:/Users/hornenj/.cpan/build/MooseX-HasDefaults-0.03-4cu2z9/blib/arch:/Users/hornenj/.cpan/build/MooseX-HasDefaults-0.03-4cu2z9/blib/lib:/Users/hornenj/.cpan/build/MooseX-StrictConstructor-0.19-mt8RSG/blib/arch:/Users/hornenj/.cpan/build/MooseX-StrictConstructor-0.19-mt8RSG/blib/lib:/Users/hornenj/.cpan/build/Alien-LibXML-0.003-st8AYn/blib/arch:/Users/hornenj/.cpan/build/Alien-LibXML-0.003-st8AYn/blib/lib"
PERL5OPT=""
PERL5_CPANPLUS_IS_RUNNING="67896"
PERL5_CPAN_IS_RUNNING="67896"
PERL5_MINISMOKEBOX="0.58"
PERLBREW_BASHRC_VERSION="0.73"
PERLBREW_HOME="/Users/hornenj/.perlbrew"
PERLBREW_LIB=""
PERLBREW_MANPATH="/Users/hornenj/perl5/perlbrew/perls/perl-5.16.2/man"
PERLBREW_PATH="/Users/hornenj/perl5/perlbrew/bin:/Users/hornenj/perl5/perlbrew/perls/perl-5.16.2/bin"
PERLBREW_PERL="perl-5.16.2"
PERLBREW_ROOT="/Users/hornenj/perl5/perlbrew"
PERLBREW_VERSION="0.73"
PERL_EXTUTILS_AUTOINSTALL="--defaultdeps"
PERL_LOCAL_LIB_ROOT=""
PERL_MM_USE_DEFAULT="1"
@INC:
/Users/hornenj/.cpan/build/DateTime-Format-Flexible-0.26-GvdI4_/blib/arch
/Users/hornenj/.cpan/build/DateTime-Format-Flexible-0.26-GvdI4_/blib/lib
/Users/hornenj/.cpan/build/DateTime-Format-Builder-0.81-R88yvh/blib/arch
/Users/hornenj/.cpan/build/DateTime-Format-Builder-0.81-R88yvh/blib/lib
/Users/hornenj/.cpan/build/Class-Factory-Util-1.7-3Ahoe5/blib/arch
/Users/hornenj/.cpan/build/Class-Factory-Util-1.7-3Ahoe5/blib/lib
/Users/hornenj/.cpan/build/MooseX-ShortCut-BuildInstance-v1.34.4-N8CoiD/blib/arch
/Users/hornenj/.cpan/build/MooseX-ShortCut-BuildInstance-v1.34.4-N8CoiD/blib/lib
/Users/hornenj/.cpan/build/DateTimeX-Format-Excel-v0.12.26-w7FXn9/blib/arch
/Users/hornenj/.cpan/build/DateTimeX-Format-Excel-v0.12.26-w7FXn9/blib/lib
/Users/hornenj/.cpan/build/Smart-Comments-1.000005-gM0qra/blib/arch
/Users/hornenj/.cpan/build/Smart-Comments-1.000005-gM0qra/blib/lib
/Users/hornenj/.cpan/build/MooseX-HasDefaults-0.03-4cu2z9/blib/arch
/Users/hornenj/.cpan/build/MooseX-HasDefaults-0.03-4cu2z9/blib/lib
/Users/hornenj/.cpan/build/MooseX-StrictConstructor-0.19-mt8RSG/blib/arch
/Users/hornenj/.cpan/build/MooseX-StrictConstructor-0.19-mt8RSG/blib/lib
/Users/hornenj/.cpan/build/Alien-LibXML-0.003-st8AYn/blib/arch
/Users/hornenj/.cpan/build/Alien-LibXML-0.003-st8AYn/blib/lib
/Users/hornenj/perl5/perlbrew/perls/perl-5.16.2/lib/site_perl/5.16.2/darwin-2level
/Users/hornenj/perl5/perlbrew/perls/perl-5.16.2/lib/site_perl/5.16.2
/Users/hornenj/perl5/perlbrew/perls/perl-5.16.2/lib/5.16.2/darwin-2level
/Users/hornenj/perl5/perlbrew/perls/perl-5.16.2/lib/5.16.2
.