Object-InsideOut v4.04 Perl 5 v5.24.3 x86_64-linux

Status
Pass
From
Andreas J. König (ANDK)
Dist
Object-InsideOut v4.04
Platform
Perl 5 v5.24.3 x86_64-linux
Date
2017-09-26 11:27:22
ID
a9f4828c-a2ad-11e7-bdf1-73e16a005959
This distribution has been tested as part of the CPAN Testers
project, supporting the Perl programming language.  See
http://wiki.cpantesters.org/ for more information or email
questions to cpan-testers-discuss@perl.org


--
Dear Jerry D. Hedden,

This is a computer-generated report for Object-InsideOut-4.04
on perl 5.24.3, created by CPAN-Reporter-1.2018.

Thank you for uploading your work to CPAN.  Congratulations!
All tests were successful.

Sections of this report:

    * Tester comments
    * Program output
    * Prerequisites
    * Environment and other context

------------------------------
TESTER COMMENTS
------------------------------

Additional comments from tester:

this report is from an automated smoke testing program
and was not reviewed by a human for accuracy

------------------------------
PROGRAM OUTPUT
------------------------------

Output from './Build test':

# Testing Object::InsideOut 4.04
t/00-load.t ................. ok
t/01-basic.t ................ ok
t/01a-basic.t ............... ok
t/02-auto.t ................. ok
t/03-threads.t .............. skipped: Threads not supported
t/03a-threads.t ............. skipped: Threads not supported
t/04-shared.t ............... skipped: Threads not supported
t/04a-shared.t .............. skipped: Threads not supported
t/05-require.t .............. ok
t/05a-require.t ............. ok
t/06-id.t ................... ok
t/07-dump.t ................. ok
t/07a-dump.t ................ ok
t/08-access.t ............... ok
t/09-chained.t .............. ok
t/09a-chained.t ............. ok
t/09b-chained.t ............. ok
t/10-cumulative.t ........... ok
t/10a-cumulative.t .......... ok
t/10b-cumulative.t .......... ok
t/11-coercion.t ............. ok
t/12-super.t ................ ok
t/13-pump.t ................. ok
t/14-auto_cc.t .............. ok
t/15-type.t ................. ok
t/15a-type.t ................ ok
t/16-return.t ............... ok
t/17-dynamic.t .............. ok
t/18-inherit.t .............. ok
t/18a-inherit.t ............. ok
t/19-storable.t ............. ok
t/20-clone.t ................ ok
t/21-import.t ............... ok
t/22-import.t ............... ok
t/23-weak.t ................. ok
t/24-preproc.t .............. ok
t/25-access.t ............... ok
t/26-preinit.t .............. ok
t/27-exception.t ............ ok
t/28-lvalue.t ............... ok
t/29-non_lvalue.t ........... ok
t/30-all.t .................. ok
t/31-attr.t ................. ok
t/32-meta.t ................. ok
t/33-hash_only.t ............ ok
t/34-secure.t ............... skipped: Math::Random::MT::Auto not available
t/34a-secure.t .............. skipped: Threads not supported
t/35-add_class.t ............ ok
t/36-require.t .............. ok
t/37-class_perm.t ........... ok
t/38-combined.t ............. ok
t/39-fork.t ................. skipped: Not using pseudo-forks
t/40-normalize.t ............ ok
t/41-def.t .................. ok
t/42-sh_obj.t ............... skipped: Threads not supported
t/43-overload.t ............. skipped: Threads not supported
t/44-data.t ................. skipped: Threads not supported
t/45-unused.t ............... ok
t/46-singleton.t ............ skipped: Threads not supported
t/46a-singleton.t ........... skipped: Threads not supported
t/47-sh_reuse.t ............. skipped: Threads not supported
t/48-not_shared.t ........... skipped: Threads not supported
t/49-delegators.t ........... ok
t/49a-delegators-non-OIO.t .. ok
t/50-active_defs.t .......... ok
t/51-readonly.t ............. ok
t/99-pod.t .................. skipped: Module maintainer tests
All tests successful.
Files=67, Tests=1138, 26 wallclock secs ( 0.14 usr  0.55 sys +  5.83 cusr  1.22 csys =  7.74 CPU)
Result: PASS

------------------------------
PREREQUISITES
------------------------------

Prerequisite modules loaded:

requires:

    Module              Need   Have    
    ------------------- ------ --------
    attributes          0      0.27    
    B                   0      1.62    
    Config              0      5.024003
    Data::Dumper        0      2.161   
    Exception::Class    1.22   1.43    
    overload            0      1.26    
    perl                v5.6.0 5.024003
    Scalar::Util        1.49   1.49    
    strict              0      1.11    
    warnings            0      1.36    

build_requires:

    Module              Need   Have    
    ------------------- ------ --------
    Test::More          0.5    1.302096

configure_requires:

    Module              Need   Have    
    ------------------- ------ --------
    ExtUtils::MakeMaker 0      7.30    


------------------------------
ENVIRONMENT AND OTHER CONTEXT
------------------------------

Environment variables:

    AUTOMATED_TESTING = 1
    LANG = en_US.UTF-8
    PATH = /home/sand/bin:/usr/local/bin:/usr/bin:/bin:/usr/games:/usr/local/perl/bin:/usr/X11/bin:/sbin:/usr/sbin
    PERL5LIB = /tmp/loop_over_bdir-10065-j1xc75/Devel-Symdump-2.18-0/blib/arch:/tmp/loop_over_bdir-10065-j1xc75/Devel-Symdump-2.18-0/blib/lib
    PERL5OPT = 
    PERL5_CPANPLUS_IS_RUNNING = 10067
    PERL5_CPAN_IS_RUNNING = 10067
    PERL5_CPAN_IS_RUNNING_IN_RECURSION = 5668,10067
    PERL_CANARY_STABILITY_NOPROMPT = 1
    PERL_MM_USE_DEFAULT = 1
    PERL_USE_UNSAFE_INC = 1
    SHELL = /usr/bin/zsh
    TERM = screen

Perl special variables (and OS-specific diagnostics, for MSWin32):

    $^X = /home/sand/src/perl/repoperls/installed-perls/host/k93msid/v5.24.3/89ad/bin/perl
    $UID/$EUID = 1005 / 1005
    $GID = 1005 1005
    $EGID = 1005 1005

Perl module toolchain versions installed:

    Module              Have      
    ------------------- ----------
    CPAN                2.18      
    CPAN::Meta          2.150010  
    Cwd                 3.63_01   
    ExtUtils::CBuilder  0.280226  
    ExtUtils::Command   7.30      
    ExtUtils::Install   2.06      
    ExtUtils::MakeMaker 7.30      
    ExtUtils::Manifest  1.70      
    ExtUtils::ParseXS   3.31      
    File::Spec          3.63_01   
    JSON                2.94      
    JSON::PP            2.27300_01
    Module::Build       0.4224    
    Module::Signature   0.81      
    Parse::CPAN::Meta   2.150010  
    Test::Harness       3.39      
    Test::More          1.302096  
    YAML                1.23      
    YAML::Syck          1.30      
    version             0.9916    


--

Summary of my perl5 (revision 5 version 24 subversion 3) configuration:
  Derived from: 9f1d3884c227a955e9ecaaadba4cba3280c47e3a
  Platform:
    osname=linux, osvers=4.9.0-2-amd64, archname=x86_64-linux
    uname='linux k93msid 4.9.0-2-amd64 #1 smp debian 4.9.18-1 (2017-03-30) x86_64 gnulinux '
    config_args='-Dprefix=/home/sand/src/perl/repoperls/installed-perls/host/k93msid/v5.24.3/89ad -Dmyhostname=k93msid -Dinstallusrbinperl=n -Uversiononly -Dusedevel -des -Ui_db -Dlibswanted=cl pthread socket inet nsl gdbm dbm malloc dl ld sun m crypt sec util c cposix posix ucb BSD gdbm_compat -Uuseithreads -Uuselongdouble -DDEBUGGING=-g'
    hint=recommended, useposix=true, d_sigaction=define
    useithreads=undef, usemultiplicity=undef
    use64bitint=define, use64bitall=define, uselongdouble=undef
    usemymalloc=n, bincompat5005=undef
  Compiler:
    cc='cc', ccflags ='-fwrapv -fno-strict-aliasing -pipe -fstack-protector-strong -I/usr/local/include -D_LARGEFILE_SOURCE -D_FILE_OFFSET_BITS=64 -D_FORTIFY_SOURCE=2',
    optimize='-O2 -g',
    cppflags='-fwrapv -fno-strict-aliasing -pipe -fstack-protector-strong -I/usr/local/include'
    ccversion='', gccversion='6.3.0 20170406', gccosandvers=''
    intsize=4, longsize=8, ptrsize=8, doublesize=8, byteorder=12345678, doublekind=3
    d_longlong=define, longlongsize=8, d_longdbl=define, longdblsize=16, longdblkind=3
    ivtype='long', ivsize=8, nvtype='double', nvsize=8, Off_t='off_t', lseeksize=8
    alignbytes=8, prototype=define
  Linker and Libraries:
    ld='cc', ldflags =' -fstack-protector-strong -L/usr/local/lib'
    libpth=/usr/local/lib /usr/lib/gcc/x86_64-linux-gnu/6/include-fixed /usr/include/x86_64-linux-gnu /usr/lib /lib/x86_64-linux-gnu /lib/../lib /usr/lib/x86_64-linux-gnu /usr/lib/../lib /lib
    libs=-lpthread -lnsl -ldl -lm -lcrypt -lutil -lc
    perllibs=-lpthread -lnsl -ldl -lm -lcrypt -lutil -lc
    libc=libc-2.24.so, so=so, useshrplib=false, libperl=libperl.a
    gnulibc_version='2.24'
  Dynamic Linking:
    dlsrc=dl_dlopen.xs, dlext=so, d_dlsymun=undef, ccdlflags='-Wl,-E'
    cccdlflags='-fPIC', lddlflags='-shared -O2 -g -L/usr/local/lib -fstack-protector-strong'


Characteristics of this binary (from libperl): 
  Compile-time options: HAS_TIMES PERLIO_LAYERS PERL_COPY_ON_WRITE
                        PERL_DONT_CREATE_GVSV
                        PERL_HASH_FUNC_ONE_AT_A_TIME_HARD PERL_MALLOC_WRAP
                        PERL_PRESERVE_IVUV PERL_USE_DEVEL USE_64_BIT_ALL
                        USE_64_BIT_INT USE_LARGE_FILES USE_LOCALE
                        USE_LOCALE_COLLATE USE_LOCALE_CTYPE
                        USE_LOCALE_NUMERIC USE_LOCALE_TIME USE_PERLIO
                        USE_PERL_ATOF
  Locally applied patches:
	uncommitted-changes
  Built under linux
  Compiled at Sep 23 2017 22:06:42
  %ENV:
    PERL5LIB="/tmp/loop_over_bdir-10065-j1xc75/Devel-Symdump-2.18-0/blib/arch:/tmp/loop_over_bdir-10065-j1xc75/Devel-Symdump-2.18-0/blib/lib"
    PERL5OPT=""
    PERL5_CPANPLUS_IS_RUNNING="10067"
    PERL5_CPAN_IS_RUNNING="10067"
    PERL5_CPAN_IS_RUNNING_IN_RECURSION="5668,10067"
    PERL_CANARY_STABILITY_NOPROMPT="1"
    PERL_MM_USE_DEFAULT="1"
    PERL_USE_UNSAFE_INC="1"
  @INC:
    /tmp/loop_over_bdir-10065-j1xc75/Devel-Symdump-2.18-0/blib/arch
    /tmp/loop_over_bdir-10065-j1xc75/Devel-Symdump-2.18-0/blib/lib
    /home/sand/src/perl/repoperls/installed-perls/host/k93msid/v5.24.3/89ad/lib/site_perl/5.24.3/x86_64-linux
    /home/sand/src/perl/repoperls/installed-perls/host/k93msid/v5.24.3/89ad/lib/site_perl/5.24.3
    /home/sand/src/perl/repoperls/installed-perls/host/k93msid/v5.24.3/89ad/lib/5.24.3/x86_64-linux
    /home/sand/src/perl/repoperls/installed-perls/host/k93msid/v5.24.3/89ad/lib/5.24.3
    .