Report for Filter-Crypto-2.07

Back
From: metabase:user:a775b512-5229-11e4-9828-f1a611f16c33
Subject: PASS Filter-Crypto-2.07 v5.24.0 GNU/Linux
Date: 2016-07-08T19:46:29Z

This distribution has been tested as part of the CPAN Testers
project, supporting the Perl programming language.  See
http://wiki.cpantesters.org/ for more information or email
questions to cpan-testers-discuss@perl.org


--
Dear Steve Hay,

This is a computer-generated report for Filter-Crypto-2.07
on perl 5.24.0, created by CPAN-Reporter-1.2018.

Thank you for uploading your work to CPAN.  Congratulations!
All tests were successful.

Sections of this report:

    * Tester comments
    * Program output
    * Prerequisites
    * Environment and other context

------------------------------
TESTER COMMENTS
------------------------------

Additional comments from tester:

none provided

------------------------------
PROGRAM OUTPUT
------------------------------

Output from '/usr/bin/make test':

make[1]: Entering directory '/home/mauke/.cpan/build/Filter-Crypto-2.07-0/CryptFile'
"/home/mauke/usr/bin/perl" -MExtUtils::Command::MM -e 'cp_nonempty' -- CryptFile.bs ../blib/arch/auto/Filter/Crypto/CryptFile/CryptFile.bs 644
make[1]: Leaving directory '/home/mauke/.cpan/build/Filter-Crypto-2.07-0/CryptFile'
make[1]: Entering directory '/home/mauke/.cpan/build/Filter-Crypto-2.07-0/Decrypt'
"/home/mauke/usr/bin/perl" -MExtUtils::Command::MM -e 'cp_nonempty' -- Decrypt.bs ../blib/arch/auto/Filter/Crypto/Decrypt/Decrypt.bs 644
make[1]: Leaving directory '/home/mauke/.cpan/build/Filter-Crypto-2.07-0/Decrypt'
PERL_DL_NONLAZY=1 "/home/mauke/usr/bin/perl" "-MExtUtils::Command::MM" "-MTest::Harness" "-e" "undef *Test::Harness::Switches; test_harness(0, 'blib/lib', 'blib/arch')" t/*.t
t/01_imports_01.t .... ok
t/01_imports_02.t .... ok
t/01_imports_03.t .... ok
t/01_imports_04.t .... ok
t/02_function.t ...... ok
t/03_script.t ........ ok
t/04_par.t ........... skipped: PAR::Filter required to test PAR::Filter::Crypto
t/05_errstr.t ........ ok
t/06_changes.t ....... skipped: Author testing only
t/07_critic.t ........ skipped: Author testing only
t/08_pod.t ........... skipped: Author testing only
t/09_pod_coverage.t .. skipped: Author testing only
All tests successful.
Files=12, Tests=432, 16 wallclock secs ( 0.13 usr  0.01 sys + 14.76 cusr  0.98 csys = 15.88 CPU)
Result: PASS

------------------------------
PREREQUISITES
------------------------------

Prerequisite modules loaded:

requires:

    Module                Need     Have     
    --------------------- -------- ---------
    Carp                  0        1.40     
    Config                0        5.024000 
    constant              0        1.33     
    Cwd                   0        3.63     
    Exporter              0        5.72     
    ExtUtils::MakeMaker   6.66     7.18     
    Fcntl                 0        1.13     
    File::Basename        0        2.85     
    File::Copy            0        2.31     
    File::Find            0        1.34     
    File::Spec::Functions 0        3.63     
    File::Temp            0        0.2304   
    Getopt::Long          0        2.49     
    perl                  5.008001 5.024000 
    Pod::Usage            1.15     1.69     
    Scalar::Util          0        1.45     
    strict                0        1.11     
    Text::ParseWords      0        3.30     
    Text::Wrap            0        2013.0523
    warnings              0        1.36     
    XSLoader              0        0.21     

build_requires:

    Module                Need     Have     
    --------------------- -------- ---------
    blib                  0        1.06     
    ExtUtils::MakeMaker   0        7.18     
    FindBin               0        1.51     
    Test::More            0        1.302035 

configure_requires:

    Module                Need     Have     
    --------------------- -------- ---------
    Carp                  0        1.40     
    Config                0        5.024000 
    constant              0        1.33     
    Cwd                   0        3.63     
    ExtUtils::MakeMaker   6.66     7.18     
    Fcntl                 0        1.13     
    File::Basename        0        2.85     
    File::Copy            0        2.31     
    File::Spec::Functions 0        3.63     
    Getopt::Long          0        2.49     
    perl                  5.008001 5.024000 
    Pod::Usage            1.15     1.69     
    strict                0        1.11     
    Text::Wrap            0        2013.0523
    warnings              0        1.36     


------------------------------
ENVIRONMENT AND OTHER CONTEXT
------------------------------

Environment variables:

    LANG = en_US.UTF-8
    LANGUAGE = en_US
    LC_COLLATE = C
    LC_MONETARY = de_DE.UTF-8
    LC_TIME = de_DE.UTF-8
    NONINTERACTIVE_TESTING = 1
    PATH = /home/mauke/perl5/perlbrew/bin:/home/mauke/bin:/usr/local/sbin:/usr/local/bin:/usr/bin:/usr/bin/site_perl:/usr/bin/vendor_perl:/usr/bin/core_perl
    PERL5LIB = 
    PERL5OPT = 
    PERL5_CPANPLUS_IS_RUNNING = 3800
    PERL5_CPAN_IS_RUNNING = 3800
    PERLBREW_BASHRC_VERSION = 0.73
    PERLBREW_HOME = /home/mauke/.perlbrew
    PERLBREW_PATH = /home/mauke/perl5/perlbrew/bin
    PERLBREW_ROOT = /home/mauke/perl5/perlbrew
    PERLBREW_VERSION = 0.75
    PERL_MM_USE_DEFAULT = 1
    PERL_UNICODE = SAL
    SHELL = /bin/bash
    TERM = tmux

Perl special variables (and OS-specific diagnostics, for MSWin32):

    $^X = /home/mauke/usr/bin/perl
    $UID/$EUID = 1000 / 1000
    $GID = 1000 10 12 24 50 100 1000
    $EGID = 1000 10 12 24 50 100 1000

Perl module toolchain versions installed:

    Module              Have    
    ------------------- --------
    CPAN                2.14    
    CPAN::Meta          2.150005
    Cwd                 3.63    
    ExtUtils::CBuilder  0.280225
    ExtUtils::Command   7.18    
    ExtUtils::Install   2.04    
    ExtUtils::MakeMaker 7.18    
    ExtUtils::Manifest  1.70    
    ExtUtils::ParseXS   3.31    
    File::Spec          3.63    
    JSON                2.90    
    JSON::PP            2.27400 
    Module::Build       0.4218  
    Module::Signature   n/a     
    Parse::CPAN::Meta   1.4417  
    Test::Harness       3.36    
    Test::More          1.302035
    YAML                1.15    
    YAML::Syck          n/a     
    version             0.9917  


--

Summary of my perl5 (revision 5 version 24 subversion 0) configuration:
   
  Platform:
    osname=linux, osvers=4.4.5-1-arch, archname=i686-linux
    uname='linux simplicio 4.4.5-1-arch #1 smp preempt thu mar 10 07:54:30 cet 2016 i686 gnulinux '
    config_args=''
    hint=previous, useposix=true, d_sigaction=define
    useithreads=undef, usemultiplicity=undef
    use64bitint=undef, use64bitall=undef, uselongdouble=undef
    usemymalloc=n, bincompat5005=undef
  Compiler:
    cc='cc', ccflags ='-fwrapv -fno-strict-aliasing -pipe -fstack-protector-strong -I/usr/local/include -D_LARGEFILE_SOURCE -D_FILE_OFFSET_BITS=64',
    optimize='-O2 -flto',
    cppflags='-fwrapv -fno-strict-aliasing -pipe -fstack-protector-strong -I/usr/local/include'
    ccversion='', gccversion='6.1.1 20160501', gccosandvers=''
    intsize=4, longsize=4, ptrsize=4, doublesize=8, byteorder=1234, doublekind=3
    d_longlong=define, longlongsize=8, d_longdbl=define, longdblsize=12, longdblkind=3
    ivtype='long', ivsize=4, nvtype='double', nvsize=8, Off_t='off_t', lseeksize=8
    alignbytes=4, prototype=define
  Linker and Libraries:
    ld='cc', ldflags ='-fstack-protector-strong -L/usr/local/lib -flto'
    libpth=/usr/local/lib /usr/lib/gcc/i686-pc-linux-gnu/6.1.1/include-fixed /usr/lib /lib /usr/local/lib /usr/lib/gcc/i686-pc-linux-gnu/6.1.1/include-fixed /usr/lib
    libs=-lpthread -lnsl -lgdbm -ldb -ldl -lm -lcrypt -lutil -lc -lgdbm_compat
    perllibs=-lpthread -lnsl -ldl -lm -lcrypt -lutil -lc
    libc=libc-2.23.so, so=so, useshrplib=false, libperl=libperl.a
    gnulibc_version='2.23'
  Dynamic Linking:
    dlsrc=dl_dlopen.xs, dlext=so, d_dlsymun=undef, ccdlflags='-Wl,-E'
    cccdlflags='-fPIC', lddlflags='-shared -O2 -flto -L/usr/local/lib -fstack-protector-strong'


Characteristics of this binary (from libperl): 
  Compile-time options: HAS_TIMES PERLIO_LAYERS PERL_COPY_ON_WRITE
                        PERL_DONT_CREATE_GVSV
                        PERL_HASH_FUNC_ONE_AT_A_TIME_HARD PERL_MALLOC_WRAP
                        PERL_PRESERVE_IVUV USE_LARGE_FILES USE_LOCALE
                        USE_LOCALE_COLLATE USE_LOCALE_CTYPE
                        USE_LOCALE_NUMERIC USE_LOCALE_TIME USE_PERLIO
                        USE_PERL_ATOF
  Built under linux
  Compiled at May  9 2016 21:28:15
  %ENV:
    PERL5LIB=""
    PERL5OPT=""
    PERL5_CPANPLUS_IS_RUNNING="3800"
    PERL5_CPAN_IS_RUNNING="3800"
    PERLBREW_BASHRC_VERSION="0.73"
    PERLBREW_HOME="/home/mauke/.perlbrew"
    PERLBREW_PATH="/home/mauke/perl5/perlbrew/bin"
    PERLBREW_ROOT="/home/mauke/perl5/perlbrew"
    PERLBREW_VERSION="0.75"
    PERL_MM_USE_DEFAULT="1"
    PERL_UNICODE="SAL"
  @INC:
    /home/mauke/usr/lib/perl5/site_perl/5.24.0/i686-linux
    /home/mauke/usr/lib/perl5/site_perl/5.24.0
    /home/mauke/usr/lib/perl5/5.24.0/i686-linux
    /home/mauke/usr/lib/perl5/5.24.0
    .