Report for MarpaX-Languages-SQL2003-AST-0.005

Back
From: metabase:user:838e5b0a-2bb6-1016-a696-43a2537fa0c6
Subject: PASS MarpaX-Languages-SQL2003-AST-0.005 v5.18.1 
Date: 2014-12-17T23:09:32Z

This distribution has been tested as part of the CPAN Testers
project, supporting the Perl programming language.  See
http://wiki.cpantesters.org/ for more information or email
questions to cpan-testers-discuss@perl.org


--
Dear Jean-Damien Durand,

This is a computer-generated report for MarpaX-Languages-SQL2003-AST-0.005
on perl 5.18.1, created by CPAN-Reporter-1.2011.

Thank you for uploading your work to CPAN.  Congratulations!
All tests were successful.

Sections of this report:

    * Tester comments
    * Program output
    * Prerequisites
    * Environment and other context

------------------------------
TESTER COMMENTS
------------------------------

Additional comments from tester:

this report is from an automated smoke testing program
and was not reviewed by a human for accuracy

------------------------------
PROGRAM OUTPUT
------------------------------

Output from 'C:\strawberry\c\bin\dmake.exe test':

C:\strawberry\perl\bin\perl.exe "-MExtUtils::Command::MM" "-MTest::Harness" "-e" "undef *Test::Harness::Switches; test_harness(0, 'blib\lib', 'blib\arch')" t/*.t
t/00-compile.t ......... ok
# 
# Versions for all modules listed in MYMETA.json (including optional ones):
# 
# === Configure Requires ===
# 
#     Module              Want Have
#     ------------------- ---- ----
#     ExtUtils::MakeMaker  any 6.86
# 
# === Build Requires ===
# 
#     Module              Want Have
#     ------------------- ---- ----
#     ExtUtils::MakeMaker  any 6.86
# 
# === Test Requires ===
# 
#     Module              Want     Have
#     ------------------- ---- --------
#     Data::Section        any 0.200006
#     ExtUtils::MakeMaker  any     6.86
#     File::Spec           any     3.40
#     File::Temp           any   0.2304
#     IO::Handle           any     1.34
#     IPC::Open3           any     1.13
#     Test::More           any     0.98
# 
# === Test Recommends ===
# 
#     Module         Want     Have
#     ---------- -------- --------
#     CPAN::Meta 2.120900 2.133380
# 
# === Runtime Requires ===
# 
#     Module                Want       Have
#     ----------------- -------- ----------
#     Carp                   any       1.32
#     Data::Dumper           any      2.145
#     File::Slurp            any    9999.19
#     Getopt::Long           any       2.42
#     IO::String             any       1.08
#     Marpa::R2         2.100000   2.100000
#     Math::BigFloat         any      1.998
#     POSIX                  any       1.32
#     Pod::Usage             any       1.63
#     SUPER                  any 1.20120705
#     Scalar::Util           any       1.38
#     Win32::ShellQuote      any   0.002002
#     XML::LibXML            any     2.0106
#     parent                 any      0.228
#     strict                 any       1.07
#     warnings               any       1.18
# 
t/00-report-prereqs.t .. ok
t/all_tests.t .......... ok
All tests successful.
Files=3, Tests=22, 40 wallclock secs ( 0.06 usr +  0.05 sys =  0.11 CPU)
Result: PASS

------------------------------
PREREQUISITES
------------------------------

Prerequisite modules loaded:

requires:

    Module              Need     Have      
    ------------------- -------- ----------
    Carp                0        1.32      
    Data::Dumper        0        2.145     
    File::Slurp         0        9999.19   
    Getopt::Long        0        2.42      
    IO::String          0        1.08      
    Marpa::R2           2.100000 2.100000  
    Math::BigFloat      0        1.998     
    parent              0        0.228     
    perl                5.010    5.018001  
    Pod::Usage          0        1.63      
    POSIX               0        1.32      
    Scalar::Util        0        1.38      
    strict              0        1.07      
    SUPER               0        1.20120705
    warnings            0        1.18      
    Win32::ShellQuote   0        0.002002  
    XML::LibXML         0        2.0106    

build_requires:

    Module              Need     Have      
    ------------------- -------- ----------
    Data::Section       0        0.200006  
    ExtUtils::MakeMaker 0        6.86      
    File::Spec          0        3.40      
    File::Temp          0        0.2304    
    IO::Handle          0        1.34      
    IPC::Open3          0        1.13      
    Test::More          0        0.98      

configure_requires:

    Module              Need     Have      
    ------------------- -------- ----------
    ExtUtils::MakeMaker 0        6.86      
    perl                5.010    5.018001  


------------------------------
ENVIRONMENT AND OTHER CONTEXT
------------------------------

Environment variables:

    AUTOMATED_TESTING = 1
    COMSPEC = C:\Windows\system32\cmd.exe
    LD_LIBRARY_PATH = /usr/lib/x86:/usr/X11R6/lib
    NUMBER_OF_PROCESSORS = 4
    PATH = C:\Windows\system32;C:\Windows;C:\Windows\System32\Wbem;C:\Windows\System32\WindowsPowerShell\v1.0\;C:\RV\BIN;C:\Program Files (x86)\GnuWin32\bin;C:\Windows\System32\Windows System Resource Manager\bin;C:\Windows\SUA\common\;C:\Windows\SUA\usr\lib\;C:\strawberry\c\bin;C:\strawberry\perl\site\bin;C:\strawberry\perl\bin;C:\Program Files (x86)\Git\cmd
    PERL5LIB = C:\strawberry\cpan\build\Marpa-R2-2.100000-gPJXj1/blib/arch;C:\strawberry\cpan\build\Marpa-R2-2.100000-gPJXj1/blib/lib;C:\strawberry\cpan\build\Config-AutoConf-0.307-fhqTPZ/blib/arch;C:\strawberry\cpan\build\Config-AutoConf-0.307-fhqTPZ/blib/lib;C:\strawberry\cpan\build\Data-Section-0.200006-HcnHc9/blib/arch;C:\strawberry\cpan\build\Data-Section-0.200006-HcnHc9/blib/lib;C:\strawberry\cpan\build\Test-FailWarnings-0.008-w5wFoW/blib/arch;C:\strawberry\cpan\build\Test-FailWarnings-0.008-w5wFoW/blib/lib;C:\strawberry\cpan\build\SUPER-1.20120705-28EkDi/blib/arch;C:\strawberry\cpan\build\SUPER-1.20120705-28EkDi/blib/lib;C:\strawberry\cpan\build\Sub-Identify-0.08-V0DFOp/blib/arch;C:\strawberry\cpan\build\Sub-Identify-0.08-V0DFOp/blib/lib;C:\strawberry\cpan\build\Win32-ShellQuote-0.002002-bnjj4J/blib/arch;C:\strawberry\cpan\build\Win32-ShellQuote-0.002002-bnjj4J/blib/lib
    PERL5OPT = 
    PERL5_CPANPLUS_IS_RUNNING = 2556
    PERL5_CPAN_IS_RUNNING = 2556
    PERL5_CPAN_IS_RUNNING_IN_RECURSION = 1168,2556
    PERL_CR_SMOKER_CURRENT = MarpaX-Languages-SQL2003-AST-0.005
    PERL_EXTUTILS_AUTOINSTALL = --defaultdeps
    PERL_JSON_BACKEND = JSON::XS
    PERL_MM_USE_DEFAULT = 1
    PERL_YAML_BACKEND = YAML
    PROCESSOR_IDENTIFIER = Intel64 Family 6 Model 37 Stepping 1, GenuineIntel
    TEMP = C:\Users\SOLIMA~1\AppData\Local\Temp
    TERM = dumb

Perl special variables (and OS-specific diagnostics, for MSWin32):

    $^X = C:\strawberry\perl\bin\perl.exe
    $UID/$EUID = 0 / 0
    $GID = 0
    $EGID = 0
    Win32::GetOSName = Win2008
    Win32::GetOSVersion = Service Pack 1, 6, 1, 7601, 2, 1, 0, 272, 3
    Win32::FsType = NTFS
    Win32::IsAdminUser = 1

Perl module toolchain versions installed:

    Module              Have    
    ------------------- --------
    CPAN                2.05    
    CPAN::Meta          2.133380
    Cwd                 3.40    
    ExtUtils::CBuilder  0.280212
    ExtUtils::Command   1.18    
    ExtUtils::Install   1.59    
    ExtUtils::MakeMaker 6.86    
    ExtUtils::Manifest  1.63    
    ExtUtils::ParseXS   3.22    
    File::Spec          3.40    
    JSON                2.90    
    JSON::PP            2.27203 
    Module::Build       0.4204  
    Module::Signature   n/a     
    Parse::CPAN::Meta   1.4409  
    Test::Harness       3.30    
    Test::More          0.98    
    YAML                0.84    
    YAML::Syck          n/a     
    version             0.9904  


--

Summary of my perl5 (revision 5 version 18 subversion 1) configuration:
   
  Platform:
    osname=MSWin32, osvers=4.0, archname=MSWin32-x64-multi-thread
    uname='Win32 strawberry-perl 5.18.1.1 #1 Tue Aug 13 17:18:28 2013 x64'
    config_args='undef'
    hint=recommended, useposix=true, d_sigaction=undef
    useithreads=define, usemultiplicity=define
    useperlio=define, d_sfio=undef, uselargefiles=define, usesocks=undef
    use64bitint=define, use64bitall=undef, uselongdouble=undef
    usemymalloc=n, bincompat5005=undef
  Compiler:
    cc='gcc', ccflags =' -s -O2 -DWIN32 -DWIN64 -DCONSERVATIVE  -DPERL_TEXTMODE_SCRIPTS -DPERL_IMPLICIT_CONTEXT -DPERL_IMPLICIT_SYS -DUSE_PERLIO -fno-strict-aliasing -mms-bitfields',
    optimize='-s -O2',
    cppflags='-DWIN32'
    ccversion='', gccversion='4.7.3', gccosandvers=''
    intsize=4, longsize=4, ptrsize=8, doublesize=8, byteorder=12345678
    d_longlong=define, longlongsize=8, d_longdbl=define, longdblsize=12
    ivtype='long long', ivsize=8, nvtype='double', nvsize=8, Off_t='long long', lseeksize=8
    alignbytes=8, prototype=define
  Linker and Libraries:
    ld='g++', ldflags ='-s -L"C:\strawberry\perl\lib\CORE" -L"C:\strawberry\c\lib"'
    libpth=C:\strawberry\c\lib C:\strawberry\c\x86_64-w64-mingw32\lib
    libs=-lmoldname -lkernel32 -luser32 -lgdi32 -lwinspool -lcomdlg32 -ladvapi32 -lshell32 -lole32 -loleaut32 -lnetapi32 -luuid -lws2_32 -lmpr -lwinmm -lversion -lodbc32 -lodbccp32 -lcomctl32
    perllibs=-lmoldname -lkernel32 -luser32 -lgdi32 -lwinspool -lcomdlg32 -ladvapi32 -lshell32 -lole32 -loleaut32 -lnetapi32 -luuid -lws2_32 -lmpr -lwinmm -lversion -lodbc32 -lodbccp32 -lcomctl32
    libc=, so=dll, useshrplib=true, libperl=libperl518.a
    gnulibc_version=''
  Dynamic Linking:
    dlsrc=dl_win32.xs, dlext=dll, d_dlsymun=undef, ccdlflags=' '
    cccdlflags=' ', lddlflags='-mdll -s -L"C:\strawberry\perl\lib\CORE" -L"C:\strawberry\c\lib"'


Characteristics of this binary (from libperl): 
  Compile-time options: HAS_TIMES HAVE_INTERP_INTERN MULTIPLICITY
                        PERLIO_LAYERS PERL_DONT_CREATE_GVSV
                        PERL_HASH_FUNC_ONE_AT_A_TIME_HARD
                        PERL_IMPLICIT_CONTEXT PERL_IMPLICIT_SYS
                        PERL_MALLOC_WRAP PERL_PRESERVE_IVUV PERL_SAWAMPERSAND
                        USE_64_BIT_INT USE_ITHREADS USE_LARGE_FILES
                        USE_LOCALE USE_LOCALE_COLLATE USE_LOCALE_CTYPE
                        USE_LOCALE_NUMERIC USE_PERLIO USE_PERL_ATOF
  Built under MSWin32
  Compiled at Aug 13 2013 17:23:34
  %ENV:
    PERL5LIB="C:\strawberry\cpan\build\Marpa-R2-2.100000-gPJXj1/blib/arch;C:\strawberry\cpan\build\Marpa-R2-2.100000-gPJXj1/blib/lib;C:\strawberry\cpan\build\Config-AutoConf-0.307-fhqTPZ/blib/arch;C:\strawberry\cpan\build\Config-AutoConf-0.307-fhqTPZ/blib/lib;C:\strawberry\cpan\build\Data-Section-0.200006-HcnHc9/blib/arch;C:\strawberry\cpan\build\Data-Section-0.200006-HcnHc9/blib/lib;C:\strawberry\cpan\build\Test-FailWarnings-0.008-w5wFoW/blib/arch;C:\strawberry\cpan\build\Test-FailWarnings-0.008-w5wFoW/blib/lib;C:\strawberry\cpan\build\SUPER-1.20120705-28EkDi/blib/arch;C:\strawberry\cpan\build\SUPER-1.20120705-28EkDi/blib/lib;C:\strawberry\cpan\build\Sub-Identify-0.08-V0DFOp/blib/arch;C:\strawberry\cpan\build\Sub-Identify-0.08-V0DFOp/blib/lib;C:\strawberry\cpan\build\Win32-ShellQuote-0.002002-bnjj4J/blib/arch;C:\strawberry\cpan\build\Win32-ShellQuote-0.002002-bnjj4J/blib/lib"
    PERL5_CPANPLUS_IS_RUNNING="2556"
    PERL5_CPAN_IS_RUNNING="2556"
    PERL5_CPAN_IS_RUNNING_IN_RECURSION="1168,2556"
    PERL_CR_SMOKER_CURRENT="MarpaX-Languages-SQL2003-AST-0.005"
    PERL_EXTUTILS_AUTOINSTALL="--defaultdeps"
    PERL_JSON_BACKEND="JSON::XS"
    PERL_MM_USE_DEFAULT="1"
    PERL_YAML_BACKEND="YAML"
  @INC:
    C:\strawberry\cpan\build\Marpa-R2-2.100000-gPJXj1/blib/arch
    C:\strawberry\cpan\build\Marpa-R2-2.100000-gPJXj1/blib/lib
    C:\strawberry\cpan\build\Config-AutoConf-0.307-fhqTPZ/blib/arch
    C:\strawberry\cpan\build\Config-AutoConf-0.307-fhqTPZ/blib/lib
    C:\strawberry\cpan\build\Data-Section-0.200006-HcnHc9/blib/arch
    C:\strawberry\cpan\build\Data-Section-0.200006-HcnHc9/blib/lib
    C:\strawberry\cpan\build\Test-FailWarnings-0.008-w5wFoW/blib/arch
    C:\strawberry\cpan\build\Test-FailWarnings-0.008-w5wFoW/blib/lib
    C:\strawberry\cpan\build\SUPER-1.20120705-28EkDi/blib/arch
    C:\strawberry\cpan\build\SUPER-1.20120705-28EkDi/blib/lib
    C:\strawberry\cpan\build\Sub-Identify-0.08-V0DFOp/blib/arch
    C:\strawberry\cpan\build\Sub-Identify-0.08-V0DFOp/blib/lib
    C:\strawberry\cpan\build\Win32-ShellQuote-0.002002-bnjj4J/blib/arch
    C:\strawberry\cpan\build\Win32-ShellQuote-0.002002-bnjj4J/blib/lib
    C:/strawberry/perl/site/lib
    C:/strawberry/perl/vendor/lib
    C:/strawberry/perl/lib
    .