Report for XML-TreePP-0.41

Back
From: metabase:user:e3434da8-b236-11df-85ca-0247c6d74bde
Subject: PASS XML-TreePP-0.41 v5.8.9 GNU/Linux
Date: 2010-11-02T13:39:49Z

This distribution has been tested as part of the CPAN Testers
project, supporting the Perl programming language.  See
http://wiki.cpantesters.org/ for more information or email
questions to cpan-testers-discuss@perl.org


--
Dear Yusuke Kawasaki,

This is a computer-generated report for XML-TreePP-0.41
on perl 5.8.9, created by CPAN-Reporter-1.1803.

Thank you for uploading your work to CPAN.  Congratulations!
All tests were successful.

Sections of this report:

    * Tester comments
    * Program output
    * Prerequisites
    * Environment and other context

------------------------------
TESTER COMMENTS
------------------------------

Additional comments from tester:

this report is from an automated smoke testing program
and was not reviewed by a human for accuracy

------------------------------
PROGRAM OUTPUT
------------------------------

Output from '/usr/bin/make test':

PERL_DL_NONLAZY=1 /home/cpt3/testing/perl-5.8.9/bin/perl "-MExtUtils::Command::MM" "-e" "test_harness(0, 'blib/lib', 'blib/arch')" t/*.t
t/00_pod...................skipped
        all skipped: Test::Pod 1.00 required for testing POD
t/01_parse.................ok
t/02_write.................ok
t/03_parsefile.............ok
t/04_escape................ok
t/05_empty.................ok
t/06_cdata.................ok
t/07_attr_prefix...........ok
t/08_force_array...........ok
t/09_http-lite.............skipped
        all skipped: HTTP::Lite is not loaded.
t/10_http-lwp..............skipped
        all skipped: define $MORE_TESTS to test LWP::UserAgent.
t/11_escape_cdata..........ok
t/12_escape_charref........ok
t/13_encoding_en...........ok
t/14_encoding_zh...........ok
t/15_encoding_ja...........ok
t/16_encoding_ko...........ok
t/17_output_encoding.......ok
t/18_escape_amp............ok
t/19_multi_text............ok
t/20_http-lite-cached......skipped
        all skipped: HTTP::Lite is not loaded.
t/21_http-lwp-cached.......skipped
        all skipped: define $MORE_TESTS to test this.
t/22_http-lite-headers.....skipped
        all skipped: HTTP::Lite is not loaded.
t/23_http-lwp-headers......skipped
        all skipped: define $MORE_TESTS to test this.
t/24_ignore_error..........ok
t/25_text_node_key.........ok
t/26_attr_prefix_null......ok
t/27_http-lite-force.......skipped
        all skipped: HTTP::Lite is not loaded.
t/28_http-lwp-force........skipped
        all skipped: define $MORE_TESTS to test this.
t/29_http-lwp-withcache....skipped
        all skipped: LWP::UserAgent::WithCache is not loaded.
t/30_first_out.............ok
t/31_tie_ixhash............skipped
        all skipped: Tie::IxHash is not loaded.
t/32_base_class............ok
t/33_indent................ok
t/34_utf8_flag.............ok
t/35_force_hash............ok
t/36_elem_class............ok
t/37_undef.................ok
t/38_cdata_cdsect..........ok
t/39_writefile.............ok
t/40_writefile_jcode.......skipped
        all skipped: Jcode is not loaded.
t/41_writefile_encode......ok
t/42_cdata_comment.........ok
t/43_encoding_quote........ok
t/44_utf8_bom..............ok
t/45_attr_space............ok
t/46_xml_deref.............ok
t/47_xml_deref_utf8........ok
t/48_blobref...............ok
t/49_invalid_encoding......ok
t/50_invalid_tree..........ok
t/51_RT_42441..............ok
t/52_require_xml_decl......ok
t/53_empty_text_node.......ok
All tests successful, 12 tests skipped.
Files=54, Tests=1071,  3 wallclock secs ( 1.68 cusr +  0.30 csys =  1.98 CPU)

------------------------------
PREREQUISITES
------------------------------

Prerequisite modules loaded:

requires:

    Module              Need  Have 
    ------------------- ----- -----
    LWP                 5.802 5.837
    Test::More          0     0.80 

configure_requires:

    Module              Need  Have 
    ------------------- ----- -----
    ExtUtils::MakeMaker 0     6.48 


------------------------------
ENVIRONMENT AND OTHER CONTEXT
------------------------------

Environment variables:

    AUTOMATED_TESTING = 1
    LANG = en_US.utf8
    PATH = /usr/local/bin:/usr/bin:/bin:/usr/local/games:/usr/games
    PERL5LIB = /home/cpt3/.cpan/build/Data-Pageset-1.06-NiTACi/blib/arch:/home/cpt3/.cpan/build/Data-Pageset-1.06-NiTACi/blib/lib:/home/cpt3/.cpan/build/Data-Page-2.02-du_q9I/blib/arch:/home/cpt3/.cpan/build/Data-Page-2.02-du_q9I/blib/lib:/home/cpt3/.cpan/build/Class-Accessor-Chained-0.01-yb8yzp/blib/arch:/home/cpt3/.cpan/build/Class-Accessor-Chained-0.01-yb8yzp/blib/lib:/home/cpt3/.cpan/build/Class-Accessor-0.34-3ySb5H/blib/arch:/home/cpt3/.cpan/build/Class-Accessor-0.34-3ySb5H/blib/lib
    PERL5OPT = 
    PERL5_CPANPLUS_IS_RUNNING = 7088
    PERL5_CPAN_IS_RUNNING = 7088
    PERL5_CPAN_IS_RUNNING_IN_RECURSION = 20242,7088
    PERL_CR_SMOKER_CURRENT = WebService-Recruit-FromA-0.0.1
    PERL_EXTUTILS_AUTOINSTALL = --defaultdeps
    PERL_MM_USE_DEFAULT = 1
    SHELL = /bin/bash
    TERM = screen

Perl special variables (and OS-specific diagnostics, for MSWin32):

    $^X = /home/cpt3/testing/perl-5.8.9/bin/perl
    $UID/$EUID = 1004 / 1004
    $GID = 1004 20 24 25 27 29 30 44 46 100 103 111 113 114 1004
    $EGID = 1004 20 24 25 27 29 30 44 46 100 103 111 113 114 1004

Perl module toolchain versions installed:

    Module              Have   
    ------------------- -------
    CPAN                1.9301 
    Cwd                 3.29   
    ExtUtils::CBuilder  0.2703 
    ExtUtils::Command   1.15   
    ExtUtils::Install   1.50_01
    ExtUtils::MakeMaker 6.48   
    ExtUtils::Manifest  1.55   
    ExtUtils::ParseXS   2.19   
    File::Spec          3.29   
    Module::Build       0.3607 
    Module::Signature   n/a    
    Test::Harness       2.64   
    Test::More          0.80   
    YAML                0.72   
    YAML::Syck          n/a    
    version             n/a    


--

Summary of my perl5 (revision 5 version 8 subversion 9) configuration:
  Platform:
    osname=linux, osvers=2.6.35-4.slh.9-aptosid-686, archname=i686-linux
    uname='linux firenze 2.6.35-4.slh.9-aptosid-686 #1 smp preempt mon sep 13 16:40:35 utc 2010 i686 gnulinux '
    config_args='-Dprefix=/home/cpt3/testing/perl-5.8.9'
    hint=recommended, useposix=true, d_sigaction=define
    usethreads=undef use5005threads=undef useithreads=undef usemultiplicity=undef
    useperlio=define d_sfio=undef uselargefiles=define usesocks=undef
    use64bitint=undef use64bitall=undef uselongdouble=undef
    usemymalloc=n, bincompat5005=undef
  Compiler:
    cc='cc', ccflags ='-fno-strict-aliasing -pipe -I/usr/local/include -D_LARGEFILE_SOURCE -D_FILE_OFFSET_BITS=64',
    optimize='-O2',
    cppflags='-fno-strict-aliasing -pipe -I/usr/local/include'
    ccversion='', gccversion='4.4.5', gccosandvers=''
    intsize=4, longsize=4, ptrsize=4, doublesize=8, byteorder=1234
    d_longlong=define, longlongsize=8, d_longdbl=define, longdblsize=12
    ivtype='long', ivsize=4, nvtype='double', nvsize=8, Off_t='off_t', lseeksize=8
    alignbytes=4, prototype=define
  Linker and Libraries:
    ld='cc', ldflags =' -L/usr/local/lib'
    libpth=/usr/local/lib /lib /usr/lib
    libs=-lnsl -lgdbm -ldb -ldl -lm -lcrypt -lutil -lc
    perllibs=-lnsl -ldl -lm -lcrypt -lutil -lc
    libc=/lib/libc-2.11.2.so, so=so, useshrplib=false, libperl=libperl.a
    gnulibc_version='2.11.2'
  Dynamic Linking:
    dlsrc=dl_dlopen.xs, dlext=so, d_dlsymun=undef, ccdlflags='-Wl,-E'
    cccdlflags='-fPIC', lddlflags='-shared -O2 -L/usr/local/lib'


Characteristics of this binary (from libperl): 
  Compile-time options: PERL_MALLOC_WRAP USE_FAST_STDIO USE_LARGE_FILES
                        USE_PERLIO
  Built under linux
  Compiled at Oct 11 2010 12:18:13
  %ENV:
    PERL5LIB="/home/cpt3/.cpan/build/Data-Pageset-1.06-NiTACi/blib/arch:/home/cpt3/.cpan/build/Data-Pageset-1.06-NiTACi/blib/lib:/home/cpt3/.cpan/build/Data-Page-2.02-du_q9I/blib/arch:/home/cpt3/.cpan/build/Data-Page-2.02-du_q9I/blib/lib:/home/cpt3/.cpan/build/Class-Accessor-Chained-0.01-yb8yzp/blib/arch:/home/cpt3/.cpan/build/Class-Accessor-Chained-0.01-yb8yzp/blib/lib:/home/cpt3/.cpan/build/Class-Accessor-0.34-3ySb5H/blib/arch:/home/cpt3/.cpan/build/Class-Accessor-0.34-3ySb5H/blib/lib"
    PERL5OPT=""
    PERL5_CPANPLUS_IS_RUNNING="7088"
    PERL5_CPAN_IS_RUNNING="7088"
    PERL5_CPAN_IS_RUNNING_IN_RECURSION="20242,7088"
    PERL_CR_SMOKER_CURRENT="WebService-Recruit-FromA-0.0.1"
    PERL_EXTUTILS_AUTOINSTALL="--defaultdeps"
    PERL_MM_USE_DEFAULT="1"
  @INC:
    /home/cpt3/.cpan/build/Data-Pageset-1.06-NiTACi/blib/arch
    /home/cpt3/.cpan/build/Data-Pageset-1.06-NiTACi/blib/lib
    /home/cpt3/.cpan/build/Data-Page-2.02-du_q9I/blib/arch
    /home/cpt3/.cpan/build/Data-Page-2.02-du_q9I/blib/lib
    /home/cpt3/.cpan/build/Class-Accessor-Chained-0.01-yb8yzp/blib/arch
    /home/cpt3/.cpan/build/Class-Accessor-Chained-0.01-yb8yzp/blib/lib
    /home/cpt3/.cpan/build/Class-Accessor-0.34-3ySb5H/blib/arch
    /home/cpt3/.cpan/build/Class-Accessor-0.34-3ySb5H/blib/lib
    /home/cpt3/testing/perl-5.8.9/lib/5.8.9/i686-linux
    /home/cpt3/testing/perl-5.8.9/lib/5.8.9
    /home/cpt3/testing/perl-5.8.9/lib/site_perl/5.8.9/i686-linux
    /home/cpt3/testing/perl-5.8.9/lib/site_perl/5.8.9
    .