utf8-all v0.024 Perl 5 v5.24.3 i86pc-solaris-multi
- Status
- Pass
- From
- Serguei Trouchelle (STRO)
- Dist
-
utf8-all v0.024
- Platform
- Perl 5 v5.24.3 i86pc-solaris-multi
- Date
- 2018-03-03 17:09:42
- ID
- aa1cf2ec-1f05-11e8-87b9-1c7fdf030e9d
This distribution has been tested as part of the CPAN Testers
project, supporting the Perl programming language. See
http://wiki.cpantesters.org/ for more information or email
questions to cpan-testers-discuss@perl.org
--
Dear Hayo Baan,
This is a computer-generated report for utf8-all-0.024
on perl 5.24.3, created by CPAN-Reporter-1.2018.
Thank you for uploading your work to CPAN. Congratulations!
All tests were successful.
Sections of this report:
* Tester comments
* Program output
* Prerequisites
* Environment and other context
------------------------------
TESTER COMMENTS
------------------------------
Additional comments from tester:
this report is from an automated smoke testing program
and was not reviewed by a human for accuracy
------------------------------
PROGRAM OUTPUT
------------------------------
Output from '/usr/bin/make test':
PERL_DL_NONLAZY=1 "/home/stro/perl/5.24.3m/bin/perl" "-MExtUtils::Command::MM" "-MTest::Harness" "-e" "undef *Test::Harness::Switches; test_harness(0, 'blib/lib', 'blib/arch')" t/*.t
t/00-compile.t ....... ok
t/ARGV.t ............. ok
t/ARGV_nonmain.t ..... ok
t/ARGV_twice.t ....... ok
t/autodie.t .......... ok
t/charnames.t ........ ok
t/FATAL_utf8.t ....... ok
t/fc.t ............... ok
t/force_global.t ..... ok
t/glob.t ............. ok
t/global_nonmain.t ... ok
t/lexical-again.t .... ok
t/lexical.t .......... ok
t/no_global.t ........ ok
t/open.t ............. ok
t/readdir.t .......... ok
t/readlink.t ......... ok
t/readpipe.t ......... ok
t/threads.t .......... skipped: Requires threads
t/unicode_eval.t ..... ok
t/unicode_strings.t .. ok
t/utf8.t ............. ok
t/utf8_check.t ....... ok
All tests successful.
Files=23, Tests=121, 3 wallclock secs ( 0.07 usr 0.03 sys + 1.88 cusr 0.26 csys = 2.24 CPU)
Result: PASS
------------------------------
PREREQUISITES
------------------------------
Prerequisite modules loaded:
requires:
Module Need Have
------------------- ----- --------
Carp 0 1.40
charnames 0 1.43
Encode 0 2.97
feature 0 1.42
Import::Into 0 1.002005
open 0 1.10
parent 0 0.234
perl 5.010 5.024003
PerlIO::utf8_strict 0 0.007
strict 0 1.11
Symbol 0 1.07
utf8 0 1.19
warnings 0 1.36
build_requires:
Module Need Have
------------------- ----- --------
autodie 0 2.29
blib 1.01 1.06
constant 0 1.33
ExtUtils::MakeMaker 0 7.30
File::Spec 0 3.74
IO::Handle 0 1.36
IPC::Open3 0 1.20
PerlIO 0 1.09
Test::Exception 0 0.43
Test::Fatal 0 0.014
Test::More 0.96 1.302122
Test::Warn 0 0.32
! threads 0 broken
threads::shared 0 1.58
version 0.77 0.9916
configure_requires:
Module Need Have
------------------- ----- --------
ExtUtils::MakeMaker 0 7.30
perl 5.010 5.024003
------------------------------
ENVIRONMENT AND OTHER CONTEXT
------------------------------
Environment variables:
AUTOMATED_TESTING = 1
LANG = en_US.UTF-8
PATH = /usr/gnu/bin:/usr/bin:/usr/sbin:/sbin:/usr/sfw/bin:
PERL5LIB =
PERL5OPT =
PERL5_CPANPLUS_IS_RUNNING = 5692
PERL5_CPAN_IS_RUNNING = 5692
PERL5_CPAN_IS_RUNNING_IN_RECURSION = 18805,5692
PERL_CR_SMOKER_CURRENT = Geo-Parser-Text-0.051
PERL_EXTUTILS_AUTOINSTALL = --defaultdeps
PERL_MM_USE_DEFAULT = 1
SHELL = /bin/bash
TERM = xterm
Perl special variables (and OS-specific diagnostics, for MSWin32):
$^X = /home/stro/perl/5.24.3m/bin/perl
$UID/$EUID = 101 / 101
$GID = 10 10
$EGID = 10 10
Perl module toolchain versions installed:
Module Have
------------------- ----------
CPAN 2.16
CPAN::Meta 2.150005
Cwd 3.74
ExtUtils::CBuilder 0.280225
ExtUtils::Command 7.30
ExtUtils::Install 2.06
ExtUtils::MakeMaker 7.30
ExtUtils::Manifest 1.70
ExtUtils::ParseXS 3.31
File::Spec 3.74
JSON 2.97001
JSON::PP 2.94
Module::Build 0.4224
Module::Signature n/a
Parse::CPAN::Meta 1.4417_001
Test::Harness 3.36_01
Test::More 1.302122
YAML 1.23
YAML::Syck 1.30
version 0.9916
--
Summary of my perl5 (revision 5 version 24 subversion 3) configuration:
Platform:
osname=solaris, osvers=2.11, archname=i86pc-solaris-multi
uname='sunos vm-openindiana-001 5.11 illumos-ed992b0aac i86pc i386 i86pc solaris '
config_args=''
hint=recommended, useposix=true, d_sigaction=define
useithreads=undef, usemultiplicity=define
use64bitint=undef, use64bitall=undef, uselongdouble=undef
usemymalloc=n, bincompat5005=undef
Compiler:
cc='/opt/SUNWspro/bin/cc', ccflags ='-I/usr/gnu/include -D_LARGEFILE_SOURCE -D_FILE_OFFSET_BITS=64 -DPERL_USE_SAFE_PUTENV',
optimize='-O',
cppflags='-I/usr/gnu/include'
ccversion='Sun C 5.10 SunOS_i386 2009/06/03', gccversion='', gccosandvers=''
intsize=4, longsize=4, ptrsize=4, doublesize=8, byteorder=1234, doublekind=3
d_longlong=define, longlongsize=8, d_longdbl=define, longdblsize=12, longdblkind=3
ivtype='long', ivsize=4, nvtype='double', nvsize=8, Off_t='off_t', lseeksize=8
alignbytes=4, prototype=define
Linker and Libraries:
ld='/opt/SUNWspro/bin/cc', ldflags =' -L/usr/lib -L/usr/ccs/lib -L/opt/sunstudio12.1/prod/lib -L/lib -L/usr/gnu/lib '
libpth=/usr/lib /usr/ccs/lib /opt/sunstudio12.1/prod/lib /lib /usr/gnu/lib
libs=-lpthread -lsocket -lnsl -lgdbm -ldb -ldl -lm -lc
perllibs=-lpthread -lsocket -lnsl -ldl -lm -lc
libc=/lib/libc.so, so=so, useshrplib=true, libperl=libperl.so
gnulibc_version=''
Dynamic Linking:
dlsrc=dl_dlopen.xs, dlext=so, d_dlsymun=undef, ccdlflags=' -R /home/stro/perl/5.24.3m/lib/5.24.3/i86pc-solaris-multi/CORE'
cccdlflags='-KPIC', lddlflags='-G -L/usr/lib -L/usr/ccs/lib -L/opt/sunstudio12.1/prod/lib -L/lib -L/usr/gnu/lib'
Characteristics of this binary (from libperl):
Compile-time options: HAS_TIMES MULTIPLICITY PERLIO_LAYERS
PERL_COPY_ON_WRITE PERL_DONT_CREATE_GVSV
PERL_HASH_FUNC_ONE_AT_A_TIME_HARD
PERL_IMPLICIT_CONTEXT PERL_MALLOC_WRAP
PERL_PRESERVE_IVUV PERL_USE_SAFE_PUTENV
USE_LARGE_FILES USE_LOCALE USE_LOCALE_COLLATE
USE_LOCALE_CTYPE USE_LOCALE_NUMERIC USE_LOCALE_TIME
USE_PERLIO USE_PERL_ATOF
Built under solaris
Compiled at Sep 22 2017 23:23:48
%ENV:
PERL5LIB=""
PERL5OPT=""
PERL5_CPANPLUS_IS_RUNNING="5692"
PERL5_CPAN_IS_RUNNING="5692"
PERL5_CPAN_IS_RUNNING_IN_RECURSION="18805,5692"
PERL_CR_SMOKER_CURRENT="Geo-Parser-Text-0.051"
PERL_EXTUTILS_AUTOINSTALL="--defaultdeps"
PERL_MM_USE_DEFAULT="1"
@INC:
/home/stro/perl/5.24.3m/lib/site_perl/5.24.3/i86pc-solaris-multi
/home/stro/perl/5.24.3m/lib/site_perl/5.24.3
/home/stro/perl/5.24.3m/lib/5.24.3/i86pc-solaris-multi
/home/stro/perl/5.24.3m/lib/5.24.3
.