Report for ExtUtils-Depends-0.404

Back
From: metabase:user:e099aa30-bf4f-11e0-b0bb-a7aeb748a6a7
Subject: PASS ExtUtils-Depends-0.404 v5.23.2 Mac OS X
Date: 2015-10-05T20:28:40Z

This distribution has been tested as part of the CPAN Testers
project, supporting the Perl programming language.  See
http://wiki.cpantesters.org/ for more information or email
questions to cpan-testers-discuss@perl.org


--
Dear Brian Manning,

This is a computer-generated report for ExtUtils-Depends-0.404
on perl 5.23.2, created by CPAN-Reporter-1.2014.

Thank you for uploading your work to CPAN.  Congratulations!
All tests were successful.

Sections of this report:

    * Tester comments
    * Program output
    * Prerequisites
    * Environment and other context

------------------------------
TESTER COMMENTS
------------------------------

Additional comments from tester:

none provided

------------------------------
PROGRAM OUTPUT
------------------------------

Output from '/usr/bin/make test':

PERL_DL_NONLAZY=1 "/usr/local/perl/5232/bin/perl" "-MExtUtils::Command::MM" "-MTest::Harness" "-e" "undef *Test::Harness::Switches; test_harness(0, 'blib/lib', 'blib/arch')" t/*.t
t/01_load.t ........ ok
t/02_save_load.t ... ok
t/03_deps.t ........ ok
t/04_extra_libs.t .. skipped: test only for 'MSWin32', 'cygwin', and 'android'
All tests successful.
Files=4, Tests=43,  1 wallclock secs ( 0.04 usr  0.01 sys +  0.27 cusr  0.05 csys =  0.37 CPU)
Result: PASS

------------------------------
PREREQUISITES
------------------------------

Prerequisite modules loaded:

requires:

    Module              Need  Have    
    ------------------- ----- --------
    Data::Dumper        0     2.158   
    File::Spec          0     3.57    
    IO::File            0     1.16    
    perl                5.006 5.023002

build_requires:

    Module              Need  Have    
    ------------------- ----- --------
    ExtUtils::MakeMaker 0     7.04_01 

configure_requires:

    Module              Need  Have    
    ------------------- ----- --------
    Data::Dumper        0     2.158   
    ExtUtils::MakeMaker 0     7.04_01 
    File::Spec          0     3.57    
    IO::File            0     1.16    


------------------------------
ENVIRONMENT AND OTHER CONTEXT
------------------------------

Environment variables:

    NONINTERACTIVE_TESTING = 1
    PATH = /usr/local/apache/bin:/usr/local/bin:/Developer/usr/bin:/usr/local/bin:/usr/bin:/bin:/usr/sbin:/sbin:/opt/X11/bin:/usr/local/git/bin
    PERL5LIB = 
    PERL5OPT = 
    PERL5_CPANPLUS_IS_RUNNING = 37121
    PERL5_CPAN_IS_RUNNING = 37121
    PERL_MM_USE_DEFAULT = 1
    SHELL = /bin/tcsh
    TERM = xterm

Perl special variables (and OS-specific diagnostics, for MSWin32):

    $^X = /usr/local/perl/5232/bin/perl
    $UID/$EUID = 0 / 0
    $GID = 0 0 1 2 3 4 5 8 9 12 20 29 61 80 402 33 98
    $EGID = 0 0 1 2 3 4 5 8 9 12 20 29 61 80 402 33 98

Perl module toolchain versions installed:

    Module              Have    
    ------------------- --------
    CPAN                2.11    
    CPAN::Meta          2.150005
    Cwd                 3.57    
    ExtUtils::CBuilder  0.280223
    ExtUtils::Command   1.20    
    ExtUtils::Install   2.04    
    ExtUtils::MakeMaker 7.04_01 
    ExtUtils::Manifest  1.70    
    ExtUtils::ParseXS   3.29    
    File::Spec          3.57    
    JSON                2.90    
    JSON::PP            2.27300 
    Module::Build       0.4214  
    Module::Signature   n/a     
    Parse::CPAN::Meta   1.4417  
    Test::Harness       3.35    
    Test::More          1.001014
    YAML                n/a     
    YAML::Syck          n/a     
    version             0.9909  


--

Summary of my perl5 (revision 5 version 23 subversion 2) configuration:
   
  Platform:
    osname=darwin, osvers=14.4.0, archname=darwin-2level
    uname='darwin mbp7std1.home 14.4.0 darwin kernel version 14.4.0: thu may 28 11:35:04 pdt 2015; root:xnu-2782.30.5~1release_x86_64 x86_64 '
    config_args=''
    hint=recommended, useposix=true, d_sigaction=define
    useithreads=undef, usemultiplicity=undef
    use64bitint=define, use64bitall=define, uselongdouble=undef
    usemymalloc=n, bincompat5005=undef
  Compiler:
    cc='gcc', ccflags ='-fno-common -DPERL_DARWIN -fno-strict-aliasing -pipe -fstack-protector-strong -I/usr/local/include -I/opt/local/include',
    optimize='-O3',
    cppflags='-fno-common -DPERL_DARWIN -fno-strict-aliasing -pipe -fstack-protector-strong -I/usr/local/include -I/opt/local/include'
    ccversion='', gccversion='4.2.1 Compatible Apple LLVM 6.1.0 (clang-602.0.53)', gccosandvers=''
    intsize=4, longsize=8, ptrsize=8, doublesize=8, byteorder=12345678, doublekind=3
    d_longlong=define, longlongsize=8, d_longdbl=define, longdblsize=16, longdblkind=3
    ivtype='long', ivsize=8, nvtype='double', nvsize=8, Off_t='off_t', lseeksize=8
    alignbytes=8, prototype=define
  Linker and Libraries:
    ld='env MACOSX_DEPLOYMENT_TARGET=10.3 gcc', ldflags =' -fstack-protector-strong -L/usr/local/lib -L/opt/local/lib'
    libpth=/usr/local/lib /Applications/Xcode.app/Contents/Developer/Toolchains/XcodeDefault.xctoolchain/usr/bin/../lib/clang/6.1.0/lib /Applications/Xcode.app/Contents/Developer/Toolchains/XcodeDefault.xctoolchain/usr/lib /usr/lib /opt/local/lib
    libs=-lpthread -lgdbm -ldbm -ldl -lm -lutil -lc
    perllibs=-lpthread -ldl -lm -lutil -lc
    libc=, so=dylib, useshrplib=false, libperl=libperl.a
    gnulibc_version=''
  Dynamic Linking:
    dlsrc=dl_dlopen.xs, dlext=bundle, d_dlsymun=undef, ccdlflags=' '
    cccdlflags=' ', lddlflags=' -bundle -undefined dynamic_lookup -L/usr/local/lib -L/opt/local/lib -fstack-protector-strong'


Characteristics of this binary (from libperl): 
  Compile-time options: HAS_TIMES PERLIO_LAYERS PERL_COPY_ON_WRITE
                        PERL_DONT_CREATE_GVSV
                        PERL_HASH_FUNC_ONE_AT_A_TIME_HARD PERL_MALLOC_WRAP
                        PERL_PRESERVE_IVUV USE_64_BIT_ALL USE_64_BIT_INT
                        USE_LARGE_FILES USE_LOCALE USE_LOCALE_COLLATE
                        USE_LOCALE_CTYPE USE_LOCALE_NUMERIC USE_LOCALE_TIME
                        USE_PERLIO USE_PERL_ATOF
  Built under darwin
  Compiled at Aug 21 2015 22:05:21
  %ENV:
    PERL5LIB=""
    PERL5OPT=""
    PERL5_CPANPLUS_IS_RUNNING="37121"
    PERL5_CPAN_IS_RUNNING="37121"
    PERL_MM_USE_DEFAULT="1"
  @INC:
    /usr/local/perl/5232/lib/site_perl/5.23.2/darwin-2level
    /usr/local/perl/5232/lib/site_perl/5.23.2
    /usr/local/perl/5232/lib/5.23.2/darwin-2level
    /usr/local/perl/5232/lib/5.23.2
    .