Cache-Memcached-Fast v0.25 Perl 5 v5.18.0 i686-linux-thread-multi
- Status
- Pass
- From
- Nigel Horne
- Dist
-
Cache-Memcached-Fast v0.25
- Platform
- Perl 5 v5.18.0 i686-linux-thread-multi
- Date
- 2018-04-02 06:25:40
- ID
- aa2caeb2-363e-11e8-91ce-d3e3deac0b3f
This distribution has been tested as part of the CPAN Testers
project, supporting the Perl programming language. See
http://wiki.cpantesters.org/ for more information or email
questions to cpan-testers-discuss@perl.org
--
Dear James Raspass,
This is a computer-generated report for Cache-Memcached-Fast-0.25
on perl 5.18.0, created by CPAN-Reporter-1.2018.
Thank you for uploading your work to CPAN. Congratulations!
All tests were successful.
Sections of this report:
* Tester comments
* Program output
* Prerequisites
* Environment and other context
------------------------------
TESTER COMMENTS
------------------------------
Additional comments from tester:
this report is from an automated smoke testing program
and was not reviewed by a human for accuracy
------------------------------
PROGRAM OUTPUT
------------------------------
Output from '/usr/bin/make test':
"/home/njh/perl5/perlbrew/perls/perl-5.18.0/bin/perl" -MExtUtils::Command::MM -e 'cp_nonempty' -- Fast.bs blib/arch/auto/Cache/Memcached/Fast/Fast.bs 644
make[1]: Entering directory '/home/njh/.cpan/build/Cache-Memcached-Fast-0.25-5/src'
make[1]: Nothing to be done for 'all'.
make[1]: Leaving directory '/home/njh/.cpan/build/Cache-Memcached-Fast-0.25-5/src'
make[1]: Entering directory '/home/njh/.cpan/build/Cache-Memcached-Fast-0.25-5/src'
No tests defined for Cache::Memcached::Fast::libclient extension.
make[1]: Leaving directory '/home/njh/.cpan/build/Cache-Memcached-Fast-0.25-5/src'
PERL_DL_NONLAZY=1 "/home/njh/perl5/perlbrew/perls/perl-5.18.0/bin/perl" "-MExtUtils::Command::MM" "-MTest::Harness" "-e" "undef *Test::Harness::Switches; test_harness(0, 'blib/lib', 'blib/arch')" t/*.t
# Testing Cache::Memcached::Fast 0.25, Perl 5.018000, /home/njh/perl5/perlbrew/perls/perl-5.18.0/bin/perl
t/00-load.t ......... ok
# Connected to 2 memcached servers, lowest version 1.5.6
t/01-connect.t ...... ok
t/02-isa.t .......... ok
t/big_value.t ....... ok
t/errors.t .......... ok
t/hash_namespace.t .. ok
t/key_ref.t ......... ok
t/magic.t ........... ok
t/malformed.t ....... ok
t/namespace.t ....... ok
t/noreply.t ......... ok
t/nowait.t .......... ok
t/pod-coverage.t .... skipped: Test::Pod::Coverage 1.08 required for testing POD coverage
t/pod.t ............. ok
t/serialize.t ....... ok
t/threads.t ......... ok
t/utf8-downgrade.t .. ok
t/utf8.t ............ ok
t/commands.t ........ ok
All tests successful.
Files=19, Tests=199, 13 wallclock secs ( 0.10 usr 0.03 sys + 3.70 cusr 0.32 csys = 4.15 CPU)
Result: PASS
------------------------------
PREREQUISITES
------------------------------
Prerequisite modules loaded:
requires:
Module Need Have
------------------- ---- --------
Test::More 0 1.302120
build_requires:
Module Need Have
------------------- ---- --------
ExtUtils::MakeMaker 0 7.18
------------------------------
ENVIRONMENT AND OTHER CONTEXT
------------------------------
Environment variables:
AUTOMATED_TESTING = 1
HARNESS_OPTIONS = j2
LANG = en_US.UTF-8
PATH = /home/njh/perl5/perlbrew/bin:/home/njh/perl5/perlbrew/perls/perl-5.18.0/bin:src/njh/smoker/bin:/usr/bin:/bin
PERL5LIB = /home/njh/.cpan/build/Test-Deep-1.127-78/blib/arch:/home/njh/.cpan/build/Test-Deep-1.127-78/blib/lib:/home/njh/.cpan/build/Path-Class-0.37-20/blib/arch:/home/njh/.cpan/build/Path-Class-0.37-20/blib/lib:/home/njh/.cpan/build/Module-Build-0.4224-19/blib/arch:/home/njh/.cpan/build/Module-Build-0.4224-19/blib/lib
PERL5OPT =
PERL5_CPANPLUS_IS_RUNNING = 6672
PERL5_CPAN_IS_RUNNING = 6672
PERLBREW_BASHRC_VERSION = 0.73
PERLBREW_HOME = /home/njh/.perlbrew
PERLBREW_MANPATH = /home/njh/perl5/perlbrew/perls/perl-5.18.0/man
PERLBREW_PATH = /home/njh/perl5/perlbrew/bin:/home/njh/perl5/perlbrew/perls/perl-5.18.0/bin
PERLBREW_PERL = perl-5.18.0
PERLBREW_ROOT = /home/njh/perl5/perlbrew
PERLBREW_VERSION = 0.73
SHELL = /bin/sh
Perl special variables (and OS-specific diagnostics, for MSWin32):
$^X = /home/njh/perl5/perlbrew/perls/perl-5.18.0/bin/perl
$UID/$EUID = 1000 / 1000
$GID = 1000 4 24 25 29 30 44 46 108 1000
$EGID = 1000 4 24 25 29 30 44 46 108 1000
Perl module toolchain versions installed:
Module Have
------------------- --------
CPAN 2.16
CPAN::Meta 2.143240
Cwd 3.40
ExtUtils::CBuilder 0.280210
ExtUtils::Command 7.18
ExtUtils::Install 1.59
ExtUtils::MakeMaker 7.18
ExtUtils::Manifest 1.70
ExtUtils::ParseXS 3.18
File::Spec 3.40
JSON 2.97001
JSON::PP 2.97001
Module::Build 0.4224
Module::Signature n/a
Parse::CPAN::Meta 1.4414
Test::Harness 3.35
Test::More 1.302120
YAML 1.24
YAML::Syck 1.30
version 0.9902
--
Summary of my perl5 (revision 5 version 18 subversion 0) configuration:
Platform:
osname=linux, osvers=4.2.0-1-686-pae, archname=i686-linux-thread-multi
uname='linux zack 4.2.0-1-686-pae #1 smp debian 4.2.6-1 (2015-11-10) i686 gnulinux '
config_args='-de -Dprefix=/home/njh/perl5/perlbrew/perls/perl-5.18.0 -Duseithreads -Dusemultiplicity -Dusedevel -Accflags= -Aeval:scriptdir=/home/njh/perl5/perlbrew/perls/perl-5.18.0/bin'
hint=recommended, useposix=true, d_sigaction=define
useithreads=define, usemultiplicity=define
useperlio=define, d_sfio=undef, uselargefiles=define, usesocks=undef
use64bitint=undef, use64bitall=undef, uselongdouble=undef
usemymalloc=n, bincompat5005=undef
Compiler:
cc='cc', ccflags ='-D_REENTRANT -D_GNU_SOURCE -fno-strict-aliasing -pipe -fstack-protector -I/usr/local/include -D_LARGEFILE_SOURCE -D_FILE_OFFSET_BITS=64',
optimize='-O2',
cppflags='-D_REENTRANT -D_GNU_SOURCE -fno-strict-aliasing -pipe -fstack-protector -I/usr/local/include'
ccversion='', gccversion='5.2.1 20151121', gccosandvers=''
intsize=4, longsize=4, ptrsize=4, doublesize=8, byteorder=1234
d_longlong=define, longlongsize=8, d_longdbl=define, longdblsize=12
ivtype='long', ivsize=4, nvtype='double', nvsize=8, Off_t='off_t', lseeksize=8
alignbytes=4, prototype=define
Linker and Libraries:
ld='cc', ldflags =' -fstack-protector -L/usr/local/lib'
libpth=/usr/local/lib /lib/i386-linux-gnu /lib/../lib /usr/lib/i386-linux-gnu /usr/lib/../lib /lib /usr/lib
libs=-lnsl -lgdbm -ldb -ldl -lm -lcrypt -lutil -lpthread -lc -lgdbm_compat
perllibs=-lnsl -ldl -lm -lcrypt -lutil -lpthread -lc
libc=libc-2.19.so, so=so, useshrplib=false, libperl=libperl.a
gnulibc_version='2.19'
Dynamic Linking:
dlsrc=dl_dlopen.xs, dlext=so, d_dlsymun=undef, ccdlflags='-Wl,-E'
cccdlflags='-fPIC', lddlflags='-shared -O2 -L/usr/local/lib -fstack-protector'
Characteristics of this binary (from libperl):
Compile-time options: HAS_TIMES MULTIPLICITY PERLIO_LAYERS
PERL_DONT_CREATE_GVSV
PERL_HASH_FUNC_ONE_AT_A_TIME_HARD
PERL_IMPLICIT_CONTEXT PERL_MALLOC_WRAP
PERL_PRESERVE_IVUV PERL_SAWAMPERSAND PERL_USE_DEVEL
USE_ITHREADS USE_LARGE_FILES USE_LOCALE
USE_LOCALE_COLLATE USE_LOCALE_CTYPE
USE_LOCALE_NUMERIC USE_PERLIO USE_PERL_ATOF
USE_REENTRANT_API
Locally applied patches:
Devel::PatchPerl 1.38
Built under linux
Compiled at Nov 24 2015 06:50:51
%ENV:
PERL5LIB="/home/njh/.cpan/build/Test-Deep-1.127-78/blib/arch:/home/njh/.cpan/build/Test-Deep-1.127-78/blib/lib:/home/njh/.cpan/build/Path-Class-0.37-20/blib/arch:/home/njh/.cpan/build/Path-Class-0.37-20/blib/lib:/home/njh/.cpan/build/Module-Build-0.4224-19/blib/arch:/home/njh/.cpan/build/Module-Build-0.4224-19/blib/lib"
PERL5OPT=""
PERL5_CPANPLUS_IS_RUNNING="6672"
PERL5_CPAN_IS_RUNNING="6672"
PERLBREW_BASHRC_VERSION="0.73"
PERLBREW_HOME="/home/njh/.perlbrew"
PERLBREW_MANPATH="/home/njh/perl5/perlbrew/perls/perl-5.18.0/man"
PERLBREW_PATH="/home/njh/perl5/perlbrew/bin:/home/njh/perl5/perlbrew/perls/perl-5.18.0/bin"
PERLBREW_PERL="perl-5.18.0"
PERLBREW_ROOT="/home/njh/perl5/perlbrew"
PERLBREW_VERSION="0.73"
@INC:
/home/njh/.cpan/build/Test-Deep-1.127-78/blib/arch
/home/njh/.cpan/build/Test-Deep-1.127-78/blib/lib
/home/njh/.cpan/build/Path-Class-0.37-20/blib/arch
/home/njh/.cpan/build/Path-Class-0.37-20/blib/lib
/home/njh/.cpan/build/Module-Build-0.4224-19/blib/arch
/home/njh/.cpan/build/Module-Build-0.4224-19/blib/lib
/home/njh/perl5/perlbrew/perls/perl-5.18.0/lib/site_perl/5.18.0/i686-linux-thread-multi
/home/njh/perl5/perlbrew/perls/perl-5.18.0/lib/site_perl/5.18.0
/home/njh/perl5/perlbrew/perls/perl-5.18.0/lib/5.18.0/i686-linux-thread-multi
/home/njh/perl5/perlbrew/perls/perl-5.18.0/lib/5.18.0
.