Software-License v0.103014 Perl 5 v5.31.10 x86_64-linux
- Status
- Pass
- From
- John SJ Anderson
- Dist
-
Software-License v0.103014
- Platform
- Perl 5 v5.31.10 x86_64-linux
- Date
- 2020-03-21 05:13:13
- ID
- aa65348c-6b32-11ea-a43a-f00f50baf6e2
This distribution has been tested as part of the CPAN Testers
project, supporting the Perl programming language. See
http://wiki.cpantesters.org/ for more information or email
questions to cpan-testers-discuss@perl.org
--
Dear LEONT,
This is a computer-generated report for Software-License-0.103014
on perl 5.31.10, created by App::cpanminus::reporter 0.17 (1.7044).
Thank you for uploading your work to CPAN. Congratulations!
All tests were successful.
Sections of this report:
* Tester comments
* Program output
* Prerequisites
* Environment and other context
------------------------------
TESTER COMMENTS
------------------------------
Additional comments from tester:
none provided
------------------------------
PROGRAM OUTPUT
------------------------------
Output from '':
Building and testing Software-License-0.103014
cp lib/Software/License/GPL_2.pm blib/lib/Software/License/GPL_2.pm
cp lib/Software/License/Apache_2_0.pm blib/lib/Software/License/Apache_2_0.pm
cp lib/Software/License/EUPL_1_1.pm blib/lib/Software/License/EUPL_1_1.pm
cp lib/Software/License/LGPL_3_0.pm blib/lib/Software/License/LGPL_3_0.pm
cp lib/Software/License/QPL_1_0.pm blib/lib/Software/License/QPL_1_0.pm
cp lib/Software/License/OpenSSL.pm blib/lib/Software/License/OpenSSL.pm
cp lib/Software/License/Zlib.pm blib/lib/Software/License/Zlib.pm
cp lib/Software/License/MIT.pm blib/lib/Software/License/MIT.pm
cp lib/Software/License/Mozilla_2_0.pm blib/lib/Software/License/Mozilla_2_0.pm
cp lib/Software/License/GPL_3.pm blib/lib/Software/License/GPL_3.pm
cp lib/Software/License/Mozilla_1_0.pm blib/lib/Software/License/Mozilla_1_0.pm
cp lib/Software/License/Apache_1_1.pm blib/lib/Software/License/Apache_1_1.pm
cp lib/Software/License/Sun.pm blib/lib/Software/License/Sun.pm
cp lib/Software/License/GPL_1.pm blib/lib/Software/License/GPL_1.pm
cp lib/Software/License.pm blib/lib/Software/License.pm
cp lib/Software/License/PostgreSQL.pm blib/lib/Software/License/PostgreSQL.pm
cp lib/Software/License/Mozilla_1_1.pm blib/lib/Software/License/Mozilla_1_1.pm
cp lib/Software/License/AGPL_3.pm blib/lib/Software/License/AGPL_3.pm
cp lib/Software/License/GFDL_1_2.pm blib/lib/Software/License/GFDL_1_2.pm
cp lib/Software/License/Custom.pm blib/lib/Software/License/Custom.pm
cp lib/Software/License/SSLeay.pm blib/lib/Software/License/SSLeay.pm
cp lib/Software/License/Perl_5.pm blib/lib/Software/License/Perl_5.pm
cp lib/Software/License/GFDL_1_3.pm blib/lib/Software/License/GFDL_1_3.pm
cp lib/Software/License/LGPL_2_1.pm blib/lib/Software/License/LGPL_2_1.pm
cp lib/Software/License/None.pm blib/lib/Software/License/None.pm
cp lib/Software/License/BSD.pm blib/lib/Software/License/BSD.pm
cp lib/Software/License/FreeBSD.pm blib/lib/Software/License/FreeBSD.pm
cp lib/Software/License/EUPL_1_2.pm blib/lib/Software/License/EUPL_1_2.pm
cp lib/Software/License/Artistic_1_0.pm blib/lib/Software/License/Artistic_1_0.pm
cp lib/Software/License/CC0_1_0.pm blib/lib/Software/License/CC0_1_0.pm
cp lib/Software/LicenseUtils.pm blib/lib/Software/LicenseUtils.pm
cp lib/Software/License/Artistic_2_0.pm blib/lib/Software/License/Artistic_2_0.pm
Manifying 31 pod documents
Manifying 1 pod document
PERL_DL_NONLAZY=1 "/opt/plenv/versions/5.31.10/bin/perl5.31.10" "-MExtUtils::Command::MM" "-MTest::Harness" "-e" "undef *Test::Harness::Switches; test_harness(0, 'blib/lib', 'blib/arch')" t/*.t
#
# Versions for all modules listed in MYMETA.json (including optional ones):
#
# === Configure Requires ===
#
# Module Want Have
# ------------------- ---- ----
# ExtUtils::MakeMaker any 7.44
#
# === Configure Suggests ===
#
# Module Want Have
# -------- ------- ----
# JSON::PP 2.27300 4.04
#
# === Build Requires ===
#
# Module Want Have
# ------------------- ---- ----
# ExtUtils::MakeMaker any 7.44
#
# === Test Requires ===
#
# Module Want Have
# ------------------- ---- --------
# ExtUtils::MakeMaker any 7.44
# File::Spec any 3.78
# Test::More 0.96 1.302171
# Try::Tiny any 0.30
#
# === Test Recommends ===
#
# Module Want Have
# ---------- -------- --------
# CPAN::Meta 2.120900 2.150010
#
# === Runtime Requires ===
#
# Module Want Have
# -------------- ---- --------
# Carp any 1.50
# Data::Section any 0.200007
# File::Spec any 3.78
# IO::Dir any 1.41
# Module::Load any 0.34
# Text::Template any 1.58
# parent any 0.238
# strict any 1.11
# utf8 any 1.22
# warnings any 1.46
#
t/00-report-prereqs.t ....... ok
t/basic.t ................... ok
t/bsd-url.t ................. ok
t/creative_commons.t ........ skipped: requires Software::License::CCpack to test this
t/custom.t .................. ok
t/from-spdx-expression.t .... ok
t/guess_license_from_pod.t .. ok
t/guess_meta_license.t ...... ok
t/meta-names.t .............. ok
t/round-trip.t .............. ok
t/short_name.t .............. ok
t/spdx-expression.t ......... ok
t/two-dots.t ................ ok
t/utils.t ................... ok
All tests successful.
Files=14, Tests=219, 2 wallclock secs ( 0.08 usr 0.00 sys + 1.76 cusr 0.19 csys = 2.03 CPU)
Result: PASS
------------------------------
PREREQUISITES
------------------------------
Prerequisite modules loaded:
No requirements found
------------------------------
ENVIRONMENT AND OTHER CONTEXT
------------------------------
Environment variables:
LANG = en_US.UTF-8
LC_ALL = en_US.UTF-8
LC_TERMINAL = iTerm2
LC_TERMINAL_VERSION = 3.3.9
PATH = /opt/plenv/versions/5.31.10/bin:/opt/plenv/libexec:/opt/plenv/plugins/perl-build/bin:/opt/plenv/shims:/opt/nvm/versions/node/v12.16.1/bin:/opt/git/bin:/opt/emacs/bin:/opt/plenv/shims:/opt/plenv/bin:/home/genehack/bin:/usr/local/bin:/usr/bin:/bin:/usr/games
PERL_CPANM_OPT = --skip-installed --prompt
SHELL = /bin/zsh
TERM = screen-256color
Perl special variables (and OS-specific diagnostics, for MSWin32):
EGID = 1001 1001
EUID = 1001
EXECUTABLE_NAME = /opt/plenv/versions/5.31.10/bin/perl5.31.10
GID = 1001 1001
UID = 1001
Perl module toolchain versions installed:
Module Have
------------------- --------
CPAN 2.27
CPAN::Meta 2.150010
Cwd 3.78
ExtUtils::CBuilder 0.280234
ExtUtils::Command 7.44
ExtUtils::Install 2.14
ExtUtils::MakeMaker 7.44
ExtUtils::Manifest 1.72
ExtUtils::ParseXS 3.40
File::Spec 3.78
JSON 4.02
JSON::PP 4.04
Module::Build 0.4231
Module::Signature n/a
Parse::CPAN::Meta 2.150010
Test::Harness 3.42
Test::More 1.302171
YAML 1.30
YAML::Syck n/a
version 0.9924
--
Summary of my perl5 (revision 5 version 31 subversion 10) configuration:
Platform:
osname=linux
osvers=4.19.0-8-amd64
archname=x86_64-linux
uname='linux doof 4.19.0-8-amd64 #1 smp debian 4.19.98-1 (2020-01-26) x86_64 gnulinux '
config_args='-Dprefix=/opt/plenv/versions/5.31.10 -de -Dversiononly -Dusedevel -A'eval:scriptdir=/opt/plenv/versions/5.31.10/bin''
hint=recommended
useposix=true
d_sigaction=define
useithreads=undef
usemultiplicity=undef
use64bitint=define
use64bitall=define
uselongdouble=undef
usemymalloc=n
default_inc_excludes_dot=define
bincompat5005=undef
Compiler:
cc='cc'
ccflags ='-fwrapv -fno-strict-aliasing -pipe -fstack-protector-strong -I/usr/local/include -D_LARGEFILE_SOURCE -D_FILE_OFFSET_BITS=64 -D_FORTIFY_SOURCE=2'
optimize='-O2'
cppflags='-fwrapv -fno-strict-aliasing -pipe -fstack-protector-strong -I/usr/local/include'
ccversion=''
gccversion='8.3.0'
gccosandvers=''
intsize=4
longsize=8
ptrsize=8
doublesize=8
byteorder=12345678
doublekind=3
d_longlong=define
longlongsize=8
d_longdbl=define
longdblsize=16
longdblkind=3
ivtype='long'
ivsize=8
nvtype='double'
nvsize=8
Off_t='off_t'
lseeksize=8
alignbytes=8
prototype=define
Linker and Libraries:
ld='cc'
ldflags =' -fstack-protector-strong -L/usr/local/lib'
libpth=/usr/local/lib /usr/lib/gcc/x86_64-linux-gnu/8/include-fixed /usr/include/x86_64-linux-gnu /usr/lib /lib/x86_64-linux-gnu /lib/../lib /usr/lib/x86_64-linux-gnu /usr/lib/../lib /lib /lib64 /usr/lib64
libs=-lpthread -lnsl -ldl -lm -lcrypt -lutil -lc
perllibs=-lpthread -lnsl -ldl -lm -lcrypt -lutil -lc
libc=libc-2.28.so
so=so
useshrplib=false
libperl=libperl.a
gnulibc_version='2.28'
Dynamic Linking:
dlsrc=dl_dlopen.xs
dlext=so
d_dlsymun=undef
ccdlflags='-Wl,-E'
cccdlflags='-fPIC'
lddlflags='-shared -O2 -L/usr/local/lib -fstack-protector-strong'
Characteristics of this binary (from libperl):
Compile-time options:
HAS_TIMES
PERLIO_LAYERS
PERL_COPY_ON_WRITE
PERL_DONT_CREATE_GVSV
PERL_MALLOC_WRAP
PERL_OP_PARENT
PERL_PRESERVE_IVUV
PERL_USE_DEVEL
USE_64_BIT_ALL
USE_64_BIT_INT
USE_LARGE_FILES
USE_LOCALE
USE_LOCALE_COLLATE
USE_LOCALE_CTYPE
USE_LOCALE_NUMERIC
USE_LOCALE_TIME
USE_PERLIO
USE_PERL_ATOF
Built under linux
Compiled at Mar 20 2020 17:29:15
%ENV:
PERL_CPANM_OPT="--skip-installed --prompt"
@INC:
/opt/plenv/versions/5.31.10/lib/perl5/site_perl/5.31.10/x86_64-linux
/opt/plenv/versions/5.31.10/lib/perl5/site_perl/5.31.10
/opt/plenv/versions/5.31.10/lib/perl5/5.31.10/x86_64-linux
/opt/plenv/versions/5.31.10/lib/perl5/5.31.10