Back
From: metabase:user:e7b34f46-36ca-11e0-a826-945c7ca43f85
Subject: PASS Data-TreeValidator-0.03 v5.12.2 NetBSD
Date: 2011-02-14T22:35:03Z
This distribution has been tested as part of the CPAN Testers
project, supporting the Perl programming language. See
http://wiki.cpantesters.org/ for more information or email
questions to cpan-testers-discuss@perl.org
--
Dear Oliver Charles,
This is a computer-generated report for Data-TreeValidator-0.03
on perl 5.12.2, created by CPAN-Reporter-1.1902.
Thank you for uploading your work to CPAN. Congratulations!
All tests were successful.
Sections of this report:
* Tester comments
* Program output
* Prerequisites
* Environment and other context
------------------------------
TESTER COMMENTS
------------------------------
Additional comments from tester:
this report is from an automated smoke testing program
and was not reviewed by a human for accuracy
------------------------------
PROGRAM OUTPUT
------------------------------
Output from 'make test':
PERL_DL_NONLAZY=1 /usr/pkg/bin/perl "-MExtUtils::Command::MM" "-e" "test_harness(0, 'blib/lib', 'blib/arch')" t/*.t t/Tests/Data/TreeValidator/*.t t/Tests/Data/TreeValidator/Result/*.t t/functional/*.t
t/functional/artist.t ......................... ok
t/functional/login.t .......................... ok
t/release-no-tabs.t ........................... skipped: these tests are for release candidate testing
t/release-pod-coverage.t ...................... skipped: these tests are for release candidate testing
t/release-pod-syntax.t ........................ skipped: these tests are for release candidate testing
t/Tests/Data/TreeValidator/Branch.t ........... ok
t/Tests/Data/TreeValidator/Constraints.t ...... ok
t/Tests/Data/TreeValidator/Leaf.t ............. ok
t/Tests/Data/TreeValidator/RepeatingBranch.t .. ok
t/Tests/Data/TreeValidator/Result/Branch.t .... ok
t/Tests/Data/TreeValidator/Result/Leaf.t ...... ok
t/Tests/Data/TreeValidator/Sugar.t ............ ok
All tests successful.
Files=12, Tests=13, 5 wallclock secs ( 0.02 usr 0.11 sys + 2.32 cusr 2.64 csys = 5.09 CPU)
Result: PASS
------------------------------
PREREQUISITES
------------------------------
Prerequisite modules loaded:
requires:
Module Need Have
------------------------- -------- --------
aliased 0.30 0.30
CGI::Expand 2.02 2.02
Moose 1.16 1.21
MooseX::Params::Validate 0.14 0.16
MooseX::Types 0.24 0.25
MooseX::Types::Structured 0.23 0.26
namespace::autoclean 0.11 0.12
Set::Object 0 1.28
Sub::Exporter 0.982 0.982
Test::Fatal 0.003 0.003
Test::More 0.96 0.96
Test::Routine 0.004 0.009
Throwable 0.102080 0.102080
Try::Tiny 0.07 0.09
configure_requires:
Module Need Have
------------------------- -------- --------
ExtUtils::MakeMaker 6.31 6.56
------------------------------
ENVIRONMENT AND OTHER CONTEXT
------------------------------
Environment variables:
AUTOMATED_TESTING = 1
LD_LIBRARY_PATH = /home/tom/local/lib:
PATH = /home/tom/perl5/bin:/home/tom/etc/cpan/bin:/home/tom/local/bin:/usr/bin:/bin:/usr/pkg/bin:/usr/local/bin
PERL5LIB = /home/tom/perl5/lib/perl5/x86_64-netbsd-thread-multi:/home/tom/perl5/lib/perl5:/home/tom/.cpan:/home/tom/.cpan/lib:/home/tom/.cpan/lib/perl5:/home/tom/.cpan/lib/perl5/site_perl:/home/tom/.cpan/lib/perl5/5.10.0/i486-linux-gnu-thread-multi:
PERL5OPT =
PERL5_CPANPLUS_IS_RUNNING = 19283
PERL5_CPAN_IS_RUNNING = 19283
PERL5_CPAN_IS_RUNNING_IN_RECURSION = 470,19283
PERL_CR_SMOKER_CURRENT = Data-TreeValidator-0.03
PERL_EXTUTILS_AUTOINSTALL = --defaultdeps
PERL_LOCAL_LIB_ROOT = /home/tom/perl5
PERL_MB_OPT = --install_base /home/tom/perl5
PERL_MM_OPT = INSTALL_BASE=/home/tom/perl5
PERL_MM_USE_DEFAULT = 1
SHELL = /usr/pkg/bin/bash
TERM = xterm
Perl special variables (and OS-specific diagnostics, for MSWin32):
$^X = /usr/pkg/bin/perl
$UID/$EUID = 1000 / 1000
$GID = 100 100 0
$EGID = 100 100 0
Perl module toolchain versions installed:
Module Have
------------------- --------
CPAN 1.94_56
Cwd 3.31
ExtUtils::CBuilder 0.280202
ExtUtils::Command 1.16
ExtUtils::Install 1.55
ExtUtils::MakeMaker 6.56
ExtUtils::Manifest 1.57
ExtUtils::ParseXS 2.2206
File::Spec 3.31_01
Module::Build 0.37_02
Module::Signature n/a
Test::Harness 3.22
Test::More 0.96
YAML 0.72
YAML::Syck 1.17
version 0.88
--
Summary of my perl5 (revision 5 version 12 subversion 2) configuration:
Platform:
osname=netbsd, osvers=5.1, archname=x86_64-netbsd-thread-multi
uname='netbsd amd64-nb51.netbsd.org 5.1 netbsd 5.1 (libkver) #0: tue jan 19 00:00:00 utc 2038 root@localhost:sysarchamd64compilelibkver amd64 '
config_args='-sde -D ccflags=-O2 -pthread -I/usr/include -D ldflags= -L/usr/lib -Wl,-R/usr/lib -Wl,-R/usr/pkg/lib -Duseshrplib -Duseithreads -Uusemymalloc'
hint=recommended, useposix=true, d_sigaction=define
useithreads=define, usemultiplicity=define
useperlio=define, d_sfio=undef, uselargefiles=define, usesocks=undef
use64bitint=define, use64bitall=define, uselongdouble=undef
usemymalloc=n, bincompat5005=undef
Compiler:
cc='cc', ccflags ='-O2 -pthread -I/usr/include -fno-strict-aliasing -pipe -fstack-protector',
optimize='-O2 -pthread -I/usr/include',
cppflags='-O2 -pthread -I/usr/include -fno-strict-aliasing -pipe -fstack-protector'
ccversion='', gccversion='4.1.3 20080704 prerelease (NetBSD nb2 20081120)', gccosandvers=''
intsize=4, longsize=8, ptrsize=8, doublesize=8, byteorder=12345678
d_longlong=define, longlongsize=8, d_longdbl=define, longdblsize=16
ivtype='long', ivsize=8, nvtype='double', nvsize=8, Off_t='off_t', lseeksize=8
alignbytes=8, prototype=define
Linker and Libraries:
ld='cc', ldflags ='-Wl,-R/usr/pkg/lib -Wl,-rpath,/usr/pkg/lib -fstack-protector'
libpth=/lib /usr/lib
libs=-lm -lcrypt -lpthread
perllibs=-lm -lcrypt -lpthread
libc=/lib/libc.so, so=so, useshrplib=true, libperl=libperl.so
gnulibc_version=''
Dynamic Linking:
dlsrc=dl_dlopen.xs, dlext=so, d_dlsymun=undef, ccdlflags='-Wl,-E -Wl,-R/usr/pkg/lib/perl5/5.12.0/x86_64-netbsd-thread-multi/CORE'
cccdlflags='-DPIC -fPIC ', lddlflags='-Wl,-R/usr/pkg/lib --whole-archive -shared -fstack-protector'
Characteristics of this binary (from libperl):
Compile-time options: MULTIPLICITY PERL_DONT_CREATE_GVSV
PERL_IMPLICIT_CONTEXT USE_64_BIT_ALL USE_64_BIT_INT
USE_ITHREADS USE_LARGE_FILES USE_PERLIO USE_PERL_ATOF
USE_REENTRANT_API
Built under netbsd
Compiled at Jan 21 2011 01:10:32
%ENV:
PERL5LIB="/home/tom/perl5/lib/perl5/x86_64-netbsd-thread-multi:/home/tom/perl5/lib/perl5:/home/tom/.cpan:/home/tom/.cpan/lib:/home/tom/.cpan/lib/perl5:/home/tom/.cpan/lib/perl5/site_perl:/home/tom/.cpan/lib/perl5/5.10.0/i486-linux-gnu-thread-multi:"
PERL5OPT=""
PERL5_CPANPLUS_IS_RUNNING="19283"
PERL5_CPAN_IS_RUNNING="19283"
PERL5_CPAN_IS_RUNNING_IN_RECURSION="470,19283"
PERL_CR_SMOKER_CURRENT="Data-TreeValidator-0.03"
PERL_EXTUTILS_AUTOINSTALL="--defaultdeps"
PERL_LOCAL_LIB_ROOT="/home/tom/perl5"
PERL_MB_OPT="--install_base /home/tom/perl5"
PERL_MM_OPT="INSTALL_BASE=/home/tom/perl5"
PERL_MM_USE_DEFAULT="1"
@INC:
/home/tom/perl5/lib/perl5/x86_64-netbsd-thread-multi
/home/tom/perl5/lib/perl5/x86_64-netbsd-thread-multi
/home/tom/perl5/lib/perl5
/home/tom/.cpan
/home/tom/.cpan/lib
/home/tom/.cpan/lib/perl5
/home/tom/.cpan/lib/perl5/site_perl
/home/tom/.cpan/lib/perl5/5.10.0/i486-linux-gnu-thread-multi
/usr/pkg/lib/perl5/site_perl/5.12.0/x86_64-netbsd-thread-multi
/usr/pkg/lib/perl5/site_perl/5.12.0
/usr/pkg/lib/perl5/vendor_perl/5.12.0/x86_64-netbsd-thread-multi
/usr/pkg/lib/perl5/vendor_perl/5.12.0
/usr/pkg/lib/perl5/5.12.0/x86_64-netbsd-thread-multi
/usr/pkg/lib/perl5/5.12.0
.