Starman v0.4017 Perl 5 v5.24.4 x86_64-linux-thread-multi
- Status
- Pass
- From
- Andreas J. König (ANDK)
- Dist
-
Starman v0.4017
- Platform
- Perl 5 v5.24.4 x86_64-linux-thread-multi
- Date
- 2023-10-18 03:08:52
- ID
- aa7181f6-6d63-11ee-97e8-bc50c20ecd47
This distribution has been tested as part of the CPAN Testers
project, supporting the Perl programming language. See
http://wiki.cpantesters.org/ for more information or email
questions to cpan-testers-discuss@perl.org
--
Dear Tatsuhiko Miyagawa,
This is a computer-generated report for Starman-0.4017
on perl 5.24.4, created by CPAN-Reporter-1.2019.
Thank you for uploading your work to CPAN. Congratulations!
All tests were successful.
Sections of this report:
* Tester comments
* Program output
* Prerequisites
* Environment and other context
------------------------------
TESTER COMMENTS
------------------------------
Additional comments from tester:
this report is from an automated smoke testing program
and was not reviewed by a human for accuracy
------------------------------
PROGRAM OUTPUT
------------------------------
Output from './Build test':
t/00_compile.t ........... ok
t/author-pod-syntax.t .... skipped: these tests are for testing by the author
2023/10/18-05:07:49 Starman::Server (type Net::Server::PreFork) starting! pid(3032338)
Binding to TCP port 44971 on host 127.0.0.1 with IPv4
Setting gid to "1005 1005 1005"
2023/10/18-05:07:49 Server closing!
t/chunked_req.t .......... ok
t/chunked_termination.t .. ok
2023/10/18-05:07:50 Starman::Server (type Net::Server::PreFork) starting! pid(3032351)
Binding to TCP port 36967 on host 127.0.0.1 with IPv4
Setting gid to "1005 1005 1005"
2023/10/18-05:07:50 Server closing!
t/chunked_zero_length.t .. ok
2023/10/18-05:07:51 Starman::Server (type Net::Server::PreFork) starting! pid(3032358)
Binding to TCP port 33685 on host 127.0.0.1 with IPv4
Setting gid to "1005 1005 1005"
2023/10/18-05:07:51 Server closing!
t/early-hints.t .......... ok
2023/10/18-05:07:51 Starman::Server (type Net::Server::PreFork) starting! pid(3032365)
Binding to TCP port 33303 on host 127.0.0.1 with IPv4
Setting gid to "1005 1005 1005"
2023/10/18-05:07:52 Server closing!
t/eintr.t ................ ok
2023/10/18-05:07:53 Starman::Server (type Net::Server::PreFork) starting! pid(3032372)
Binding to TCP port 43593 on host 127.0.0.1 with IPv4
Setting gid to "1005 1005 1005"
2023/10/18-05:07:53 Server closing!
t/expect.t ............... ok
2023/10/18-05:07:53 Starman::Server (type Net::Server::PreFork) starting! pid(3032381)
Binding to TCP port 42965 on host 127.0.0.1 with IPv4
Setting gid to "1005 1005 1005"
2023/10/18-05:07:53 Server closing!
2023/10/18-05:07:53 Starman::Server (type Net::Server::PreFork) starting! pid(3032387)
Binding to TCP port 34113 on host 127.0.0.1 with IPv4
Setting gid to "1005 1005 1005"
2023/10/18-05:07:54 Server closing!
Accept failed with 29 tries left: Invalid argument
Accept failed with 28 tries left: Invalid argument
Accept failed with 27 tries left: Invalid argument
Accept failed with 26 tries left: Invalid argument
Accept failed with 25 tries left: Invalid argument
Accept failed with 24 tries left: Invalid argument
Accept failed with 23 tries left: Invalid argument
Accept failed with 22 tries left: Invalid argument
Accept failed with 21 tries left: Invalid argument
Accept failed with 20 tries left: Invalid argument
Accept failed with 19 tries left: Invalid argument
Accept failed with 18 tries left: Invalid argument
Accept failed with 17 tries left: Invalid argument
Accept failed with 16 tries left: Invalid argument
Accept failed with 15 tries left: Invalid argument
Accept failed with 14 tries left: Invalid argument
Accept failed with 13 tries left: Invalid argument
Accept failed with 12 tries left: Invalid argument
Accept failed with 11 tries left: Invalid argument
Accept failed with 10 tries left: Invalid argument
Accept failed with 9 tries left: Invalid argument
Accept failed with 8 tries left: Invalid argument
Accept failed with 7 tries left: Invalid argument
Accept failed with 6 tries left: Invalid argument
Accept failed with 5 tries left: Invalid argument
Accept failed with 4 tries left: Invalid argument
Accept failed with 3 tries left: Invalid argument
Accept failed with 2 tries left: Invalid argument
Accept failed with 1 tries left: Invalid argument
Accept failed with 0 tries left: Invalid argument
Ran out of accept retries!
t/harakiri.t ............. ok
2023/10/18-05:08:24 Starman::Server (type Net::Server::PreFork) starting! pid(3032420)
Binding to TCP port 43635 on host 127.0.0.1 with IPv4
Setting gid to "1005 1005 1005"
2023/10/18-05:08:24 Server closing!
t/lf_only_request.t ...... ok
2023/10/18-05:08:25 Starman::Server (type Net::Server::PreFork) starting! pid(3032432)
Binding to TCP port 41803 on host 127.0.0.1 with IPv4
Setting gid to "1005 1005 1005"
2023/10/18-05:08:25 Server closing!
t/no_chunked_head.t ...... ok
t/release-findbin.t ...... skipped: these tests are for release candidate testing
t/release-rand.t ......... skipped: these tests are for release candidate testing
2023/10/18-05:08:25 Starman::Server (type Net::Server::PreFork) starting! pid(3032449)
Binding to TCP port 34233 on host 127.0.0.1 with IPv4
Setting gid to "1005 1005 1005"
2023/10/18-05:08:25 Server closing!
t/single_zero.t .......... ok
2023/10/18-05:08:26 Starman::Server (type Net::Server::PreFork) starting! pid(3032457)
Resolved [localhost]:41879 to [::1]:41879, IPv6
Resolved [localhost]:41879 to [127.0.0.1]:41879, IPv4
Binding to SSL port 41879 on host ::1 with IPv6
Binding to SSL port 41879 on host 127.0.0.1 with IPv4
Setting gid to "1005 1005 1005"
Passed serialize value of none is incompatible with multiple ports - using default serialize
Could not finalize SSL connection with client handle (SSL accept attempt failed error:0A000126:SSL routines::unexpected eof while reading)
2023/10/18-05:08:26 Server closing!
t/ssl.t .................. ok
2023/10/18-05:08:27 Starman::Server (type Net::Server::PreFork) starting! pid(3032465)
Resolved [localhost]:45883 to [::1]:45883, IPv6
Resolved [localhost]:45883 to [127.0.0.1]:45883, IPv4
Binding to SSL port 45883 on host ::1 with IPv6
Binding to SSL port 45883 on host 127.0.0.1 with IPv4
Setting gid to "1005 1005 1005"
Passed serialize value of none is incompatible with multiple ports - using default serialize
Could not finalize SSL connection with client handle (SSL accept attempt failed error:0A000126:SSL routines::unexpected eof while reading)
2023/10/18-05:08:27 Server closing!
t/ssl_largebody.t ........ ok
2023/10/18-05:08:27 Starman::Server (type Net::Server::PreFork) starting! pid(3032473)
Binding to TCP port 45979 on host 127.0.0.1 with IPv4
Setting gid to "1005 1005 1005"
2023/10/18-05:08:27 Server closing!
t/suite.t ................ ok
All tests successful.
Files=17, Tests=125, 39 wallclock secs ( 0.09 usr 0.05 sys + 3.62 cusr 2.00 csys = 5.76 CPU)
Result: PASS
------------------------------
PREREQUISITES
------------------------------
Prerequisite modules loaded:
requires:
Module Need Have
------------------- -------- --------
Data::Dump 0 1.25
HTTP::Date 0 6.06
HTTP::Parser::XS 0 0.17
HTTP::Status 0 6.44
Net::Server 2.007 2.014
parent 0 0.241
perl 5.008001 5.024004
Plack 0.9971 1.0050
Test::TCP 2.00 2.22
build_requires:
Module Need Have
------------------- -------- --------
LWP::UserAgent 0 6.68
Test::More 0 1.302195
Test::Requires 0 0.11
configure_requires:
Module Need Have
------------------- -------- --------
Module::Build::Tiny 0.034 0.045
------------------------------
ENVIRONMENT AND OTHER CONTEXT
------------------------------
Environment variables:
AUTOMATED_TESTING = 1
LANG = en_US.UTF-8
LANGUAGE = en_US:en
PATH = /home/sand/bin:/usr/local/bin:/usr/bin:/bin:/usr/games:/usr/local/perl/bin:/usr/X11/bin:/sbin:/usr/sbin
PERL5LIB =
PERL5OPT =
PERL5_CPANPLUS_IS_RUNNING = 3030997
PERL5_CPAN_IS_RUNNING = 3030997
PERL_CANARY_STABILITY_NOPROMPT = 1
PERL_MM_USE_DEFAULT = 1
PERL_USE_UNSAFE_INC = 1
SHELL = /usr/bin/zsh
TERM = screen
Perl special variables (and OS-specific diagnostics, for MSWin32):
$^X = /home/sand/src/perl/repoperls/installed-perls/host/k93msid/v5.24.4/29fb/bin/perl
$UID/$EUID = 1005 / 1005
$GID = 1005 1005
$EGID = 1005 1005
Perl module toolchain versions installed:
Module Have
------------------- --------
CPAN 2.35
CPAN::Meta 2.150010
Cwd 3.75
ExtUtils::CBuilder 0.280236
ExtUtils::Command 7.70
ExtUtils::Install 2.22
ExtUtils::MakeMaker 7.70
ExtUtils::Manifest 1.70
ExtUtils::ParseXS 3.44
File::Spec 3.75
JSON 4.10
JSON::PP 4.17_01
Module::Build 0.4234
Module::Signature 0.88
Parse::CPAN::Meta 2.150010
Test2 1.302195
Test::Harness 3.45_01
Test::More 1.302195
YAML 1.30
YAML::Syck 1.34
version 0.9929
--
Summary of my perl5 (revision 5 version 24 subversion 4) configuration:
Derived from: 901dd848e31de6d0cacfb77c029b4e92c41a13ce
Platform:
osname=linux, osvers=6.1.0-7-amd64, archname=x86_64-linux-thread-multi
uname='linux k93msid 6.1.0-7-amd64 #1 smp preempt_dynamic debian 6.1.20-1 (2023-03-19) x86_64 gnulinux '
config_args='-Dprefix=/home/sand/src/perl/repoperls/installed-perls/host/k93msid/v5.24.4/29fb -Dmyhostname=k93msid -Dinstallusrbinperl=n -Uversiononly -Dusedevel -des -Ui_db -Dlibswanted=cl pthread socket inet nsl gdbm dbm malloc dl ld sun m crypt sec util c cposix posix ucb BSD gdbm_compat -Duseithreads -Uuselongdouble -DEBUGGING=both'
hint=recommended, useposix=true, d_sigaction=define
useithreads=define, usemultiplicity=define
use64bitint=define, use64bitall=define, uselongdouble=undef
usemymalloc=n, bincompat5005=undef
Compiler:
cc='cc', ccflags ='-D_REENTRANT -D_GNU_SOURCE -fwrapv -DDEBUGGING -fno-strict-aliasing -pipe -fstack-protector-strong -I/usr/local/include -D_LARGEFILE_SOURCE -D_FILE_OFFSET_BITS=64 -D_FORTIFY_SOURCE=2',
optimize='-O2 -g',
cppflags='-D_REENTRANT -D_GNU_SOURCE -fwrapv -DDEBUGGING -fno-strict-aliasing -pipe -fstack-protector-strong -I/usr/local/include'
ccversion='', gccversion='12.2.0', gccosandvers=''
intsize=4, longsize=8, ptrsize=8, doublesize=8, byteorder=12345678, doublekind=3
d_longlong=define, longlongsize=8, d_longdbl=define, longdblsize=16, longdblkind=3
ivtype='long', ivsize=8, nvtype='double', nvsize=8, Off_t='off_t', lseeksize=8
alignbytes=8, prototype=define
Linker and Libraries:
ld='cc', ldflags =' -fstack-protector-strong -L/usr/local/lib'
libpth=/usr/local/lib /usr/include/x86_64-linux-gnu /usr/lib /lib/x86_64-linux-gnu /lib/../lib /usr/lib/x86_64-linux-gnu /usr/lib/../lib /lib /lib64 /usr/lib64
libs=-lpthread -lnsl -ldl -lm -lcrypt -lutil -lc
perllibs=-lpthread -lnsl -ldl -lm -lcrypt -lutil -lc
libc=/lib/x86_64-linux-gnu/libc.so.6, so=so, useshrplib=false, libperl=libperl.a
gnulibc_version='2.36'
Dynamic Linking:
dlsrc=dl_dlopen.xs, dlext=so, d_dlsymun=undef, ccdlflags='-Wl,-E'
cccdlflags='-fPIC', lddlflags='-shared -O2 -g -L/usr/local/lib -fstack-protector-strong'
Characteristics of this binary (from libperl):
Compile-time options: DEBUGGING HAS_TIMES MULTIPLICITY PERLIO_LAYERS
PERL_COPY_ON_WRITE PERL_DONT_CREATE_GVSV
PERL_HASH_FUNC_ONE_AT_A_TIME_HARD
PERL_IMPLICIT_CONTEXT PERL_MALLOC_WRAP
PERL_PRESERVE_IVUV PERL_TRACK_MEMPOOL PERL_USE_DEVEL
USE_64_BIT_ALL USE_64_BIT_INT USE_ITHREADS
USE_LARGE_FILES USE_LOCALE USE_LOCALE_COLLATE
USE_LOCALE_CTYPE USE_LOCALE_NUMERIC USE_LOCALE_TIME
USE_PERLIO USE_PERL_ATOF USE_REENTRANT_API
Locally applied patches:
uncommitted-changes
Built under linux
Compiled at May 5 2023 09:27:33
%ENV:
PERL5LIB=""
PERL5OPT=""
PERL5_CPANPLUS_IS_RUNNING="3030997"
PERL5_CPAN_IS_RUNNING="3030997"
PERL_CANARY_STABILITY_NOPROMPT="1"
PERL_MM_USE_DEFAULT="1"
PERL_USE_UNSAFE_INC="1"
@INC:
/home/sand/src/perl/repoperls/installed-perls/host/k93msid/v5.24.4/29fb/lib/site_perl/5.24.4/x86_64-linux-thread-multi
/home/sand/src/perl/repoperls/installed-perls/host/k93msid/v5.24.4/29fb/lib/site_perl/5.24.4
/home/sand/src/perl/repoperls/installed-perls/host/k93msid/v5.24.4/29fb/lib/5.24.4/x86_64-linux-thread-multi
/home/sand/src/perl/repoperls/installed-perls/host/k93msid/v5.24.4/29fb/lib/5.24.4
.