Dist-Zilla-Plugin-CheckChangesHasContent v0.011 Perl 5 v5.31.5 x86_64-linux

Status
Pass
From
John SJ Anderson
Dist
Dist-Zilla-Plugin-CheckChangesHasContent v0.011
Platform
Perl 5 v5.31.5 x86_64-linux
Date
2019-10-21 14:04:15
ID
aa71b55c-f40b-11e9-b71a-7ce812b0d1a6
This distribution has been tested as part of the CPAN Testers
project, supporting the Perl programming language.  See
http://wiki.cpantesters.org/ for more information or email
questions to cpan-testers-discuss@perl.org


--
Dear DAGOLDEN,

This is a computer-generated report for Dist-Zilla-Plugin-CheckChangesHasContent-0.011
on perl 5.31.5, created by App::cpanminus::reporter 0.17 (1.7044).

Thank you for uploading your work to CPAN.  Congratulations!
All tests were successful.

Sections of this report:

    * Tester comments
    * Program output
    * Prerequisites
    * Environment and other context

------------------------------
TESTER COMMENTS
------------------------------

Additional comments from tester:

none provided

------------------------------
PROGRAM OUTPUT
------------------------------

Output from '':

Building and testing Dist-Zilla-Plugin-CheckChangesHasContent-0.011
cp lib/Dist/Zilla/Plugin/Test/ChangesHasContent.pm blib/lib/Dist/Zilla/Plugin/Test/ChangesHasContent.pm
cp lib/Dist/Zilla/Plugin/CheckChangesHasContent.pm blib/lib/Dist/Zilla/Plugin/CheckChangesHasContent.pm
Manifying 2 pod documents
PERL_DL_NONLAZY=1 "/opt/plenv/versions/5.31.5/bin/perl5.31.5" "-MExtUtils::Command::MM" "-MTest::Harness" "-e" "undef *Test::Harness::Switches; test_harness(0, 'blib/lib', 'blib/arch')" t/*.t
# 
# Versions for all modules listed in MYMETA.json (including optional ones):
# 
# === Configure Requires ===
# 
#     Module              Want Have
#     ------------------- ---- ----
#     ExtUtils::MakeMaker 6.17 7.38
# 
# === Build Requires ===
# 
#     Module              Want Have
#     ------------------- ---- ----
#     ExtUtils::MakeMaker  any 7.38
# 
# === Test Requires ===
# 
#     Module              Want     Have
#     ------------------- ---- --------
#     Capture::Tiny        any     0.48
#     Cwd                  any     3.78
#     Dist::Zilla::Tester  any    6.012
#     ExtUtils::MakeMaker  any     7.38
#     File::Spec           any     3.78
#     Path::Tiny           any    0.108
#     Test::Fatal          any    0.014
#     Test::Harness        any     3.42
#     Test::More          0.88 1.302168
# 
# === Test Recommends ===
# 
#     Module         Want     Have
#     ---------- -------- --------
#     CPAN::Meta 2.120900 2.150010
# 
# === Runtime Requires ===
# 
#     Module                               Want     Have
#     -------------------------------- -------- --------
#     Data::Section                    0.200002 0.200007
#     Dist::Zilla                             6    6.012
#     Dist::Zilla::File::InMemory           any    6.012
#     Dist::Zilla::Role::BeforeRelease      any    6.012
#     Dist::Zilla::Role::FileGatherer       any    6.012
#     Dist::Zilla::Role::FileMunger         any    6.012
#     Dist::Zilla::Role::TextTemplate       any    6.012
#     List::Util                            any     1.52
#     Moose                                   2   2.2011
#     Moose::Util::TypeConstraints          any   2.2011
#     Sub::Exporter::ForMethods             any 0.100052
#     autodie                              2.00     2.29
#     namespace::autoclean                 0.28     0.29
#     strict                                any     1.11
#     warnings                              any     1.45
# 
t/00-report-prereqs.t ....... ok
t/checkhascontent.t ......... ok
t/test_changeshascontent.t .. ok
All tests successful.
Files=3, Tests=40,  2 wallclock secs ( 0.04 usr  0.01 sys +  2.24 cusr  0.19 csys =  2.48 CPU)
Result: PASS

------------------------------
PREREQUISITES
------------------------------

Prerequisite modules loaded:

    No requirements found

------------------------------
ENVIRONMENT AND OTHER CONTEXT
------------------------------

Environment variables:

    LANG = en_US.UTF-8
    LC_ALL = en_US.UTF-8
    PATH = /opt/plenv/versions/5.31.5/bin:/opt/plenv/libexec:/opt/plenv/plugins/perl-build/bin:/opt/plenv/shims:/opt/git/bin:/opt/plenv/shims:/opt/plenv/bin:/opt/nvm/versions/node/v10.11.0/bin:/home/genehack/bin:/opt/go/bin:/opt/vim/bin:/opt/tmux/bin:/opt/ruby/bin:/opt/rust/bin:/opt/gitflow/bin:/opt/emacs/bin:/opt/local/bin:/opt/git/bin:/usr/local/bin:/usr/bin:/bin:/usr/local/games:/usr/games:/home/genehack/proj/go/bin:/opt/swift/usr/bin
    PERL_CPANM_OPT = --skip-installed --prompt
    SHELL = /bin/zsh
    TERM = screen-256color

Perl special variables (and OS-specific diagnostics, for MSWin32):

    EGID = 1001 24 25 27 29 30 44 46 102 125 1001
    EUID = 1001
    EXECUTABLE_NAME = /opt/plenv/versions/5.31.5/bin/perl5.31.5
    GID = 1001 24 25 27 29 30 44 46 102 125 1001
    UID = 1001

Perl module toolchain versions installed:

    Module              Have    
    ------------------- --------
    CPAN                2.27    
    CPAN::Meta          2.150010
    Cwd                 3.78    
    ExtUtils::CBuilder  0.280233
    ExtUtils::Command   7.38    
    ExtUtils::Install   2.14    
    ExtUtils::MakeMaker 7.38    
    ExtUtils::Manifest  1.72    
    ExtUtils::ParseXS   3.40    
    File::Spec          3.78    
    JSON                4.02    
    JSON::PP            4.04    
    Module::Build       0.4229  
    Module::Signature   n/a     
    Parse::CPAN::Meta   2.150010
    Test::Harness       3.42    
    Test::More          1.302168
    YAML                1.29    
    YAML::Syck          n/a     
    version             0.9924  


--

Summary of my perl5 (revision 5 version 31 subversion 5) configuration:
   
  Platform:
    osname=linux
    osvers=4.19.0-6-amd64
    archname=x86_64-linux
    uname='linux ferb 4.19.0-6-amd64 #1 smp debian 4.19.67-2+deb10u1 (2019-09-20) x86_64 gnulinux '
    config_args='-Dprefix=/opt/plenv/versions/5.31.5 -de -Dversiononly -Dusedevel -A'eval:scriptdir=/opt/plenv/versions/5.31.5/bin''
    hint=recommended
    useposix=true
    d_sigaction=define
    useithreads=undef
    usemultiplicity=undef
    use64bitint=define
    use64bitall=define
    uselongdouble=undef
    usemymalloc=n
    default_inc_excludes_dot=define
    bincompat5005=undef
  Compiler:
    cc='cc'
    ccflags ='-fwrapv -fno-strict-aliasing -pipe -fstack-protector-strong -I/usr/local/include -D_LARGEFILE_SOURCE -D_FILE_OFFSET_BITS=64 -D_FORTIFY_SOURCE=2'
    optimize='-O2'
    cppflags='-fwrapv -fno-strict-aliasing -pipe -fstack-protector-strong -I/usr/local/include'
    ccversion=''
    gccversion='8.3.0'
    gccosandvers=''
    intsize=4
    longsize=8
    ptrsize=8
    doublesize=8
    byteorder=12345678
    doublekind=3
    d_longlong=define
    longlongsize=8
    d_longdbl=define
    longdblsize=16
    longdblkind=3
    ivtype='long'
    ivsize=8
    nvtype='double'
    nvsize=8
    Off_t='off_t'
    lseeksize=8
    alignbytes=8
    prototype=define
  Linker and Libraries:
    ld='cc'
    ldflags =' -fstack-protector-strong -L/usr/local/lib -L/opt/local/lib'
    libpth=/usr/local/lib /usr/lib/gcc/x86_64-linux-gnu/8/include-fixed /usr/include/x86_64-linux-gnu /usr/lib /opt/local/lib /lib/x86_64-linux-gnu /lib/../lib /usr/lib/x86_64-linux-gnu /usr/lib/../lib /lib
    libs=-lpthread -lnsl -lgdbm -ldl -lm -lcrypt -lutil -lc
    perllibs=-lpthread -lnsl -ldl -lm -lcrypt -lutil -lc
    libc=libc-2.28.so
    so=so
    useshrplib=false
    libperl=libperl.a
    gnulibc_version='2.28'
  Dynamic Linking:
    dlsrc=dl_dlopen.xs
    dlext=so
    d_dlsymun=undef
    ccdlflags='-Wl,-E'
    cccdlflags='-fPIC'
    lddlflags='-shared -O2 -L/usr/local/lib -L/opt/local/lib -fstack-protector-strong'


Characteristics of this binary (from libperl): 
  Compile-time options:
    HAS_TIMES
    PERLIO_LAYERS
    PERL_COPY_ON_WRITE
    PERL_DONT_CREATE_GVSV
    PERL_MALLOC_WRAP
    PERL_OP_PARENT
    PERL_PRESERVE_IVUV
    PERL_USE_DEVEL
    USE_64_BIT_ALL
    USE_64_BIT_INT
    USE_LARGE_FILES
    USE_LOCALE
    USE_LOCALE_COLLATE
    USE_LOCALE_CTYPE
    USE_LOCALE_NUMERIC
    USE_LOCALE_TIME
    USE_PERLIO
    USE_PERL_ATOF
  Locally applied patches:
    Devel::PatchPerl 1.52
  Built under linux
  Compiled at Oct 20 2019 12:28:44
  %ENV:
    PERL_CPANM_OPT="--skip-installed --prompt"
  @INC:
    /opt/plenv/versions/5.31.5/lib/perl5/site_perl/5.31.5/x86_64-linux
    /opt/plenv/versions/5.31.5/lib/perl5/site_perl/5.31.5
    /opt/plenv/versions/5.31.5/lib/perl5/5.31.5/x86_64-linux
    /opt/plenv/versions/5.31.5/lib/perl5/5.31.5