Back
From: metabase:user:3103e02c-2aae-11df-837a-5e0a49663a4f
Subject: PASS B-Utils-0.17 v5.12.3
Date: 2011-11-29T17:12:55Z
This distribution has been tested as part of the CPAN Testers
project, supporting the Perl programming language. See
http://wiki.cpantesters.org/ for more information or email
questions to cpan-testers-discuss@perl.org
--
Dear Joshua ben Jore,
This is a computer-generated report for B-Utils-0.17
on perl 5.12.3, created by CPAN-Reporter-1.2002.
Thank you for uploading your work to CPAN. Congratulations!
All tests were successful.
Sections of this report:
* Tester comments
* Program output
* Prerequisites
* Environment and other context
------------------------------
TESTER COMMENTS
------------------------------
Additional comments from tester:
none provided
------------------------------
PROGRAM OUTPUT
------------------------------
Output from 'C:\strawberry\c\bin\dmake.EXE test':
C:\strawberry\perl\bin\perl.exe "-MExtUtils::Command::MM" "-e" "test_harness(0, 'blib\lib', 'blib\arch')" t/*.t t/*/*.t
t/10use.t ................ ok
t/11export.t ............. ok
t/release-pod-syntax.t ... skipped: these tests are for release candidate testing
t/utils/20all_starts.t ... ok
Name "main::empty_array" used only once: possible typo at t/utils/30parent.t line 1.
t/utils/21all_roots.t .... ok
t/utils/22anon_subs.t .... ok
t/utils/30parent.t ....... ok
t/utils/31oldname.t ...... skipped: No tests written yet.
t/utils/32kids.t ......... skipped: No tests written yet.
t/utils/33ancestors.t .... skipped: No tests written yet.
t/utils/34descendants.t .. skipped: No tests written yet.
t/utils/35siblings.t ..... skipped: No tests written yet.
t/utils/36previous.t ..... skipped: No tests written yet.
t/utils/37stringify.t .... skipped: No tests written yet.
t/utils/40walk.t ......... skipped: No tests written yet.
t/utils/41walkfilt.t ..... skipped: No tests written yet.
t/utils/42all.t .......... skipped: No tests written yet.
t/utils/43allfilt.t ...... skipped: No tests written yet.
t/utils/44optrep.t ....... skipped: No tests written yet.
t/utils/50carp.t ......... skipped: No tests written yet.
t/utils/51croak.t ........ skipped: No tests written yet.
All tests successful.
Files=21, Tests=133, 0 wallclock secs ( 0.06 usr + 0.05 sys = 0.11 CPU)
Result: PASS
------------------------------
PREREQUISITES
------------------------------
Prerequisite modules loaded:
requires:
Module Need Have
------------------- ----- --------
Exporter 0 5.65
ExtUtils::CBuilder 0 0.280202
perl 5.006 5.012003
Scalar::Util 0 1.23
Task::Weaken 0 1.04
Test::More 0 0.98
build_requires:
Module Need Have
------------------- ----- --------
ExtUtils::MakeMaker 0 6.62
configure_requires:
Module Need Have
------------------- ----- --------
ExtUtils::CBuilder 0 0.280202
ExtUtils::Depends 0.301 0.304
------------------------------
ENVIRONMENT AND OTHER CONTEXT
------------------------------
Environment variables:
COMSPEC = C:\Windows\system32\cmd.exe
NUMBER_OF_PROCESSORS = 4
PATH = C:\Program Files\Common Files\Microsoft Shared\Windows Live;C:\Program Files (x86)\Common Files\Microsoft Shared\Windows Live;C:\Windows\system32;C:\Windows;C:\Windows\System32\Wbem;C:\Windows\System32\WindowsPowerShell\v1.0\;C:\Program Files (x86)\ATI Technologies\ATI.ACE\Core-Static;C:\Program Files (x86)\Windows Live\Shared;C:\strawberry\c\bin;C:\strawberry\perl\site\bin;C:\strawberry\perl\bin;C:\Program Files (x86)\Git\cmd
PERL5LIB =
PERL5OPT =
PERL5_CPANPLUS_IS_RUNNING = 5688
PERL5_CPAN_IS_RUNNING = 5688
PERL_JSON_BACKEND = JSON::XS
PERL_YAML_BACKEND = YAML
PROCESSOR_IDENTIFIER = AMD64 Family 16 Model 4 Stepping 2, AuthenticAMD
TEMP = C:\Users\Douglas\AppData\Local\Temp
TERM = msys
Perl special variables (and OS-specific diagnostics, for MSWin32):
$^X = C:\strawberry\perl\bin\perl.exe
$UID/$EUID = 0 / 0
$GID = 0
$EGID = 0
Win32::GetOSName = Win7
Win32::GetOSVersion = Service Pack 1, 6, 1, 7601, 2, 1, 0, 256, 1
Win32::FsType = NTFS
Win32::IsAdminUser = 0
Perl module toolchain versions installed:
Module Have
------------------- --------
CPAN 1.9800
CPAN::Meta 2.112621
Cwd 3.33
ExtUtils::CBuilder 0.280202
ExtUtils::Command 1.17
ExtUtils::Install 1.55
ExtUtils::MakeMaker 6.62
ExtUtils::Manifest 1.60
ExtUtils::ParseXS 3.05
File::Spec 3.33
JSON 2.53
JSON::PP 2.27200
Module::Build 0.3800
Module::Signature n/a
Parse::CPAN::Meta 1.4401
Test::Harness 3.23
Test::More 0.98
YAML 0.77
YAML::Syck 1.19
version 0.95
--
Summary of my perl5 (revision 5 version 12 subversion 3) configuration:
Platform:
osname=MSWin32, osvers=6.1, archname=MSWin32-x64-multi-thread
uname='Win32 strawberryperl 5.12.3.0 #1 Sun May 15 09:43:50 2011 x64'
config_args='undef'
hint=recommended, useposix=true, d_sigaction=undef
useithreads=define, usemultiplicity=define
useperlio=define, d_sfio=undef, uselargefiles=define, usesocks=undef
use64bitint=define, use64bitall=undef, uselongdouble=undef
usemymalloc=n, bincompat5005=undef
Compiler:
cc='gcc', ccflags =' -s -O2 -DWIN32 -DHAVE_DES_FCRYPT -DWIN64 -DCONSERVATIVE -DUSE_SITECUSTOMIZE -DPERL_IMPLICIT_CONTEXT -DPERL_IMPLICIT_SYS -fno-strict-aliasing -mms-bitfields -DPERL_MSVCRT_READFIX',
optimize='-s -O2',
cppflags='-DWIN32'
ccversion='', gccversion='4.4.3', gccosandvers=''
intsize=4, longsize=4, ptrsize=8, doublesize=8, byteorder=12345678
d_longlong=define, longlongsize=8, d_longdbl=define, longdblsize=12
ivtype='long long', ivsize=8, nvtype='double', nvsize=8, Off_t='long long', lseeksize=8
alignbytes=8, prototype=define
Linker and Libraries:
ld='g++', ldflags ='-s -L"C:\strawberry\perl\lib\CORE" -L"C:\strawberry\c\lib"'
libpth=C:\strawberry\c\lib C:\strawberry\c\x86_64-w64-mingw32\lib
libs=-lmoldname -lkernel32 -luser32 -lgdi32 -lwinspool -lcomdlg32 -ladvapi32 -lshell32 -lole32 -loleaut32 -lnetapi32 -luuid -lws2_32 -lmpr -lwinmm -lversion -lodbc32 -lodbccp32 -lcomctl32
perllibs=-lmoldname -lkernel32 -luser32 -lgdi32 -lwinspool -lcomdlg32 -ladvapi32 -lshell32 -lole32 -loleaut32 -lnetapi32 -luuid -lws2_32 -lmpr -lwinmm -lversion -lodbc32 -lodbccp32 -lcomctl32
libc=, so=dll, useshrplib=true, libperl=libperl512.a
gnulibc_version=''
Dynamic Linking:
dlsrc=dl_win32.xs, dlext=dll, d_dlsymun=undef, ccdlflags=' '
cccdlflags=' ', lddlflags='-mdll -s -L"C:\strawberry\perl\lib\CORE" -L"C:\strawberry\c\lib"'
Characteristics of this binary (from libperl):
Compile-time options: MULTIPLICITY PERL_DONT_CREATE_GVSV
PERL_IMPLICIT_CONTEXT PERL_IMPLICIT_SYS
PERL_MALLOC_WRAP PL_OP_SLAB_ALLOC USE_64_BIT_INT
USE_ITHREADS USE_LARGE_FILES USE_PERLIO USE_PERL_ATOF
USE_SITECUSTOMIZE
Built under MSWin32
Compiled at May 15 2011 09:52:35
%ENV:
PERL5_CPANPLUS_IS_RUNNING="5688"
PERL5_CPAN_IS_RUNNING="5688"
PERL_JSON_BACKEND="JSON::XS"
PERL_YAML_BACKEND="YAML"
@INC:
C:/strawberry/perl/site/lib
C:/strawberry/perl/vendor/lib
C:/strawberry/perl/lib
.