Perl-Critic v1.156 Perl 5 v5.28.3 x86_64-linux-thread-multi

Status
Pass
From
Nigel Horne
Dist
Perl-Critic v1.156
Platform
Perl 5 v5.28.3 x86_64-linux-thread-multi
Date
2025-06-30 00:39:23
ID
aad0a70a-554a-11f0-9bbe-f4e4ac3d812b
This distribution has been tested as part of the CPAN Testers
project, supporting the Perl programming language.  See
http://wiki.cpantesters.org/ for more information or email
questions to cpan-testers-discuss@perl.org


--
Dear Andy Lester,

This is a computer-generated report for Perl-Critic-1.156
on perl 5.28.3, created by CPAN-Reporter-1.2018.

Thank you for uploading your work to CPAN.  Congratulations!
All tests were successful.

Sections of this report:

    * Tester comments
    * Program output
    * Prerequisites
    * Environment and other context

------------------------------
TESTER COMMENTS
------------------------------

Additional comments from tester:

this report is from an automated smoke testing program
and was not reviewed by a human for accuracy

------------------------------
PROGRAM OUTPUT
------------------------------

Output from './Build test':

# Testing Perl::Critic 1.156 with PPI 1.283 under Perl 5.028003, /home/smoker/perl5/perlbrew/perls/perl-5.28.3-thread/bin/perl5.28.3
t/00_versions.t ............................... ok
t/00_modules.t ................................ ok
t/01_config_bad_perlcriticrc.t ................ ok
t/01_policy_config.t .......................... ok
t/02_policy.t ................................. ok
t/03_annotations.t ............................ ok
t/01_config.t ................................. ok
t/04_options_processor.t ...................... ok
t/05_utils.t .................................. ok
t/05_utils_perl.t ............................. ok
t/03_pragmas.t ................................ ok
t/05_utils_pod.t .............................. ok
t/05_utils_ppi.t .............................. ok
t/06_violation.t .............................. ok
t/07_command.t ................................ ok
t/07_perlcritic.t ............................. ok
t/08_document.t ............................... ok
t/09_theme.t .................................. ok
t/10_user_profile.t ........................... ok
t/11_policy_factory.t ......................... ok
t/12_policy_listing.t ......................... ok
t/12_theme_listing.t .......................... ok
t/13_bundled_policies.t ....................... ok
t/14_policy_parameter_behavior_boolean.t ...... ok
t/14_policy_parameter_behavior_enumeration.t .. ok
t/14_policy_parameter_behavior_integer.t ...... ok
t/14_policy_parameter_behavior_list_string.t .. ok
t/14_policy_parameter_behavior_string.t ....... ok
t/14_policy_parameters.t ...................... ok
t/15_statistics.t ............................. ok
t/16_roundtrip_defaults.t ..................... ok
t/20_policy_pod_spelling.t .................... ok
t/20_policy_prohibit_evil_modules.t ........... ok
t/20_policy_prohibit_hard_tabs.t .............. ok
t/20_policy_prohibit_trailing_whitespace.t .... ok
t/20_policy_require_consistent_newlines.t ..... ok
t/20_policy_require_tidy_code.t ............... ok
Unhandled type: REGEXP at /home/smoker/perl5/perlbrew/perls/perl-5.28.3-thread/lib/site_perl/5.28.3/Devel/Cycle.pm line 107.
t/92_memory_leaks.t ........................... ok
t/gh-734.t .................................... ok
t/20_policies.t ............................... ok
All tests successful.
Files=40, Tests=8211, 209 wallclock secs ( 3.47 usr  2.50 sys + 254.32 cusr 32.93 csys = 293.22 CPU)
Result: PASS

------------------------------
PREREQUISITES
------------------------------

Prerequisite modules loaded:

requires:

    Module                    Need     Have    
    ------------------------- -------- --------
    B::Keywords               1.23     1.28    
    Carp                      0        1.50    
    charnames                 0        1.45    
    Config::Tiny              2        2.24    
    English                   0        1.10    
    Exception::Class          1.23     1.44    
    Exporter                  5.63     5.73    
    File::Basename            0        2.85    
    File::Find                0        1.34    
    File::Path                0        2.15    
    File::Spec                0        3.75    
    File::Spec::Unix          0        3.75    
    File::Temp                0        0.2309  
    File::Which               0        1.23    
    Getopt::Long              0        2.51    
    List::SomeUtils           0.55     0.58    
    List::Util                0        1.50    
    Module::Pluggable         3.1      5.2     
    overload                  0        1.30    
    parent                    0        0.236   
    perl                      5.010001 5.028003
    Perl::Tidy                0        20200110
    Pod::PlainText            0        2.07    
    Pod::Select               0        1.63    
    Pod::Spell                1        1.20    
    Pod::Usage                0        1.69    
    PPI                       1.277    1.283   
    PPI::Document             1.277    1.283   
    PPI::Document::File       1.277    1.283   
    PPI::Node                 1.277    1.283   
    PPI::Token::Quote::Single 1.277    1.283   
    PPI::Token::Whitespace    1.277    1.283   
    PPIx::QuoteLike           0        0.011   
    PPIx::Regexp              0.027    0.072   
    PPIx::Regexp::Util        0.068    0.072   
    PPIx::Utils::Traversal    0.003    0.004   
    Readonly                  2        2.05    
    Scalar::Util              0        1.50    
    strict                    0        1.11    
    String::Format            1.18     1.18    
    Term::ANSIColor           2.02     4.06    
    Test::Builder             0.92     1.302175
    Text::ParseWords          3        3.30    
    version                   0.77     0.9923  
    warnings                  0        1.42    

build_requires:

    Module                    Need     Have    
    ------------------------- -------- --------
    lib                       0        0.64    
    Test::More                0        1.302175

configure_requires:

    Module                    Need     Have    
    ------------------------- -------- --------
    B::Keywords               1.23     1.28    
    base                      0        2.27    
    Carp                      0        1.50    
    English                   0        1.10    
    Exporter                  5.63     5.73    
    lib                       0        0.64    
    List::SomeUtils           0.55     0.58    
    Module::Build             0.4204   0.4231  


------------------------------
ENVIRONMENT AND OTHER CONTEXT
------------------------------

Environment variables:

    AUTOMATED_TESTING = 1
    HARNESS_OPTIONS = c:j2
    PATH = /home/smoker/perl5/perlbrew/bin:/home/smoker/perl5/perlbrew/perls/perl-5.28.3-thread/bin:/usr/local/sbin:/usr/local/bin:/usr/sbin:/usr/bin:/sbin:/bin:
    PERL5LIB = /home/smoker/.cpan/build/PPIx-Utils-0.004-0/blib/arch:/home/smoker/.cpan/build/PPIx-Utils-0.004-0/blib/lib:/home/smoker/.cpan/build/PPI-1.283-0/blib/arch:/home/smoker/.cpan/build/PPI-1.283-0/blib/lib:/home/smoker/.cpan/build/YAML-PP-v0.39.0-0/blib/arch:/home/smoker/.cpan/build/YAML-PP-v0.39.0-0/blib/lib:/home/smoker/.cpan/build/Safe-Isa-1.000010-0/blib/arch:/home/smoker/.cpan/build/Safe-Isa-1.000010-0/blib/lib:/home/smoker/.cpan/build/B-Keywords-1.28-0/blib/arch:/home/smoker/.cpan/build/B-Keywords-1.28-0/blib/lib:/home/smoker/.cpan/build/CPAN-Requirements-Dynamic-0.002-0/blib/arch:/home/smoker/.cpan/build/CPAN-Requirements-Dynamic-0.002-0/blib/lib:/home/smoker/.cpan/build/ExtUtils-HasCompiler-0.025-0/blib/arch:/home/smoker/.cpan/build/ExtUtils-HasCompiler-0.025-0/blib/lib:/home/smoker/.cpan/build/CPAN-Meta-Requirements-2.143-0/blib/arch:/home/smoker/.cpan/build/CPAN-Meta-Requirements-2.143-0/blib/lib:/home/smoker/.cpan/build/Module-Build-Tiny-0.052-0/blib/arch:/home/smoker/.cpan/build/Module-Build-Tiny-0.052-0/blib/lib:/home/smoker/.cpan/build/AsposeSlidesCloud-SlidesApi-25.06-0/blib/arch:/home/smoker/.cpan/build/AsposeSlidesCloud-SlidesApi-25.06-0/blib/lib:/home/smoker/.cpan/build/Hash-Util-Exists-Tiny-1.03-0/blib/arch:/home/smoker/.cpan/build/Hash-Util-Exists-Tiny-1.03-0/blib/lib
    PERL5OPT = 
    PERL5_CPANPLUS_IS_RUNNING = 31
    PERL5_CPAN_IS_RUNNING = 31
    PERL5_CPAN_IS_RUNNING_IN_RECURSION = 1,31
    PERLBREW_HOME = /home/smoker/.perlbrew
    PERLBREW_MANPATH = /home/smoker/perl5/perlbrew/perls/perl-5.28.3-thread/man
    PERLBREW_PATH = /home/smoker/perl5/perlbrew/bin:/home/smoker/perl5/perlbrew/perls/perl-5.28.3-thread/bin
    PERLBREW_PERL = perl-5.28.3-thread
    PERLBREW_ROOT = /home/smoker/perl5/perlbrew
    PERLBREW_SHELLRC_VERSION = 0.88
    PERLBREW_VERSION = 0.88
    PERL_USE_UNSAFE_INC = 1
    SHELL = /bin/bash
    TERM = xterm
    TMPDIR = /tmp/testwrapper.18

Perl special variables (and OS-specific diagnostics, for MSWin32):

    $^X = /home/smoker/perl5/perlbrew/perls/perl-5.28.3-thread/bin/perl5.28.3
    $UID/$EUID = 1000 / 1000
    $GID = 1000 1000
    $EGID = 1000 1000

Perl module toolchain versions installed:

    Module              Have    
    ------------------- --------
    CPAN                2.20    
    CPAN::Meta          2.150010
    Cwd                 3.75    
    ExtUtils::CBuilder  0.280230
    ExtUtils::Command   7.44    
    ExtUtils::Install   2.14    
    ExtUtils::MakeMaker 7.44    
    ExtUtils::Manifest  1.70    
    ExtUtils::ParseXS   3.39    
    File::Spec          3.75    
    JSON                4.02    
    JSON::PP            2.97001 
    Module::Build       0.4231  
    Module::Signature   n/a     
    Parse::CPAN::Meta   2.150010
    Test::Harness       3.42    
    Test::More          1.302175
    YAML                1.30    
    YAML::Syck          1.32    
    version             0.9923  


--

Summary of my perl5 (revision 5 version 28 subversion 3) configuration:
   
  Platform:
    osname=linux
    osvers=5.3.0-1024-oracle
    archname=x86_64-linux-thread-multi
    uname='linux 3b45f4f551e0 5.3.0-1024-oracle #26~18.04.1-ubuntu smp sat jun 6 00:41:22 utc 2020 x86_64 gnulinux '
    config_args='-de -Dprefix=/home/smoker/perl5/perlbrew/perls/perl-5.28.3-thread -Dusedevel -Dusethreads -Accflags=-O2 -pipe -Wall -Wextra -mtune=native -march=native -Aeval:scriptdir=/home/smoker/perl5/perlbrew/perls/perl-5.28.3-thread/bin'
    hint=recommended
    useposix=true
    d_sigaction=define
    useithreads=define
    usemultiplicity=define
    use64bitint=define
    use64bitall=define
    uselongdouble=undef
    usemymalloc=n
    default_inc_excludes_dot=define
    bincompat5005=undef
  Compiler:
    cc='cc'
    ccflags ='-D_REENTRANT -D_GNU_SOURCE -O2 -pipe -Wall -Wextra -mtune=native -march=native -fwrapv -fno-strict-aliasing -fstack-protector-strong -I/usr/local/include -D_LARGEFILE_SOURCE -D_FILE_OFFSET_BITS=64 -D_FORTIFY_SOURCE=2'
    optimize='-O2'
    cppflags='-D_REENTRANT -D_GNU_SOURCE -O2 -pipe -Wall -Wextra -mtune=native -march=native -fwrapv -fno-strict-aliasing -fstack-protector-strong -I/usr/local/include'
    ccversion=''
    gccversion='8.3.0'
    gccosandvers=''
    intsize=4
    longsize=8
    ptrsize=8
    doublesize=8
    byteorder=12345678
    doublekind=3
    d_longlong=define
    longlongsize=8
    d_longdbl=define
    longdblsize=16
    longdblkind=3
    ivtype='long'
    ivsize=8
    nvtype='double'
    nvsize=8
    Off_t='off_t'
    lseeksize=8
    alignbytes=8
    prototype=define
  Linker and Libraries:
    ld='cc'
    ldflags =' -fstack-protector-strong -L/usr/local/lib'
    libpth=/usr/local/lib /usr/lib/gcc/x86_64-linux-gnu/8/include-fixed /usr/include/x86_64-linux-gnu /usr/lib /lib/x86_64-linux-gnu /lib/../lib /usr/lib/x86_64-linux-gnu /usr/lib/../lib /lib
    libs=-lpthread -lnsl -ldl -lm -lcrypt -lutil -lc
    perllibs=-lpthread -lnsl -ldl -lm -lcrypt -lutil -lc
    libc=libc-2.28.so
    so=so
    useshrplib=false
    libperl=libperl.a
    gnulibc_version='2.28'
  Dynamic Linking:
    dlsrc=dl_dlopen.xs
    dlext=so
    d_dlsymun=undef
    ccdlflags='-Wl,-E'
    cccdlflags='-fPIC'
    lddlflags='-shared -O2 -L/usr/local/lib -fstack-protector-strong'


Characteristics of this binary (from libperl): 
  Compile-time options:
    HAS_TIMES
    MULTIPLICITY
    PERLIO_LAYERS
    PERL_COPY_ON_WRITE
    PERL_DONT_CREATE_GVSV
    PERL_IMPLICIT_CONTEXT
    PERL_MALLOC_WRAP
    PERL_OP_PARENT
    PERL_PRESERVE_IVUV
    PERL_USE_DEVEL
    USE_64_BIT_ALL
    USE_64_BIT_INT
    USE_ITHREADS
    USE_LARGE_FILES
    USE_LOCALE
    USE_LOCALE_COLLATE
    USE_LOCALE_CTYPE
    USE_LOCALE_NUMERIC
    USE_LOCALE_TIME
    USE_PERLIO
    USE_PERL_ATOF
    USE_REENTRANT_API
  Locally applied patches:
    Devel::PatchPerl 2.00
  Built under linux
  Compiled at Jun 11 2020 17:46:52
  %ENV:
    PERL5LIB="/home/smoker/.cpan/build/PPIx-Utils-0.004-0/blib/arch:/home/smoker/.cpan/build/PPIx-Utils-0.004-0/blib/lib:/home/smoker/.cpan/build/PPI-1.283-0/blib/arch:/home/smoker/.cpan/build/PPI-1.283-0/blib/lib:/home/smoker/.cpan/build/YAML-PP-v0.39.0-0/blib/arch:/home/smoker/.cpan/build/YAML-PP-v0.39.0-0/blib/lib:/home/smoker/.cpan/build/Safe-Isa-1.000010-0/blib/arch:/home/smoker/.cpan/build/Safe-Isa-1.000010-0/blib/lib:/home/smoker/.cpan/build/B-Keywords-1.28-0/blib/arch:/home/smoker/.cpan/build/B-Keywords-1.28-0/blib/lib:/home/smoker/.cpan/build/CPAN-Requirements-Dynamic-0.002-0/blib/arch:/home/smoker/.cpan/build/CPAN-Requirements-Dynamic-0.002-0/blib/lib:/home/smoker/.cpan/build/ExtUtils-HasCompiler-0.025-0/blib/arch:/home/smoker/.cpan/build/ExtUtils-HasCompiler-0.025-0/blib/lib:/home/smoker/.cpan/build/CPAN-Meta-Requirements-2.143-0/blib/arch:/home/smoker/.cpan/build/CPAN-Meta-Requirements-2.143-0/blib/lib:/home/smoker/.cpan/build/Module-Build-Tiny-0.052-0/blib/arch:/home/smoker/.cpan/build/Module-Build-Tiny-0.052-0/blib/lib:/home/smoker/.cpan/build/AsposeSlidesCloud-SlidesApi-25.06-0/blib/arch:/home/smoker/.cpan/build/AsposeSlidesCloud-SlidesApi-25.06-0/blib/lib:/home/smoker/.cpan/build/Hash-Util-Exists-Tiny-1.03-0/blib/arch:/home/smoker/.cpan/build/Hash-Util-Exists-Tiny-1.03-0/blib/lib"
    PERL5OPT=""
    PERL5_CPANPLUS_IS_RUNNING="31"
    PERL5_CPAN_IS_RUNNING="31"
    PERL5_CPAN_IS_RUNNING_IN_RECURSION="1,31"
    PERLBREW_HOME="/home/smoker/.perlbrew"
    PERLBREW_MANPATH="/home/smoker/perl5/perlbrew/perls/perl-5.28.3-thread/man"
    PERLBREW_PATH="/home/smoker/perl5/perlbrew/bin:/home/smoker/perl5/perlbrew/perls/perl-5.28.3-thread/bin"
    PERLBREW_PERL="perl-5.28.3-thread"
    PERLBREW_ROOT="/home/smoker/perl5/perlbrew"
    PERLBREW_SHELLRC_VERSION="0.88"
    PERLBREW_VERSION="0.88"
    PERL_USE_UNSAFE_INC="1"
  @INC:
    /home/smoker/.cpan/build/PPIx-Utils-0.004-0/blib/arch
    /home/smoker/.cpan/build/PPIx-Utils-0.004-0/blib/lib
    /home/smoker/.cpan/build/PPI-1.283-0/blib/arch
    /home/smoker/.cpan/build/PPI-1.283-0/blib/lib
    /home/smoker/.cpan/build/YAML-PP-v0.39.0-0/blib/arch
    /home/smoker/.cpan/build/YAML-PP-v0.39.0-0/blib/lib
    /home/smoker/.cpan/build/Safe-Isa-1.000010-0/blib/arch
    /home/smoker/.cpan/build/Safe-Isa-1.000010-0/blib/lib
    /home/smoker/.cpan/build/B-Keywords-1.28-0/blib/arch
    /home/smoker/.cpan/build/B-Keywords-1.28-0/blib/lib
    /home/smoker/.cpan/build/CPAN-Requirements-Dynamic-0.002-0/blib/arch
    /home/smoker/.cpan/build/CPAN-Requirements-Dynamic-0.002-0/blib/lib
    /home/smoker/.cpan/build/ExtUtils-HasCompiler-0.025-0/blib/arch
    /home/smoker/.cpan/build/ExtUtils-HasCompiler-0.025-0/blib/lib
    /home/smoker/.cpan/build/CPAN-Meta-Requirements-2.143-0/blib/arch
    /home/smoker/.cpan/build/CPAN-Meta-Requirements-2.143-0/blib/lib
    /home/smoker/.cpan/build/Module-Build-Tiny-0.052-0/blib/arch
    /home/smoker/.cpan/build/Module-Build-Tiny-0.052-0/blib/lib
    /home/smoker/.cpan/build/AsposeSlidesCloud-SlidesApi-25.06-0/blib/arch
    /home/smoker/.cpan/build/AsposeSlidesCloud-SlidesApi-25.06-0/blib/lib
    /home/smoker/.cpan/build/Hash-Util-Exists-Tiny-1.03-0/blib/arch
    /home/smoker/.cpan/build/Hash-Util-Exists-Tiny-1.03-0/blib/lib
    /home/smoker/perl5/perlbrew/perls/perl-5.28.3-thread/lib/site_perl/5.28.3/x86_64-linux-thread-multi
    /home/smoker/perl5/perlbrew/perls/perl-5.28.3-thread/lib/site_perl/5.28.3
    /home/smoker/perl5/perlbrew/perls/perl-5.28.3-thread/lib/5.28.3/x86_64-linux-thread-multi
    /home/smoker/perl5/perlbrew/perls/perl-5.28.3-thread/lib/5.28.3
    .