Dist-Zilla-Plugin-Test-Legal v0.03 Perl 5 v5.28.0 armv7l-linux

Status
Pass
From
Serguei Trouchelle (STRO)
Dist
Dist-Zilla-Plugin-Test-Legal v0.03
Platform
Perl 5 v5.28.0 armv7l-linux
Date
2018-09-08 22:58:14
ID
aade064a-b3ba-11e8-bf92-bf6224cec304
This distribution has been tested as part of the CPAN Testers
project, supporting the Perl programming language.  See
http://wiki.cpantesters.org/ for more information or email
questions to cpan-testers-discuss@perl.org


--
Dear Alan Young,

This is a computer-generated report for Dist-Zilla-Plugin-Test-Legal-0.03
on perl 5.28.0, created by CPAN-Reporter-1.2018.

Thank you for uploading your work to CPAN.  Congratulations!
All tests were successful.

Sections of this report:

    * Tester comments
    * Program output
    * Prerequisites
    * Environment and other context

------------------------------
TESTER COMMENTS
------------------------------

Additional comments from tester:

none provided

------------------------------
PROGRAM OUTPUT
------------------------------

Output from './Build test':

t/00-check-deps.t ................................... ok
t/00-compile.t ...................................... ok
t/00-compile/lib_Dist_Zilla_Plugin_Test_Legal_pm.t .. ok
t/00-load.t ......................................... ok
# 
# Versions for all modules listed in MYMETA.json (including optional ones):
# 
# === Configure Requires ===
# 
#     Module                   Want   Have
#     ---------------------- ------ ------
#     Module::Build          0.4208 0.4224
#     Module::Build::Version    any   0.87
# 
# === Configure Suggests ===
# 
#     Module      Want    Have
#     -------- ------- -------
#     JSON::PP 2.27300 2.97001
# 
# === Build Requires ===
# 
#     Module          Want   Have
#     ------------- ------ ------
#     Module::Build 0.4208 0.4224
# 
# === Test Requires ===
# 
#     Module                   Want     Have
#     ----------------------- ----- --------
#     Carp                      any     1.50
#     ExtUtils::MakeMaker       any     7.34
#     File::Spec                any     3.74
#     IO::Handle                any     1.39
#     IPC::Open3                any     1.20
#     Scalar::Util              any     1.50
#     Test::CPAN::Meta::JSON    any     0.16
#     Test::CheckDeps         0.010    0.010
#     Test::CheckManifest       any     1.33
#     Test::ConsistentVersion   any    0.3.0
#     Test::DistManifest        any    1.014
#     Test::HasVersion          any    0.014
#     Test::MinimumVersion      any 0.101082
#     Test::More               0.94 1.302138
#     Test::NoSmartComments     any    0.005
#     Test::Perl::Critic        any     1.04
#     Test::Pod::Content        any    0.0.6
#     Test::UseAllModules       any     0.17
#     Test::Version             any     2.09
# 
# === Test Recommends ===
# 
#     Module         Want     Have
#     ---------- -------- --------
#     CPAN::Meta 2.120900 2.150010
# 
# === Runtime Requires ===
# 
#     Module                           Want   Have
#     -------------------------------- ---- ------
#     Dist::Zilla::Plugin::InlineFiles  any  6.012
#     Moose                             any 2.2011
#     namespace::autoclean              any   0.28
#     strict                            any   1.11
#     warnings                          any   1.42
# 
t/00-report-prereqs.t ............................... ok
# Testing with Perl 5.028000, /home/perl5280/bin/perl
#     Carp version is 1.50
#     Dist::Zilla::Plugin::InlineFiles version is 6.012
#     ExtUtils::MakeMaker version is 7.34
#     File::Spec version is 3.74
#     IO::Handle version is 1.39
#     IPC::Open3 version is 1.20
#     Module::Build version is 0.4224
#     Module::Build::Version version is 0.87
#     Moose version is 2.2011
#     Scalar::Util version is 1.5
#     Test::CPAN::Meta::JSON version is 0.16
#     Test::CheckDeps version is 0.010
#     Test::CheckManifest version is 1.33
#     Test::ConsistentVersion version is 0.3.0
#     Test::DistManifest version is 1.014
#     Test::HasVersion version is 0.014
#     Test::MinimumVersion version is 0.101082
#     Test::More version is 1.302138
#     Test::NoSmartComments version is 0.005
#     Test::Perl::Critic version is 1.04
#     Test::Pod::Content version is 0.0.6
#     Test::UseAllModules version is 0.17
#     Test::Version version is 2.09
#     namespace::autoclean version is 0.28
#     strict version is 1.11
#     warnings version is 1.42
t/000-report-versions.t ............................. ok
All tests successful.
Files=6, Tests=58, 12 wallclock secs ( 0.13 usr  0.01 sys + 11.35 cusr  0.35 csys = 11.84 CPU)
Result: PASS

------------------------------
PREREQUISITES
------------------------------

Prerequisite modules loaded:

requires:

    Module                           Need   Have    
    -------------------------------- ------ --------
    Dist::Zilla::Plugin::InlineFiles 0      6.012   
    Moose                            0      2.2011  
    namespace::autoclean             0      0.28    
    perl                             5.006  5.028000
    strict                           0      1.11    
    warnings                         0      1.42    

build_requires:

    Module                           Need   Have    
    -------------------------------- ------ --------
    Carp                             0      1.50    
    ExtUtils::MakeMaker              0      7.34    
    File::Spec                       0      3.74    
    IO::Handle                       0      1.39    
    IPC::Open3                       0      1.20    
    Module::Build                    0.4208 0.4224  
    Scalar::Util                     0      1.50    
    Test::CheckDeps                  0.010  0.010   
    Test::CheckManifest              0      1.33    
    Test::ConsistentVersion          0      0.3.0   
    Test::CPAN::Meta::JSON           0      0.16    
    Test::DistManifest               0      1.014   
    Test::HasVersion                 0      0.014   
    Test::MinimumVersion             0      0.101082
    Test::More                       0.94   1.302138
    Test::NoSmartComments            0      0.005   
    Test::Perl::Critic               0      1.04    
    Test::Pod::Content               0      0.0.6   
    Test::UseAllModules              0      0.17    
    Test::Version                    0      2.09    

configure_requires:

    Module                           Need   Have    
    -------------------------------- ------ --------
    Module::Build                    0.4208 0.4224  
    Module::Build::Version           0      0.87    


------------------------------
ENVIRONMENT AND OTHER CONTEXT
------------------------------

Environment variables:

    LANG = en_US.UTF-8
    LANGUAGE = en_US.UTF-8
    LC_ALL = en_US.UTF-8
    NONINTERACTIVE_TESTING = 1
    PATH = /home/perl5280/bin:/usr/local/sbin:/usr/local/bin:/usr/sbin:/usr/bin:/sbin:/bin:/usr/local/games:/usr/games
    PERL5LIB = 
    PERL5OPT = 
    PERL5_CPANPLUS_IS_RUNNING = 30404
    PERL5_CPAN_IS_RUNNING = 30404
    PERL_MM_USE_DEFAULT = 1
    PERL_USE_UNSAFE_INC = 1
    SHELL = /bin/bash
    TERM = xterm

Perl special variables (and OS-specific diagnostics, for MSWin32):

    $^X = /home/perl5280/bin/perl
    $UID/$EUID = 1001 / 1001
    $GID = 1001 1001
    $EGID = 1001 1001

Perl module toolchain versions installed:

    Module              Have    
    ------------------- --------
    CPAN                2.20    
    CPAN::Meta          2.150010
    Cwd                 3.74    
    ExtUtils::CBuilder  0.280230
    ExtUtils::Command   7.34    
    ExtUtils::Install   2.14    
    ExtUtils::MakeMaker 7.34    
    ExtUtils::Manifest  1.70    
    ExtUtils::ParseXS   3.39    
    File::Spec          3.74    
    JSON                2.97001 
    JSON::PP            2.97001 
    Module::Build       0.4224  
    Module::Signature   n/a     
    Parse::CPAN::Meta   2.150010
    Test::Harness       3.42    
    Test::More          1.302138
    YAML                1.26    
    YAML::Syck          1.30    
    version             0.9923  


--

Summary of my perl5 (revision 5 version 28 subversion 0) configuration:
   
  Platform:
    osname=linux
    osvers=4.14.62-v7+
    archname=armv7l-linux
    uname='linux raspberrypi 4.14.62-v7+ #1134 smp tue aug 14 17:10:10 bst 2018 armv7l gnulinux '
    config_args=''
    hint=recommended
    useposix=true
    d_sigaction=define
    useithreads=undef
    usemultiplicity=undef
    use64bitint=undef
    use64bitall=undef
    uselongdouble=undef
    usemymalloc=n
    default_inc_excludes_dot=define
    bincompat5005=undef
  Compiler:
    cc='cc'
    ccflags ='-fwrapv -fno-strict-aliasing -pipe -fstack-protector-strong -I/usr/local/include -D_LARGEFILE_SOURCE -D_FILE_OFFSET_BITS=64 -D_FORTIFY_SOURCE=2'
    optimize='-O2'
    cppflags='-fwrapv -fno-strict-aliasing -pipe -fstack-protector-strong -I/usr/local/include'
    ccversion=''
    gccversion='6.3.0 20170516'
    gccosandvers=''
    intsize=4
    longsize=4
    ptrsize=4
    doublesize=8
    byteorder=1234
    doublekind=3
    d_longlong=define
    longlongsize=8
    d_longdbl=define
    longdblsize=8
    longdblkind=0
    ivtype='long'
    ivsize=4
    nvtype='double'
    nvsize=8
    Off_t='off_t'
    lseeksize=8
    alignbytes=8
    prototype=define
  Linker and Libraries:
    ld='cc'
    ldflags =' -fstack-protector-strong -L/usr/local/lib'
    libpth=/usr/local/lib /usr/lib/gcc/arm-linux-gnueabihf/6/include-fixed /usr/include/arm-linux-gnueabihf /usr/lib /lib/arm-linux-gnueabihf /lib /usr/lib/arm-linux-gnueabihf
    libs=-lpthread -lnsl -ldl -lm -lcrypt -lutil -lc
    perllibs=-lpthread -lnsl -ldl -lm -lcrypt -lutil -lc
    libc=libc-2.24.so
    so=so
    useshrplib=false
    libperl=libperl.a
    gnulibc_version='2.24'
  Dynamic Linking:
    dlsrc=dl_dlopen.xs
    dlext=so
    d_dlsymun=undef
    ccdlflags='-Wl,-E'
    cccdlflags='-fPIC'
    lddlflags='-shared -O2 -L/usr/local/lib -fstack-protector-strong'


Characteristics of this binary (from libperl): 
  Compile-time options:
    HAS_TIMES
    PERLIO_LAYERS
    PERL_COPY_ON_WRITE
    PERL_DONT_CREATE_GVSV
    PERL_MALLOC_WRAP
    PERL_OP_PARENT
    PERL_PRESERVE_IVUV
    USE_LARGE_FILES
    USE_LOCALE
    USE_LOCALE_COLLATE
    USE_LOCALE_CTYPE
    USE_LOCALE_NUMERIC
    USE_LOCALE_TIME
    USE_PERLIO
    USE_PERL_ATOF
  Built under linux
  Compiled at Sep  8 2018 00:56:35
  %ENV:
    PERL5LIB=""
    PERL5OPT=""
    PERL5_CPANPLUS_IS_RUNNING="30404"
    PERL5_CPAN_IS_RUNNING="30404"
    PERL_MM_USE_DEFAULT="1"
    PERL_USE_UNSAFE_INC="1"
  @INC:
    /home/perl5280/lib/perl5/site_perl/5.28.0/armv7l-linux
    /home/perl5280/lib/perl5/site_perl/5.28.0
    /home/perl5280/lib/perl5/5.28.0/armv7l-linux
    /home/perl5280/lib/perl5/5.28.0
    .