Dist-Zilla-PluginBundle-Author-LESPEA v1.008000 Perl 5 v5.37.10 x86_64-linux
- Status
- Pass
- From
- Andreas J. König (ANDK)
- Dist
-
Dist-Zilla-PluginBundle-Author-LESPEA v1.008000
- Platform
- Perl 5 v5.37.10 x86_64-linux
- Date
- 2023-04-03 08:15:17
- ID
- aaec2210-d1f7-11ed-9d73-6a354098891d
This distribution has been tested as part of the CPAN Testers
project, supporting the Perl programming language. See
http://wiki.cpantesters.org/ for more information or email
questions to cpan-testers-discuss@perl.org
--
Dear Adam Lesperance,
This is a computer-generated report for Dist-Zilla-PluginBundle-Author-LESPEA-1.008000
on perl 5.37.10, created by CPAN-Reporter-1.2018.
Thank you for uploading your work to CPAN. Congratulations!
All tests were successful.
Sections of this report:
* Tester comments
* Program output
* Prerequisites
* Environment and other context
------------------------------
TESTER COMMENTS
------------------------------
Additional comments from tester:
this report is from an automated smoke testing program
and was not reviewed by a human for accuracy
------------------------------
PROGRAM OUTPUT
------------------------------
Output from './Build test':
t/00-compile.t .................. ok
#
Smartmatch is deprecated at (eval 1668) line 8.
Smartmatch is deprecated at (eval 1668) line 15.
Smartmatch is deprecated at (eval 1669) line 8.
Smartmatch is deprecated at (eval 1669) line 15.
Smartmatch is deprecated at (eval 1670) line 8.
Smartmatch is deprecated at (eval 1670) line 15.
Smartmatch is deprecated at (eval 1671) line 11.
Smartmatch is deprecated at (eval 1671) line 21.
#
# Generated by Dist::Zilla::Plugin::ReportVersions::Tiny v1.10
# perl: 5.037010 (wanted 5.010) on linux from /tmp/basesmoker-reloperl-xLHF/bin/perl
#
# CPAN::Meta::YAML => 0.018 (want any version)
# Carp => 1.54 (want any version)
# Dist::Zilla => 6.030 (want 4.300000)
# Dist::Zilla::Plugin::ArchiveRelease => 6.000 (want any version)
# Dist::Zilla::Plugin::Authority => 1.009 (want any version)
# Dist::Zilla::Plugin::AutoMetaResources => 1.21 (want any version)
# Dist::Zilla::Plugin::AutoPrereqs => 6.030 (want any version)
# Dist::Zilla::Plugin::Bootstrap::lib => 1.001002 (want any version)
# Dist::Zilla::Plugin::ConfirmRelease => 6.030 (want any version)
# Dist::Zilla::Plugin::ConsistentVersionTest => 0.03 (want any version)
# Dist::Zilla::Plugin::CopyFilesFromBuild => 0.170880 (want any version)
# Dist::Zilla::Plugin::DualBuilders => 1.002 (want any version)
# Dist::Zilla::Plugin::ExecDir => 6.030 (want any version)
# Dist::Zilla::Plugin::ExtraTests => 6.030 (want any version)
# Dist::Zilla::Plugin::FakeRelease => 6.030 (want any version)
# Dist::Zilla::Plugin::GatherDir => 6.030 (want any version)
# Dist::Zilla::Plugin::HasVersionTests => 1.101420 (want any version)
# Dist::Zilla::Plugin::InstallGuide => 1.200014 (want any version)
# Dist::Zilla::Plugin::License => 6.030 (want any version)
# Dist::Zilla::Plugin::MakeMaker => 6.030 (want any version)
# Dist::Zilla::Plugin::Manifest => 6.030 (want any version)
# Dist::Zilla::Plugin::ManifestSkip => 6.030 (want any version)
# Dist::Zilla::Plugin::MetaConfig => 6.030 (want any version)
# Dist::Zilla::Plugin::MetaJSON => 6.030 (want any version)
# Dist::Zilla::Plugin::MetaNoIndex => 6.030 (want any version)
# Dist::Zilla::Plugin::MetaTests => 6.030 (want any version)
# Dist::Zilla::Plugin::MetaYAML => 6.030 (want any version)
# Dist::Zilla::Plugin::MinimumPerl => 1.006 (want any version)
# Dist::Zilla::Plugin::ModuleBuild => 6.030 (want any version)
# Dist::Zilla::Plugin::NextRelease => 6.030 (want any version)
# Dist::Zilla::Plugin::PkgVersion => 6.030 (want any version)
# Dist::Zilla::Plugin::PodCoverageTests => 6.030 (want any version)
# Dist::Zilla::Plugin::PodSyntaxTests => 6.030 (want any version)
# Dist::Zilla::Plugin::PodWeaver => 4.010 (want any version)
# Dist::Zilla::Plugin::PruneCruft => 6.030 (want any version)
# Dist::Zilla::Plugin::ReadmeAnyFromPod => 0.163250 (want any version)
# Dist::Zilla::Plugin::ReportVersions::Tiny => 1.12 (want any version)
# Dist::Zilla::Plugin::ShareDir => 6.030 (want any version)
# Dist::Zilla::Plugin::SpellingCommonMistakesTests => 1.001000 (want any version)
# Dist::Zilla::Plugin::Test::CPAN::Changes => 0.012 (want 0.005)
# Dist::Zilla::Plugin::Test::Compile => 2.058 (want 1.112400)
# Dist::Zilla::Plugin::Test::DistManifest => 2.000006 (want v2.0.1)
# Dist::Zilla::Plugin::Test::EOL => 0.19 (want 0.12)
# Dist::Zilla::Plugin::Test::Kwalitee => 2.12 (want any version)
# Dist::Zilla::Plugin::Test::MinimumVersion => 2.000010 (want v2.0.1)
# Dist::Zilla::Plugin::Test::NoTabs => 0.15 (want any version)
# Dist::Zilla::Plugin::Test::Perl::Critic => 3.001 (want 2.112410)
# Dist::Zilla::Plugin::Test::Portability => 2.001001 (want v2.0.1)
# Dist::Zilla::Plugin::Test::Synopsis => 2.000007 (want v2.0.1)
# Dist::Zilla::Plugin::TestRelease => 6.030 (want any version)
# Dist::Zilla::Plugin::UploadToCPAN => 6.030 (want any version)
# Dist::Zilla::Role::MintingProfile::ShareDir => 6.030 (want any version)
# Dist::Zilla::Role::PluginBundle::Easy => 6.030 (want any version)
# File::ShareDir::Install => 0.14 (want 0.03)
# File::Spec => 3.88 (want any version)
# IO::Handle => 1.51 (want any version)
# IPC::Open3 => 1.22 (want any version)
# Module::Build => 0.4232 (want 0.3601)
# Moose => 2.2203 (want 2.0)
# Perl::Critic => 1.150 (want 1.118)
# Perl::Critic::Bangs => 1.12 (want 1.08)
# Perl::Critic::Lax => 0.014 (want any version)
# Perl::Critic::Pulp => 99 (want any version)
# Perl::Critic::StricterSubs => 0.06 (want any version)
# Perl::Critic::Swift => v1.0.3 (want any version)
# Perl::MinimumVersion => 1.40 (want any version)
# Perl::OSType => 1.010 (want any version)
# Perl::PrereqScanner => 1.025 (want any version)
# Pod::Coverage::TrustPod => 0.100006 (want any version)
# Pod::Elemental::Transformer::List => 0.102001 (want any version)
# Pod::Spell => 1.26 (want any version)
# Pod::Weaver => 4.019 (want 3.101632)
# Pod::Weaver::Config::Assembler => 4.019 (want any version)
# Pod::Weaver::Section::Installation => 1.101421 (want any version)
# Pod::Weaver::Section::SeeAlso => 1.003 (want any version)
# Pod::Weaver::Section::Support => 1.013 (want any version)
# Pod::Weaver::Section::WarrantyDisclaimer => 0.121290 (want any version)
# Test::CPAN::Meta => 0.25 (want any version)
# Test::More => 1.302194 (want 0.88)
# Test::Perl::Critic => 1.04 (want any version)
# Test::Pod::Content => 0.0.6 (want any version)
# namespace::autoclean => 0.29 (want any version)
# strict => 1.12 (want any version)
# utf8 => 1.25 (want any version)
# warnings => 1.63 (want any version)
#
# Thanks for using my code. I hope it works for you.
# If not, please try and include this output in the bug report.
# That will help me reproduce the issue and solve your problem.
#
t/000-report-versions-tiny.t .... ok
t/author-critic.t ............... skipped: these tests are for testing by the author
t/author-test-eol.t ............. skipped: these tests are for testing by the author
t/release-common_spelling.t ..... skipped: these tests are for release candidate testing
t/release-consistent-version.t .. skipped: these tests are for release candidate testing
t/release-cpan-changes.t ........ skipped: these tests are for release candidate testing
t/release-dist-manifest.t ....... skipped: these tests are for release candidate testing
t/release-distmeta.t ............ skipped: these tests are for release candidate testing
t/release-has-version.t ......... skipped: these tests are for release candidate testing
t/release-kwalitee.t ............ skipped: these tests are for release candidate testing
t/release-minimum-version.t ..... skipped: these tests are for release candidate testing
t/release-no-tabs.t ............. skipped: these tests are for release candidate testing
t/release-pod-coverage.t ........ skipped: these tests are for release candidate testing
t/release-pod-syntax.t .......... skipped: these tests are for release candidate testing
All tests successful.
Files=15, Tests=4, 4 wallclock secs ( 0.04 usr 0.02 sys + 3.71 cusr 0.47 csys = 4.24 CPU)
Result: PASS
------------------------------
PREREQUISITES
------------------------------
Prerequisite modules loaded:
requires:
Module Need Have
------------------------------------------------ -------- --------
Carp 0 1.54
CPAN::Meta::YAML 0 0.018
Dist::Zilla 4.300000 6.030
Dist::Zilla::Plugin::ArchiveRelease 0 6.000
Dist::Zilla::Plugin::Authority 0 1.009
Dist::Zilla::Plugin::AutoMetaResources 0 1.21
Dist::Zilla::Plugin::AutoPrereqs 0 6.030
Dist::Zilla::Plugin::ConfirmRelease 0 6.030
Dist::Zilla::Plugin::ConsistentVersionTest 0 0.03
Dist::Zilla::Plugin::CopyFilesFromBuild 0 0.170880
Dist::Zilla::Plugin::DualBuilders 0 1.002
Dist::Zilla::Plugin::ExecDir 0 6.030
Dist::Zilla::Plugin::ExtraTests 0 6.030
Dist::Zilla::Plugin::FakeRelease 0 6.030
Dist::Zilla::Plugin::GatherDir 0 6.030
Dist::Zilla::Plugin::HasVersionTests 0 1.101420
Dist::Zilla::Plugin::InstallGuide 0 1.200014
Dist::Zilla::Plugin::License 0 6.030
Dist::Zilla::Plugin::MakeMaker 0 6.030
Dist::Zilla::Plugin::Manifest 0 6.030
Dist::Zilla::Plugin::ManifestSkip 0 6.030
Dist::Zilla::Plugin::MetaConfig 0 6.030
Dist::Zilla::Plugin::MetaJSON 0 6.030
Dist::Zilla::Plugin::MetaNoIndex 0 6.030
Dist::Zilla::Plugin::MetaTests 0 6.030
Dist::Zilla::Plugin::MetaYAML 0 6.030
Dist::Zilla::Plugin::MinimumPerl 0 1.006
Dist::Zilla::Plugin::ModuleBuild 0 6.030
Dist::Zilla::Plugin::NextRelease 0 6.030
Dist::Zilla::Plugin::PkgVersion 0 6.030
Dist::Zilla::Plugin::PodCoverageTests 0 6.030
Dist::Zilla::Plugin::PodSyntaxTests 0 6.030
Dist::Zilla::Plugin::PodWeaver 0 4.010
Dist::Zilla::Plugin::PruneCruft 0 6.030
Dist::Zilla::Plugin::ReadmeAnyFromPod 0 0.163250
Dist::Zilla::Plugin::ReportVersions::Tiny 0 1.12
Dist::Zilla::Plugin::ShareDir 0 6.030
Dist::Zilla::Plugin::SpellingCommonMistakesTests 0 1.001000
Dist::Zilla::Plugin::Test::Compile 1.112400 2.058
Dist::Zilla::Plugin::Test::CPAN::Changes 0.005 0.012
Dist::Zilla::Plugin::Test::DistManifest v2.0.1 2.000006
Dist::Zilla::Plugin::Test::EOL 0.12 0.19
Dist::Zilla::Plugin::Test::Kwalitee 0 2.12
Dist::Zilla::Plugin::Test::MinimumVersion v2.0.1 2.000010
Dist::Zilla::Plugin::Test::NoTabs 0 0.15
Dist::Zilla::Plugin::Test::Perl::Critic 2.112410 3.001
Dist::Zilla::Plugin::Test::Portability v2.0.1 2.001001
Dist::Zilla::Plugin::Test::Synopsis v2.0.1 2.000007
Dist::Zilla::Plugin::TestRelease 0 6.030
Dist::Zilla::Plugin::UploadToCPAN 0 6.030
Dist::Zilla::Role::MintingProfile::ShareDir 0 6.030
Dist::Zilla::Role::PluginBundle::Easy 0 6.030
File::ShareDir 1.00 1.118
Moose 2.0 2.2203
namespace::autoclean 0 0.29
perl 5.010 5.037010
Perl::Critic 1.118 1.150
Perl::Critic::Bangs 1.08 1.12
Perl::Critic::Lax 0 0.014
Perl::Critic::Pulp 0 99
Perl::Critic::StricterSubs 0 0.06
Perl::Critic::Swift 0 v1.0.3
Perl::MinimumVersion 0 1.40
Perl::OSType 0 1.010
Perl::PrereqScanner 0 1.025
Pod::Coverage::TrustPod 0 0.100006
Pod::Elemental::Transformer::List 0 0.102001
Pod::Spell 0 1.26
Pod::Weaver 3.101632 4.019
Pod::Weaver::Config::Assembler 0 4.019
Pod::Weaver::Section::Installation 0 1.101421
Pod::Weaver::Section::SeeAlso 0 1.003
Pod::Weaver::Section::Support 0 1.013
Pod::Weaver::Section::WarrantyDisclaimer 0 0.121290
strict 0 1.12
Test::CPAN::Meta 0 0.25
Test::Perl::Critic 0 1.04
Test::Pod::Content 0 0.0.6
utf8 0 1.25
warnings 0 1.63
build_requires:
Module Need Have
------------------------------------------------ -------- --------
Dist::Zilla::Plugin::Bootstrap::lib 0 1.001002
File::Spec 0 3.88
IO::Handle 0 1.51
IPC::Open3 0 1.22
Module::Build 0.3601 0.4232
perl 5.010 5.037010
Test::More 0.88 1.302194
configure_requires:
Module Need Have
------------------------------------------------ -------- --------
File::ShareDir::Install 0.03 0.14
Module::Build 0.3601 0.4232
------------------------------
ENVIRONMENT AND OTHER CONTEXT
------------------------------
Environment variables:
AUTOMATED_TESTING = 1
LANG = en_US.UTF-8
PATH = /home/sand/bin:/usr/local/bin:/usr/local/sbin:/usr/sbin:/usr/bin:/sbin:/bin:/usr/games:/usr/local/games:/snap/bin:/usr/local/perl/bin:/usr/X11/bin
PERL = /tmp/basesmoker-reloperl-xLHF/bin/perl
PERL5LIB = /tmp/loop_over_bdir-4040330-ofbuBy/Lemonldap-NG-Cli-0.2-0/blib/arch:/tmp/loop_over_bdir-4040330-ofbuBy/Lemonldap-NG-Cli-0.2-0/blib/lib:/tmp/loop_over_bdir-4040330-ofbuBy/downsexta-0/blib/arch:/tmp/loop_over_bdir-4040330-ofbuBy/downsexta-0/blib/lib:/tmp/loop_over_bdir-4040330-ofbuBy/Dpkg-1.21.19-0/blib/arch:/tmp/loop_over_bdir-4040330-ofbuBy/Dpkg-1.21.19-0/blib/lib:/tmp/loop_over_bdir-4040330-ofbuBy/Alien-SNMP-MIBDEV-2.020000-0/blib/arch:/tmp/loop_over_bdir-4040330-ofbuBy/Alien-SNMP-MIBDEV-2.020000-0/blib/lib:/tmp/loop_over_bdir-4040330-ofbuBy/DBIx-Migration-Directories-0.12-0/blib/arch:/tmp/loop_over_bdir-4040330-ofbuBy/DBIx-Migration-Directories-0.12-0/blib/lib:/tmp/loop_over_bdir-4040330-ofbuBy/Devel-Required-0.16-0/blib/arch:/tmp/loop_over_bdir-4040330-ofbuBy/Devel-Required-0.16-0/blib/lib:/tmp/loop_over_bdir-4040330-ofbuBy/ProjectBuilder-0.14.1-0/blib/arch:/tmp/loop_over_bdir-4040330-ofbuBy/ProjectBuilder-0.14.1-0/blib/lib
PERL5OPT =
PERL5_CPANPLUS_IS_RUNNING = 4040482
PERL5_CPAN_IS_RUNNING = 4040482
PERL_CANARY_STABILITY_NOPROMPT = 1
PERL_MM_USE_DEFAULT = 1
PERL_USE_UNSAFE_INC = 1
SHELL = /usr/bin/zsh
TERM = screen
Perl special variables (and OS-specific diagnostics, for MSWin32):
$^X = /tmp/basesmoker-reloperl-xLHF/bin/perl
$UID/$EUID = 1005 / 1005
$GID = 1005 1005
$EGID = 1005 1005
Perl module toolchain versions installed:
Module Have
------------------- --------
CPAN 2.34
CPAN::Meta 2.150010
Cwd 3.89
ExtUtils::CBuilder 0.280238
ExtUtils::Command 7.70
ExtUtils::Install 2.22
ExtUtils::MakeMaker 7.70
ExtUtils::Manifest 1.73
ExtUtils::ParseXS 3.49
File::Spec 3.88
JSON 4.10
JSON::PP 4.16
Module::Build 0.4232
Module::Signature 0.88
Parse::CPAN::Meta 2.150010
Test::Harness 3.44
Test::More 1.302194
YAML 1.30
YAML::Syck 1.34
version 0.9929
--
Summary of my perl5 (revision 5 version 37 subversion 10) configuration:
Commit id: d62f5d9eddd273f5a82c0dbad932a8f4d18f9488
Platform:
osname=linux
osvers=5.4.0-146-generic
archname=x86_64-linux
uname='linux k93focal 5.4.0-146-generic #163-ubuntu smp fri mar 17 18:26:02 utc 2023 x86_64 x86_64 x86_64 gnulinux '
config_args='-Dprefix=/home/sand/src/perl/repoperls/installed-perls/host/k93focal/v5.37.10/b254 -Dmyhostname=k93focal -Dinstallusrbinperl=n -Uversiononly -Dusedevel -des -Ui_db -Dlibswanted=cl pthread socket inet nsl gdbm dbm malloc dl ld sun m crypt sec util c cposix posix ucb BSD gdbm_compat -Uuseithreads -Uuselongdouble -DEBUGGING=both'
hint=recommended
useposix=true
d_sigaction=define
useithreads=undef
usemultiplicity=undef
use64bitint=define
use64bitall=define
uselongdouble=undef
usemymalloc=n
default_inc_excludes_dot=define
Compiler:
cc='cc'
ccflags ='-fwrapv -DDEBUGGING -fno-strict-aliasing -pipe -fstack-protector-strong -I/usr/local/include -D_LARGEFILE_SOURCE -D_FILE_OFFSET_BITS=64'
optimize='-O2 -g'
cppflags='-fwrapv -DDEBUGGING -fno-strict-aliasing -pipe -fstack-protector-strong -I/usr/local/include'
ccversion=''
gccversion='9.4.0'
gccosandvers=''
intsize=4
longsize=8
ptrsize=8
doublesize=8
byteorder=12345678
doublekind=3
d_longlong=define
longlongsize=8
d_longdbl=define
longdblsize=16
longdblkind=3
ivtype='long'
ivsize=8
nvtype='double'
nvsize=8
Off_t='off_t'
lseeksize=8
alignbytes=8
prototype=define
Linker and Libraries:
ld='cc'
ldflags =' -fstack-protector-strong -L/usr/local/lib'
libpth=/usr/local/lib /usr/lib/x86_64-linux-gnu /usr/lib /usr/lib64
libs=-lpthread -lnsl -ldl -lm -lcrypt -lutil -lc
perllibs=-lpthread -lnsl -ldl -lm -lcrypt -lutil -lc
libc=libc-2.31.so
so=so
useshrplib=false
libperl=libperl.a
gnulibc_version='2.31'
Dynamic Linking:
dlsrc=dl_dlopen.xs
dlext=so
d_dlsymun=undef
ccdlflags='-Wl,-E'
cccdlflags='-fPIC'
lddlflags='-shared -O2 -g -L/usr/local/lib -fstack-protector-strong'
Characteristics of this binary (from libperl):
Compile-time options:
DEBUGGING
HAS_TIMES
PERLIO_LAYERS
PERL_COPY_ON_WRITE
PERL_DONT_CREATE_GVSV
PERL_HASH_FUNC_SIPHASH13
PERL_HASH_USE_SBOX32
PERL_MALLOC_WRAP
PERL_OP_PARENT
PERL_PRESERVE_IVUV
PERL_USE_DEVEL
PERL_USE_SAFE_PUTENV
USE_64_BIT_ALL
USE_64_BIT_INT
USE_LARGE_FILES
USE_LOCALE
USE_LOCALE_COLLATE
USE_LOCALE_CTYPE
USE_LOCALE_NUMERIC
USE_LOCALE_TIME
USE_PERLIO
USE_PERL_ATOF
Built under linux
Compiled at Apr 1 2023 07:44:10
%ENV:
PERL="/tmp/basesmoker-reloperl-xLHF/bin/perl"
PERL5LIB="/tmp/loop_over_bdir-4040330-ofbuBy/Lemonldap-NG-Cli-0.2-0/blib/arch:/tmp/loop_over_bdir-4040330-ofbuBy/Lemonldap-NG-Cli-0.2-0/blib/lib:/tmp/loop_over_bdir-4040330-ofbuBy/downsexta-0/blib/arch:/tmp/loop_over_bdir-4040330-ofbuBy/downsexta-0/blib/lib:/tmp/loop_over_bdir-4040330-ofbuBy/Dpkg-1.21.19-0/blib/arch:/tmp/loop_over_bdir-4040330-ofbuBy/Dpkg-1.21.19-0/blib/lib:/tmp/loop_over_bdir-4040330-ofbuBy/Alien-SNMP-MIBDEV-2.020000-0/blib/arch:/tmp/loop_over_bdir-4040330-ofbuBy/Alien-SNMP-MIBDEV-2.020000-0/blib/lib:/tmp/loop_over_bdir-4040330-ofbuBy/DBIx-Migration-Directories-0.12-0/blib/arch:/tmp/loop_over_bdir-4040330-ofbuBy/DBIx-Migration-Directories-0.12-0/blib/lib:/tmp/loop_over_bdir-4040330-ofbuBy/Devel-Required-0.16-0/blib/arch:/tmp/loop_over_bdir-4040330-ofbuBy/Devel-Required-0.16-0/blib/lib:/tmp/loop_over_bdir-4040330-ofbuBy/ProjectBuilder-0.14.1-0/blib/arch:/tmp/loop_over_bdir-4040330-ofbuBy/ProjectBuilder-0.14.1-0/blib/lib"
PERL5OPT=""
PERL5_CPANPLUS_IS_RUNNING="4040482"
PERL5_CPAN_IS_RUNNING="4040482"
PERL_CANARY_STABILITY_NOPROMPT="1"
PERL_MM_USE_DEFAULT="1"
PERL_USE_UNSAFE_INC="1"
@INC:
/tmp/loop_over_bdir-4040330-ofbuBy/Lemonldap-NG-Cli-0.2-0/blib/arch
/tmp/loop_over_bdir-4040330-ofbuBy/Lemonldap-NG-Cli-0.2-0/blib/lib
/tmp/loop_over_bdir-4040330-ofbuBy/downsexta-0/blib/arch
/tmp/loop_over_bdir-4040330-ofbuBy/downsexta-0/blib/lib
/tmp/loop_over_bdir-4040330-ofbuBy/Dpkg-1.21.19-0/blib/arch
/tmp/loop_over_bdir-4040330-ofbuBy/Dpkg-1.21.19-0/blib/lib
/tmp/loop_over_bdir-4040330-ofbuBy/Alien-SNMP-MIBDEV-2.020000-0/blib/arch
/tmp/loop_over_bdir-4040330-ofbuBy/Alien-SNMP-MIBDEV-2.020000-0/blib/lib
/tmp/loop_over_bdir-4040330-ofbuBy/DBIx-Migration-Directories-0.12-0/blib/arch
/tmp/loop_over_bdir-4040330-ofbuBy/DBIx-Migration-Directories-0.12-0/blib/lib
/tmp/loop_over_bdir-4040330-ofbuBy/Devel-Required-0.16-0/blib/arch
/tmp/loop_over_bdir-4040330-ofbuBy/Devel-Required-0.16-0/blib/lib
/tmp/loop_over_bdir-4040330-ofbuBy/ProjectBuilder-0.14.1-0/blib/arch
/tmp/loop_over_bdir-4040330-ofbuBy/ProjectBuilder-0.14.1-0/blib/lib
/home/sand/src/perl/repoperls/installed-perls/host/k93focal/v5.37.10/b254/lib/site_perl/5.37.10/x86_64-linux
/home/sand/src/perl/repoperls/installed-perls/host/k93focal/v5.37.10/b254/lib/site_perl/5.37.10
/home/sand/src/perl/repoperls/installed-perls/host/k93focal/v5.37.10/b254/lib/5.37.10/x86_64-linux
/home/sand/src/perl/repoperls/installed-perls/host/k93focal/v5.37.10/b254/lib/5.37.10
.