App-Sqitch vv1.4.1 Perl 5 v5.26.3 x86_64-linux

Status
Pass
From
Slaven Rezić
Dist
App-Sqitch vv1.4.1
Platform
Perl 5 v5.26.3 x86_64-linux
Date
2024-02-04 18:03:15
ID
aaee5fbc-c387-11ee-ac6d-a7006e8775ea
This distribution has been tested as part of the CPAN Testers
project, supporting the Perl programming language.  See
http://wiki.cpantesters.org/ for more information or email
questions to cpan-testers-discuss@perl.org


--
Dear David E. Wheeler,

This is a computer-generated report for App-Sqitch-v1.4.1
on perl 5.26.3, created by CPAN-Reporter-1.2019.

Thank you for uploading your work to CPAN.  Congratulations!
All tests were successful.

Sections of this report:

    * Tester comments
    * Program output
    * Prerequisites
    * Environment and other context

------------------------------
TESTER COMMENTS
------------------------------

Additional comments from tester:

none provided

------------------------------
PROGRAM OUTPUT
------------------------------

Output from './Build test':

t/add.t ............. ok
t/base.t ............ ok
t/blank.t ........... ok
t/bundle.t .......... ok
t/change.t .......... ok
t/changelist.t ...... ok
t/check.t ........... ok
t/checkout.t ........ ok
t/cockroach.t ....... ok
t/command.t ......... ok
t/config.t .......... ok
t/configuration.t ... ok
t/conn_cmd_role.t ... ok
t/cx_cmd_role.t ..... ok
t/datetime.t ........ ok
t/dbiengine_role.t .. ok
t/depend.t .......... ok
t/deploy.t .......... ok
t/engine.t .......... ok
t/engine_cmd.t ...... ok
t/exasol.t .......... ok
t/firebird.t ........ ok
t/help.t ............ ok
t/init.t ............ ok
t/item_formatter.t .. ok
t/linelist.t ........ ok
t/log.t ............. ok
t/mooseless.t ....... ok
t/mysql.t ........... ok
t/options.t ......... ok
t/oracle.t .......... ok
t/pg.t .............. ok
t/plan.t ............ ok
t/plan_cmd.t ........ ok
t/pragma.t .......... ok
t/rebase.t .......... ok
t/revert.t .......... ok
t/rework.t .......... ok
t/show.t ............ ok
t/snowflake.t ....... ok
t/sqlite.t .......... ok
t/status.t .......... ok
t/tag.t ............. ok
t/tag_cmd.t ......... ok
t/target.t .......... ok
t/target_cmd.t ...... ok
t/upgrade.t ......... ok
t/verify.t .......... ok
t/vertica.t ......... ok
t/win32.t ........... ok
t/x.t ............... ok
All tests successful.
Files=51, Tests=7581, 25 wallclock secs ( 0.59 usr  0.15 sys + 18.40 cusr  5.56 csys = 24.70 CPU)
Result: PASS

------------------------------
PREREQUISITES
------------------------------

Prerequisite modules loaded:

requires:

    Module                          Need     Have      
    ------------------------------- -------- ----------
    Algorithm::Backoff::Exponential 0.006    0.009     
    Clone                           0        0.46      
    Config::GitLike                 1.15     1.18      
    constant                        0        1.33      
    DateTime                        1.04     1.65      
    DateTime::TimeZone              0        2.62      
    DBI                             1.631    1.643     
    Devel::StackTrace               1.30     2.04      
    Digest::SHA                     0        5.96      
    Encode                          0        3.20      
    Encode::Locale                  0        1.05      
    File::Basename                  0        2.85      
    File::Copy                      0        2.32      
    File::Path                      0        2.18      
    File::Temp                      0        0.2311    
    Getopt::Long                    0        2.57      
    Hash::Merge                     0        0.302     
    IO::Handle                      0        1.55      
    IO::Pager                       0.34     2.10      
    IPC::Run3                       0        0.049     
    IPC::System::Simple             1.17     1.30      
    List::MoreUtils                 0        0.430     
    List::Util                      0        1.63      
    locale                          0        1.09      
    Locale::Messages                0        1.33      
    Locale::TextDomain              1.20     1.33      
    Moo                             1.002000 2.005005  
    Moo::Role                       0        2.005005  
    namespace::autoclean            0.16     0.29      
    overload                        0        1.28      
    parent                          0        0.236     
    Path::Class                     0.33     0.37      
    perl                            5.010    5.026003  
    PerlIO::utf8_strict             0        0.010     
    Pod::Escapes                    1.04     1.07      
    Pod::Find                       0        1.63      
    Pod::Usage                      0        2.03      
    POSIX                           0        1.76      
    Scalar::Util                    0        1.63      
    StackTrace::Auto                0        1.001     
    strict                          0        1.11      
    String::Formatter               0        1.235     
    String::ShellQuote              0        1.04      
    Sub::Exporter                   0        0.991     
    Sub::Exporter::Util             0        0.991     
    Sys::Hostname                   0        1.20      
    Template::Tiny                  0.11     1.14      
    Term::ANSIColor                 2.02     5.01      
    Throwable                       0.200009 1.001     
    Time::HiRes                     0        1.9764    
    Time::Local                     0        1.35      
    Try::Tiny                       0        0.31      
    Type::Library                   0.040    2.004000  
    Type::Utils                     0        2.004000  
    Types::Standard                 0        2.004000  
    URI                             0        5.25      
    URI::db                         0.20     0.21      
    URI::QueryParam                 0        5.25      
    User::pwent                     0        1.00      
    utf8                            0        1.19      
    warnings                        0        1.37      

build_requires:

    Module                          Need     Have      
    ------------------------------- -------- ----------
    base                            0        2.26      
    Capture::Tiny                   0.12     0.48      
    Carp                            0        1.42      
    DBD::Mem                        0        0.001     
    File::Find                      0        1.34      
    File::Spec                      0        3.75      
    File::Spec::Functions           0        3.75      
    FindBin                         0        1.51      
    IO::Pager                       0.34     2.10      
    lib                             0        0.64      
    Module::Build                   0.35     0.4234    
    Module::Runtime                 0        0.016     
    Path::Class                     0.33     0.37      
    Test::Deep                      0        1.204     
    Test::Dir                       0        1.16      
    Test::Exception                 0        0.43      
    Test::Exit                      0        0.11      
    Test::File                      0        1.993     
    Test::File::Contents            0.20     0.242     
    Test::MockModule                0.17     0.177.0   
    Test::MockObject::Extends       0        1.20200122
    Test::More                      0.94     1.302198  
    Test::NoWarnings                0.083    1.06      
    Test::Warn                      0.31     0.37      

configure_requires:

    Module                          Need     Have      
    ------------------------------- -------- ----------
    Module::Build                   0.35     0.4234    


------------------------------
ENVIRONMENT AND OTHER CONTEXT
------------------------------

Environment variables:

    LANG = en_US.UTF-8
    PATH = /usr/local/bin:/usr/bin:/bin:/usr/local/sbin:/usr/sbin:/sbin:/home/cpansand/bin/linux-gnu:/home/cpansand/bin/sh:/home/cpansand/bin:/usr/games:/home/cpansand/devel:/home/eserte/src/srezic-misc/scripts
    PERL5LIB = /home/cpansand/.cpan/build/2024020416/URI-db-0.21-3/blib/arch:/home/cpansand/.cpan/build/2024020416/URI-db-0.21-3/blib/lib:/home/cpansand/.cpan/build/2024020416/URI-Nested-0.10-3/blib/arch:/home/cpansand/.cpan/build/2024020416/URI-Nested-0.10-3/blib/lib:/home/cpansand/.cpan/build/2024020416/Test-File-Contents-0.242-3/blib/arch:/home/cpansand/.cpan/build/2024020416/Test-File-Contents-0.242-3/blib/lib:/home/cpansand/.cpan/build/2024020416/Test-Exit-0.11-3/blib/arch:/home/cpansand/.cpan/build/2024020416/Test-Exit-0.11-3/blib/lib:/home/cpansand/.cpan/build/2024020416/Return-MultiLevel-0.08-3/blib/arch:/home/cpansand/.cpan/build/2024020416/Return-MultiLevel-0.08-3/blib/lib:/home/cpansand/.cpan/build/2024020416/Test-Dir-1.16-3/blib/arch:/home/cpansand/.cpan/build/2024020416/Test-Dir-1.16-3/blib/lib:/home/cpansand/.cpan/build/2024020416/IO-Pager-2.10-3/blib/arch:/home/cpansand/.cpan/build/2024020416/IO-Pager-2.10-3/blib/lib:/home/cpansand/.cpan/build/2024020416/Config-GitLike-1.18-3/blib/arch:/home/cpansand/.cpan/build/2024020416/Config-GitLike-1.18-3/blib/lib:/home/cpansand/.cpan/build/2024020416/Algorithm-Backoff-0.009-3/blib/arch:/home/cpansand/.cpan/build/2024020416/Algorithm-Backoff-0.009-3/blib/lib
    PERL5OPT = 
    PERL5_CPANPLUS_IS_RUNNING = 2631263
    PERL5_CPAN_IS_RUNNING = 2631263
    PERL5_CPAN_IS_RUNNING_IN_RECURSION = 2626266,2631263
    PERLDOC = -MPod::Perldoc::ToTextOverstrike
    PERL_BATCH = yes
    PERL_CANARY_STABILITY_NOPROMPT = 1
    PERL_CPAN_REPORTER_CONFIG = /var/tmp/cpansmoker-1023/2024020416/cpanreporter_000_config.ini
    PERL_EXTUTILS_AUTOINSTALL = --defaultdeps
    PERL_USE_UNSAFE_INC = 1
    SHELL = /usr/bin/zsh
    TERM = screen
    TMPDIR = /var/tmp/cpansmoker-1023/2024020416

Perl special variables (and OS-specific diagnostics, for MSWin32):

    $^X = /opt/perl-5.26.3/bin/perl
    $UID/$EUID = 1023 / 1023
    $GID = 1023 1023
    $EGID = 1023 1023

Perl module toolchain versions installed:

    Module              Have    
    ------------------- --------
    CPAN                2.18    
    CPAN::Meta          2.150010
    Cwd                 3.75    
    ExtUtils::CBuilder  0.280236
    ExtUtils::Command   7.70    
    ExtUtils::Install   2.06    
    ExtUtils::MakeMaker 7.70    
    ExtUtils::Manifest  1.70    
    ExtUtils::ParseXS   3.34    
    File::Spec          3.75    
    JSON                4.10    
    JSON::PP            4.16    
    Module::Build       0.4234  
    Module::Signature   n/a     
    Parse::CPAN::Meta   2.150010
    Test2               1.302198
    Test::Harness       3.38    
    Test::More          1.302198
    YAML                1.31    
    YAML::Syck          1.34    
    version             0.9917  


--

Summary of my perl5 (revision 5 version 26 subversion 3) configuration:
   
  Platform:
    osname=linux
    osvers=6.6.8-100.fc38.x86_64
    archname=x86_64-linux
    uname='linux fedora39-2gb-hil 6.6.8-100.fc38.x86_64 #1 smp preempt_dynamic thu dec 21 04:01:45 utc 2023 x86_64 gnulinux '
    config_args='-ds -e -Dprefix=/opt/perl-5.26.3 -Dcf_email=srezic@cpan.org'
    hint=recommended
    useposix=true
    d_sigaction=define
    useithreads=undef
    usemultiplicity=undef
    use64bitint=define
    use64bitall=define
    uselongdouble=undef
    usemymalloc=n
    default_inc_excludes_dot=define
    bincompat5005=undef
  Compiler:
    cc='cc'
    ccflags ='-fwrapv -fno-strict-aliasing -pipe -fstack-protector-strong -I/usr/local/include -D_LARGEFILE_SOURCE -D_FILE_OFFSET_BITS=64 -D_FORTIFY_SOURCE=2'
    optimize='-O2'
    cppflags='-fwrapv -fno-strict-aliasing -pipe -fstack-protector-strong -I/usr/local/include'
    ccversion=''
    gccversion='13.2.1 20231205 (Red Hat 13.2.1-6)'
    gccosandvers=''
    intsize=4
    longsize=8
    ptrsize=8
    doublesize=8
    byteorder=12345678
    doublekind=3
    d_longlong=define
    longlongsize=8
    d_longdbl=define
    longdblsize=16
    longdblkind=3
    ivtype='long'
    ivsize=8
    nvtype='double'
    nvsize=8
    Off_t='off_t'
    lseeksize=8
    alignbytes=8
    prototype=define
  Linker and Libraries:
    ld='cc'
    ldflags =' -fstack-protector-strong -L/usr/local/lib'
    libpth=/usr/local/lib /usr/lib /lib/../lib64 /usr/lib/../lib64 /lib /lib64 /usr/lib64 /usr/local/lib64
    libs=-lpthread -ldb -ldl -lm -lcrypt -lutil -lc
    perllibs=-lpthread -ldl -lm -lcrypt -lutil -lc
    libc=/lib/../lib64/libc.so.6
    so=so
    useshrplib=false
    libperl=libperl.a
    gnulibc_version='2.38'
  Dynamic Linking:
    dlsrc=dl_dlopen.xs
    dlext=so
    d_dlsymun=undef
    ccdlflags='-Wl,-E'
    cccdlflags='-fPIC'
    lddlflags='-shared -O2 -L/usr/local/lib -fstack-protector-strong'


Characteristics of this binary (from libperl): 
  Compile-time options:
    HAS_TIMES
    PERLIO_LAYERS
    PERL_COPY_ON_WRITE
    PERL_DONT_CREATE_GVSV
    PERL_MALLOC_WRAP
    PERL_OP_PARENT
    PERL_PRESERVE_IVUV
    USE_64_BIT_ALL
    USE_64_BIT_INT
    USE_LARGE_FILES
    USE_LOCALE
    USE_LOCALE_COLLATE
    USE_LOCALE_CTYPE
    USE_LOCALE_NUMERIC
    USE_LOCALE_TIME
    USE_PERLIO
    USE_PERL_ATOF
  Locally applied patches:
    Devel::PatchPerl 2.08
  Built under linux
  Compiled at Dec 27 2023 08:18:18
  %ENV:
    PERL5LIB="/home/cpansand/.cpan/build/2024020416/URI-db-0.21-3/blib/arch:/home/cpansand/.cpan/build/2024020416/URI-db-0.21-3/blib/lib:/home/cpansand/.cpan/build/2024020416/URI-Nested-0.10-3/blib/arch:/home/cpansand/.cpan/build/2024020416/URI-Nested-0.10-3/blib/lib:/home/cpansand/.cpan/build/2024020416/Test-File-Contents-0.242-3/blib/arch:/home/cpansand/.cpan/build/2024020416/Test-File-Contents-0.242-3/blib/lib:/home/cpansand/.cpan/build/2024020416/Test-Exit-0.11-3/blib/arch:/home/cpansand/.cpan/build/2024020416/Test-Exit-0.11-3/blib/lib:/home/cpansand/.cpan/build/2024020416/Return-MultiLevel-0.08-3/blib/arch:/home/cpansand/.cpan/build/2024020416/Return-MultiLevel-0.08-3/blib/lib:/home/cpansand/.cpan/build/2024020416/Test-Dir-1.16-3/blib/arch:/home/cpansand/.cpan/build/2024020416/Test-Dir-1.16-3/blib/lib:/home/cpansand/.cpan/build/2024020416/IO-Pager-2.10-3/blib/arch:/home/cpansand/.cpan/build/2024020416/IO-Pager-2.10-3/blib/lib:/home/cpansand/.cpan/build/2024020416/Config-GitLike-1.18-3/blib/arch:/home/cpansand/.cpan/build/2024020416/Config-GitLike-1.18-3/blib/lib:/home/cpansand/.cpan/build/2024020416/Algorithm-Backoff-0.009-3/blib/arch:/home/cpansand/.cpan/build/2024020416/Algorithm-Backoff-0.009-3/blib/lib"
    PERL5OPT=""
    PERL5_CPANPLUS_IS_RUNNING="2631263"
    PERL5_CPAN_IS_RUNNING="2631263"
    PERL5_CPAN_IS_RUNNING_IN_RECURSION="2626266,2631263"
    PERLDOC="-MPod::Perldoc::ToTextOverstrike"
    PERL_BATCH="yes"
    PERL_CANARY_STABILITY_NOPROMPT="1"
    PERL_CPAN_REPORTER_CONFIG="/var/tmp/cpansmoker-1023/2024020416/cpanreporter_000_config.ini"
    PERL_EXTUTILS_AUTOINSTALL="--defaultdeps"
    PERL_USE_UNSAFE_INC="1"
  @INC:
    /home/cpansand/.cpan/build/2024020416/URI-db-0.21-3/blib/arch
    /home/cpansand/.cpan/build/2024020416/URI-db-0.21-3/blib/lib
    /home/cpansand/.cpan/build/2024020416/URI-Nested-0.10-3/blib/arch
    /home/cpansand/.cpan/build/2024020416/URI-Nested-0.10-3/blib/lib
    /home/cpansand/.cpan/build/2024020416/Test-File-Contents-0.242-3/blib/arch
    /home/cpansand/.cpan/build/2024020416/Test-File-Contents-0.242-3/blib/lib
    /home/cpansand/.cpan/build/2024020416/Test-Exit-0.11-3/blib/arch
    /home/cpansand/.cpan/build/2024020416/Test-Exit-0.11-3/blib/lib
    /home/cpansand/.cpan/build/2024020416/Return-MultiLevel-0.08-3/blib/arch
    /home/cpansand/.cpan/build/2024020416/Return-MultiLevel-0.08-3/blib/lib
    /home/cpansand/.cpan/build/2024020416/Test-Dir-1.16-3/blib/arch
    /home/cpansand/.cpan/build/2024020416/Test-Dir-1.16-3/blib/lib
    /home/cpansand/.cpan/build/2024020416/IO-Pager-2.10-3/blib/arch
    /home/cpansand/.cpan/build/2024020416/IO-Pager-2.10-3/blib/lib
    /home/cpansand/.cpan/build/2024020416/Config-GitLike-1.18-3/blib/arch
    /home/cpansand/.cpan/build/2024020416/Config-GitLike-1.18-3/blib/lib
    /home/cpansand/.cpan/build/2024020416/Algorithm-Backoff-0.009-3/blib/arch
    /home/cpansand/.cpan/build/2024020416/Algorithm-Backoff-0.009-3/blib/lib
    /opt/perl-5.26.3/lib/site_perl/5.26.3/x86_64-linux
    /opt/perl-5.26.3/lib/site_perl/5.26.3
    /opt/perl-5.26.3/lib/5.26.3/x86_64-linux
    /opt/perl-5.26.3/lib/5.26.3
    .