Module-Which v0.05 Perl 5 v5.29.2 x86_64-linux
- Status
- Pass
- From
- John SJ Anderson
- Dist
-
Module-Which v0.05
- Platform
- Perl 5 v5.29.2 x86_64-linux
- Date
- 2018-08-31 00:34:49
- ID
- ab0ec69c-acb5-11e8-a7d6-8c4756dbac24
This distribution has been tested as part of the CPAN Testers
project, supporting the Perl programming language. See
http://wiki.cpantesters.org/ for more information or email
questions to cpan-testers-discuss@perl.org
--
Dear NEILB,
This is a computer-generated report for Module-Which-0.05
on perl 5.29.2, created by App::cpanminus::reporter 0.17 (1.7044).
Thank you for uploading your work to CPAN. Congratulations!
All tests were successful.
Sections of this report:
* Tester comments
* Program output
* Prerequisites
* Environment and other context
------------------------------
TESTER COMMENTS
------------------------------
Additional comments from tester:
none provided
------------------------------
PROGRAM OUTPUT
------------------------------
Output from '':
Building and testing Module-Which-0.05
cp lib/Module/Which.pm blib/lib/Module/Which.pm
cp lib/Data/Hash/Transform.pm blib/lib/Data/Hash/Transform.pm
cp lib/Module/Which/List.pm blib/lib/Module/Which/List.pm
cp lib/Module/Which/P5Path.pm blib/lib/Module/Which/P5Path.pm
cp bin/which_pm blib/script/which_pm
"/opt/plenv/versions/5.29.2/bin/perl5.29.2" -MExtUtils::MY -e 'MY->fixin(shift)' -- blib/script/which_pm
Manifying 1 pod document
Manifying 4 pod documents
PERL_DL_NONLAZY=1 "/opt/plenv/versions/5.29.2/bin/perl5.29.2" "-MExtUtils::Command::MM" "-MTest::Harness" "-e" "undef *Test::Harness::Switches; test_harness(0, 'blib/lib', 'blib/arch')" t/*.t
t/001basic.t ... ok
t/002hash.t .... ok
t/004p5path.t .. ok
t/005p5win.t ... skipped: Test irrelevant on non-Windows systems
t/099pod.t ..... ok
All tests successful.
Files=5, Tests=41, 1 wallclock secs ( 0.02 usr 0.00 sys + 0.48 cusr 0.06 csys = 0.56 CPU)
Result: PASS
------------------------------
PREREQUISITES
------------------------------
Prerequisite modules loaded:
No requirements found
------------------------------
ENVIRONMENT AND OTHER CONTEXT
------------------------------
Environment variables:
LANG = en_US.UTF-8
LC_ALL = en_US.UTF-8
PATH = /opt/plenv/versions/5.29.2/bin:/opt/plenv/libexec:/opt/plenv/plugins/perl-build/bin:/opt/plenv/shims:/opt/plenv/shims:/opt/plenv/bin:/opt/nvm/versions/node/v8.4.0/bin:/home/genehack/bin:/opt/znc/bin:/opt/weechat/bin:/opt/vim/bin:/opt/tmux/bin:/opt/git/bin:/opt/emacs/bin:/opt/local/bin:/usr/local/bin:/usr/bin:/bin:/usr/games
PERL_CPANM_OPT = --skip-installed --prompt
SHELL = /bin/zsh
TERM = screen-256color
Perl special variables (and OS-specific diagnostics, for MSWin32):
EGID = 1001 102 1001
EUID = 1001
EXECUTABLE_NAME = /opt/plenv/versions/5.29.2/bin/perl5.29.2
GID = 1001 102 1001
UID = 1001
Perl module toolchain versions installed:
Module Have
------------------- --------
CPAN 2.20
CPAN::Meta 2.150010
Cwd 3.75
ExtUtils::CBuilder 0.280230
ExtUtils::Command 7.34
ExtUtils::Install 2.14
ExtUtils::MakeMaker 7.34
ExtUtils::Manifest 1.71
ExtUtils::ParseXS 3.39
File::Spec 3.74
JSON 2.97001
JSON::PP 2.97001
Module::Build 0.4224
Module::Signature n/a
Parse::CPAN::Meta 2.150010
Test::Harness 3.42
Test::More 1.302140
YAML 1.26
YAML::Syck n/a
version 0.9924
--
Summary of my perl5 (revision 5 version 29 subversion 2) configuration:
Platform:
osname=linux
osvers=4.15.13-x86_64-linode106
archname=x86_64-linux
uname='linux klatch 4.15.13-x86_64-linode106 #1 smp tue mar 27 14:42:14 utc 2018 x86_64 gnulinux '
config_args='-Dprefix=/opt/plenv/versions/5.29.2 -de -Dversiononly -Dusedevel -A'eval:scriptdir=/opt/plenv/versions/5.29.2/bin''
hint=recommended
useposix=true
d_sigaction=define
useithreads=undef
usemultiplicity=undef
use64bitint=define
use64bitall=define
uselongdouble=undef
usemymalloc=n
default_inc_excludes_dot=define
bincompat5005=undef
Compiler:
cc='cc'
ccflags ='-fwrapv -fno-strict-aliasing -pipe -fstack-protector-strong -I/usr/local/include -D_LARGEFILE_SOURCE -D_FILE_OFFSET_BITS=64 -D_FORTIFY_SOURCE=2'
optimize='-O2'
cppflags='-fwrapv -fno-strict-aliasing -pipe -fstack-protector-strong -I/usr/local/include'
ccversion=''
gccversion='6.3.0 20170516'
gccosandvers=''
intsize=4
longsize=8
ptrsize=8
doublesize=8
byteorder=12345678
doublekind=3
d_longlong=define
longlongsize=8
d_longdbl=define
longdblsize=16
longdblkind=3
ivtype='long'
ivsize=8
nvtype='double'
nvsize=8
Off_t='off_t'
lseeksize=8
alignbytes=8
prototype=define
Linker and Libraries:
ld='cc'
ldflags =' -fstack-protector-strong -L/usr/local/lib'
libpth=/usr/local/lib /usr/lib/gcc/x86_64-linux-gnu/6/include-fixed /usr/include/x86_64-linux-gnu /usr/lib /lib/x86_64-linux-gnu /lib/../lib /usr/lib/x86_64-linux-gnu /usr/lib/../lib /lib
libs=-lpthread -lnsl -lgdbm -ldl -lm -lcrypt -lutil -lc -lgdbm_compat
perllibs=-lpthread -lnsl -ldl -lm -lcrypt -lutil -lc
libc=libc-2.24.so
so=so
useshrplib=false
libperl=libperl.a
gnulibc_version='2.24'
Dynamic Linking:
dlsrc=dl_dlopen.xs
dlext=so
d_dlsymun=undef
ccdlflags='-Wl,-E'
cccdlflags='-fPIC'
lddlflags='-shared -O2 -L/usr/local/lib -fstack-protector-strong'
Characteristics of this binary (from libperl):
Compile-time options:
HAS_TIMES
PERLIO_LAYERS
PERL_COPY_ON_WRITE
PERL_DONT_CREATE_GVSV
PERL_MALLOC_WRAP
PERL_OP_PARENT
PERL_PRESERVE_IVUV
PERL_USE_DEVEL
USE_64_BIT_ALL
USE_64_BIT_INT
USE_LARGE_FILES
USE_LOCALE
USE_LOCALE_COLLATE
USE_LOCALE_CTYPE
USE_LOCALE_NUMERIC
USE_LOCALE_TIME
USE_PERLIO
USE_PERL_ATOF
Locally applied patches:
Devel::PatchPerl 1.52
Built under linux
Compiled at Aug 30 2018 19:20:07
%ENV:
PERL_CPANM_OPT="--skip-installed --prompt"
@INC:
/opt/plenv/versions/5.29.2/lib/perl5/site_perl/5.29.2/x86_64-linux
/opt/plenv/versions/5.29.2/lib/perl5/site_perl/5.29.2
/opt/plenv/versions/5.29.2/lib/perl5/5.29.2/x86_64-linux
/opt/plenv/versions/5.29.2/lib/perl5/5.29.2