Xporter v0.1.2 Perl 5 v5.20.1 amd64-freebsd
- Status
- Pass
- From
- Nigel Horne
- Dist
-
Xporter v0.1.2
- Platform
- Perl 5 v5.20.1 amd64-freebsd
- Date
- 2018-11-24 09:23:57
- ID
- ab4e526e-efca-11e8-afbf-aec3b07506ca
This distribution has been tested as part of the CPAN Testers
project, supporting the Perl programming language. See
http://wiki.cpantesters.org/ for more information or email
questions to cpan-testers-discuss@perl.org
--
Dear Linda A Walsh,
This is a computer-generated report for Xporter-0.1.2
on perl 5.20.1, created by CPAN-Reporter-1.2018.
Thank you for uploading your work to CPAN. Congratulations!
All tests were successful.
Sections of this report:
* Tester comments
* Program output
* Prerequisites
* Environment and other context
------------------------------
TESTER COMMENTS
------------------------------
Additional comments from tester:
this report is from an automated smoke testing program
and was not reviewed by a human for accuracy
------------------------------
PROGRAM OUTPUT
------------------------------
Output from '/usr/bin/make test':
PERL_DL_NONLAZY=1 "/mnt/nas/home/netgate3/njh/perl5/perlbrew/perls/perl-5.20.1/bin/perl" "-MExtUtils::Command::MM" "-MTest::Harness" "-e" "undef *Test::Harness::Switches; test_harness(0, 'blib/lib', 'blib/arch')" t/*.t
t/t00.t .. ok
t/t01.t .. ok
t/t02.t .. ok
t/t03.t .. ok
t/t05.t .. ok
t/t04.t .. ok
t/t06.t .. ok
All tests successful.
Files=7, Tests=21, 7 wallclock secs ( 0.15 usr 0.03 sys + 1.73 cusr 0.66 csys = 2.56 CPU)
Result: PASS
------------------------------
PREREQUISITES
------------------------------
Prerequisite modules loaded:
build_requires:
Module Need Have
------------------- ------ --------
ExtUtils::MakeMaker 6.86 7.34
mem v0.4.5 0.4.7
Test::Simple 0.44 1.302140
configure_requires:
Module Need Have
------------------- ------ --------
ExtUtils::MakeMaker 6.86 7.34
------------------------------
ENVIRONMENT AND OTHER CONTEXT
------------------------------
Environment variables:
AUTOMATED_TESTING = 1
HARNESS_OPTIONS = j2
NONINTERACTIVE_TESTING = 1
PATH = /home/njh/perl5/perlbrew/bin:/home/njh/perl5/perlbrew/perls/perl-5.20.1/bin:/sbin:/bin:/usr/sbin:/usr/bin:/usr/local/sbin:/usr/local/bin:/home/njh/src/njh/smoker/bin
PERL5LIB = /var/tmp/build/mem-0.4.7-8/blib/arch:/var/tmp/build/mem-0.4.7-8/blib/lib
PERL5OPT =
PERL5_CPANPLUS_IS_RUNNING = 1937
PERL5_CPAN_IS_RUNNING = 1937
PERLBREW_HOME = /home/njh/.perlbrew
PERLBREW_MANPATH = /home/njh/perl5/perlbrew/perls/perl-5.20.1/man
PERLBREW_PATH = /home/njh/perl5/perlbrew/bin:/home/njh/perl5/perlbrew/perls/perl-5.20.1/bin
PERLBREW_PERL = perl-5.20.1
PERLBREW_ROOT = /home/njh/perl5/perlbrew
PERLBREW_SHELLRC_VERSION = 0.84
PERLBREW_VERSION = 0.84
PERL_MM_USE_DEFAULT = 1
SHELL = /bin/sh
TMPDIR = /tmp/testwrapper.85363
Perl special variables (and OS-specific diagnostics, for MSWin32):
$^X = /mnt/nas/home/netgate3/njh/perl5/perlbrew/perls/perl-5.20.1/bin/perl
$UID/$EUID = 1000 / 1000
$GID = 1000 1000 0
$EGID = 1000 1000 0
Perl module toolchain versions installed:
Module Have
------------------- --------
CPAN 2.16
CPAN::Meta 2.150010
Cwd 3.48
ExtUtils::CBuilder 0.280230
ExtUtils::Command 7.34
ExtUtils::Install 2.14
ExtUtils::MakeMaker 7.34
ExtUtils::Manifest 1.71
ExtUtils::ParseXS 3.35
File::Spec 3.48
JSON 2.97001
JSON::PP 2.97001
Module::Build 0.4224
Module::Signature n/a
Parse::CPAN::Meta 2.150010
Test::Harness 3.42
Test::More 1.302140
YAML 1.26
YAML::Syck 1.30
version 0.9924
--
Summary of my perl5 (revision 5 version 20 subversion 1) configuration:
Platform:
osname=freebsd, osvers=11.2-release, archname=amd64-freebsd
uname='freebsd netgate3 11.2-release freebsd 11.2-release #0 r335510: fri jun 22 04:32:14 utc 2018 root@releng2.nyi.freebsd.org:usrobjusrsrcsysgeneric amd64 '
config_args='-de -Dprefix=/home/njh/perl5/perlbrew/perls/perl-5.20.1 -Aeval:scriptdir=/home/njh/perl5/perlbrew/perls/perl-5.20.1/bin'
hint=recommended, useposix=true, d_sigaction=define
useithreads=undef, usemultiplicity=undef
use64bitint=define, use64bitall=define, uselongdouble=undef
usemymalloc=n, bincompat5005=undef
Compiler:
cc='cc', ccflags ='-DHAS_FPSETMASK -DHAS_FLOATINGPOINT_H -fno-strict-aliasing -pipe -fstack-protector -I/usr/local/include',
optimize='-O2',
cppflags='-DHAS_FPSETMASK -DHAS_FLOATINGPOINT_H -fno-strict-aliasing -pipe -fstack-protector -I/usr/local/include'
ccversion='', gccversion='4.2.1 Compatible FreeBSD Clang 6.0.0 (tags/RELEASE_600/final 326565)', gccosandvers=''
intsize=4, longsize=8, ptrsize=8, doublesize=8, byteorder=12345678
d_longlong=define, longlongsize=8, d_longdbl=define, longdblsize=16
ivtype='long', ivsize=8, nvtype='double', nvsize=8, Off_t='off_t', lseeksize=8
alignbytes=8, prototype=define
Linker and Libraries:
ld='cc', ldflags ='-Wl,-E -fstack-protector -L/usr/local/lib'
libpth=/usr/lib /usr/local/lib /usr/lib/clang/6.0.0/lib /usr/lib
libs=-ldl -lm -lcrypt -lutil -lc
perllibs=-ldl -lm -lcrypt -lutil -lc
libc=, so=so, useshrplib=false, libperl=libperl.a
gnulibc_version=''
Dynamic Linking:
dlsrc=dl_dlopen.xs, dlext=so, d_dlsymun=undef, ccdlflags=' '
cccdlflags='-DPIC -fPIC', lddlflags='-shared -L/usr/local/lib -fstack-protector'
Characteristics of this binary (from libperl):
Compile-time options: HAS_TIMES PERLIO_LAYERS PERL_DONT_CREATE_GVSV
PERL_HASH_FUNC_ONE_AT_A_TIME_HARD PERL_MALLOC_WRAP
PERL_NEW_COPY_ON_WRITE PERL_PRESERVE_IVUV
USE_64_BIT_ALL USE_64_BIT_INT USE_LARGE_FILES
USE_LOCALE USE_LOCALE_COLLATE USE_LOCALE_CTYPE
USE_LOCALE_NUMERIC USE_PERLIO USE_PERL_ATOF
Locally applied patches:
Devel::PatchPerl 1.52
Built under freebsd
Compiled at Sep 9 2018 12:44:08
%ENV:
PERL5LIB="/var/tmp/build/mem-0.4.7-8/blib/arch:/var/tmp/build/mem-0.4.7-8/blib/lib"
PERL5OPT=""
PERL5_CPANPLUS_IS_RUNNING="1937"
PERL5_CPAN_IS_RUNNING="1937"
PERLBREW_HOME="/home/njh/.perlbrew"
PERLBREW_MANPATH="/home/njh/perl5/perlbrew/perls/perl-5.20.1/man"
PERLBREW_PATH="/home/njh/perl5/perlbrew/bin:/home/njh/perl5/perlbrew/perls/perl-5.20.1/bin"
PERLBREW_PERL="perl-5.20.1"
PERLBREW_ROOT="/home/njh/perl5/perlbrew"
PERLBREW_SHELLRC_VERSION="0.84"
PERLBREW_VERSION="0.84"
PERL_MM_USE_DEFAULT="1"
@INC:
/var/tmp/build/mem-0.4.7-8/blib/arch
/var/tmp/build/mem-0.4.7-8/blib/lib
/home/njh/perl5/perlbrew/perls/perl-5.20.1/lib/site_perl/5.20.1/amd64-freebsd
/home/njh/perl5/perlbrew/perls/perl-5.20.1/lib/site_perl/5.20.1
/home/njh/perl5/perlbrew/perls/perl-5.20.1/lib/5.20.1/amd64-freebsd
/home/njh/perl5/perlbrew/perls/perl-5.20.1/lib/5.20.1
.