Drupal-Admin v0.04 Perl 5 v5.37.4 x86_64-linux-thread-multi-ld

Status
Pass
From
Andreas J. König (ANDK)
Dist
Drupal-Admin v0.04
Platform
Perl 5 v5.37.4 x86_64-linux-thread-multi-ld
Date
2022-10-12 12:30:34
ID
ab5f16b8-4a29-11ed-9200-d87dba55df6e
This distribution has been tested as part of the CPAN Testers
project, supporting the Perl programming language.  See
http://wiki.cpantesters.org/ for more information or email
questions to cpan-testers-discuss@perl.org


--
Dear Dan Urist,

This is a computer-generated report for Drupal-Admin-0.04
on perl 5.37.4, created by CPAN-Reporter-1.2018.

Thank you for uploading your work to CPAN.  Congratulations!
All tests were successful.

Sections of this report:

    * Tester comments
    * Program output
    * Prerequisites
    * Environment and other context

------------------------------
TESTER COMMENTS
------------------------------

Additional comments from tester:

this report is from an automated smoke testing program
and was not reviewed by a human for accuracy

------------------------------
PROGRAM OUTPUT
------------------------------

Output from '/usr/bin/make test':

PERL_DL_NONLAZY=1 "/tmp/basesmoker-reloperl-kHob/bin/perl" "-MExtUtils::Command::MM" "-MTest::Harness" "-e" "undef *Test::Harness::Switches; test_harness(0, 'blib/lib', 'blib/arch')" t/*.t
You are overwriting a locally defined function (type) with an accessor at /home/sand/src/perl/repoperls/installed-perls/host/k93focal/v5.37.4/e463/lib/site_perl/5.37.4/x86_64-linux-thread-multi-ld/Moose/Meta/Attribute.pm line 1114.
	Moose::Meta::Attribute::_process_accessors(Moose::Meta::Attribute=HASH(0x561150c9e598), "reader", "type", undef) called at /home/sand/src/perl/repoperls/installed-perls/host/k93focal/v5.37.4/e463/lib/site_perl/5.37.4/x86_64-linux-thread-multi-ld/Class/MOP/Attribute.pm line 450
	Class::MOP::Attribute::install_accessors(Moose::Meta::Attribute=HASH(0x561150c9e598)) called at /home/sand/src/perl/repoperls/installed-perls/host/k93focal/v5.37.4/e463/lib/site_perl/5.37.4/x86_64-linux-thread-multi-ld/Moose/Meta/Attribute.pm line 1014
	Moose::Meta::Attribute::install_accessors(Moose::Meta::Attribute=HASH(0x561150c9e598)) called at /home/sand/src/perl/repoperls/installed-perls/host/k93focal/v5.37.4/e463/lib/site_perl/5.37.4/x86_64-linux-thread-multi-ld/Class/MOP/Class.pm line 899
	Class::MOP::Class::try {...} () called at /home/sand/src/perl/repoperls/installed-perls/host/k93focal/v5.37.4/e463/lib/site_perl/5.37.4/Try/Tiny.pm line 102
	eval {...} called at /home/sand/src/perl/repoperls/installed-perls/host/k93focal/v5.37.4/e463/lib/site_perl/5.37.4/Try/Tiny.pm line 93
	Try::Tiny::try(CODE(0x561150c922f0), Try::Tiny::Catch=REF(0x561150c91d08)) called at /home/sand/src/perl/repoperls/installed-perls/host/k93focal/v5.37.4/e463/lib/site_perl/5.37.4/x86_64-linux-thread-multi-ld/Class/MOP/Class.pm line 904
	Class::MOP::Class::_post_add_attribute(Moose::Meta::Class=HASH(0x561150c877c0), Moose::Meta::Attribute=HASH(0x561150c9e598)) called at /home/sand/src/perl/repoperls/installed-perls/host/k93focal/v5.37.4/e463/lib/site_perl/5.37.4/x86_64-linux-thread-multi-ld/Class/MOP/Mixin/HasAttributes.pm line 39
	Class::MOP::Mixin::HasAttributes::add_attribute(Moose::Meta::Class=HASH(0x561150c877c0), Moose::Meta::Attribute=HASH(0x561150c9e598)) called at /home/sand/src/perl/repoperls/installed-perls/host/k93focal/v5.37.4/e463/lib/site_perl/5.37.4/x86_64-linux-thread-multi-ld/Moose/Meta/Class.pm line 585
	Moose::Meta::Class::add_attribute(Moose::Meta::Class=HASH(0x561150c877c0), "type", "definition_context", HASH(0x561150c4a7b8), "is", "ro", "isa", "StatusType", ...) called at /home/sand/src/perl/repoperls/installed-perls/host/k93focal/v5.37.4/e463/lib/site_perl/5.37.4/x86_64-linux-thread-multi-ld/Moose.pm line 74
	Moose::has(Moose::Meta::Class=HASH(0x561150c877c0), "type", "is", "ro", "isa", "StatusType", "required", 1) called at /home/sand/src/perl/repoperls/installed-perls/host/k93focal/v5.37.4/e463/lib/site_perl/5.37.4/x86_64-linux-thread-multi-ld/Moose/Exporter.pm line 418
	Moose::has("type", "is", "ro", "isa", "StatusType", "required", 1) called at /tmp/loop_over_bdir-699717-u8pT6m/Drupal-Admin-0.04-0/blib/lib/Drupal/Admin/Status.pm line 16
	require Drupal/Admin/Status.pm called at /tmp/loop_over_bdir-699717-u8pT6m/Drupal-Admin-0.04-0/blib/lib/Drupal/Admin.pm line 19
	Drupal::Admin::BEGIN() called at /tmp/loop_over_bdir-699717-u8pT6m/Drupal-Admin-0.04-0/blib/lib/Drupal/Admin.pm line 19
	eval {...} called at /tmp/loop_over_bdir-699717-u8pT6m/Drupal-Admin-0.04-0/blib/lib/Drupal/Admin.pm line 19
	require Drupal/Admin.pm called at t/00-load.t line 6
	main::BEGIN() called at t/00-load.t line 6
	eval {...} called at t/00-load.t line 6
	eval 'package main;
BEGIN { ${^WARNING_BITS} = $args[-1] if defined $args[-1] }
#line 6 t/00-load.t
use Drupal::Admin @{$args[0]};
1;
' called at /home/sand/src/perl/repoperls/installed-perls/host/k93focal/v5.37.4/e463/lib/5.37.4/Test/More.pm line 1034
	Test::More::_eval("package main;\x{a}BEGIN { \${^WARNING_BITS} = \$args[-1] if defined"..., ARRAY(0x56114ea199c0), undef) called at /home/sand/src/perl/repoperls/installed-perls/host/k93focal/v5.37.4/e463/lib/5.37.4/Test/More.pm line 1009
	Test::More::use_ok("Drupal::Admin") called at t/00-load.t line 6
	main::BEGIN() called at t/00-load.t line 7
	eval {...} called at t/00-load.t line 7
# Testing Drupal::Admin 0.04, Perl 5.037004, /tmp/basesmoker-reloperl-kHob/bin/perl
t/00-load.t ....... ok
You are overwriting a locally defined function (type) with an accessor at /home/sand/src/perl/repoperls/installed-perls/host/k93focal/v5.37.4/e463/lib/site_perl/5.37.4/x86_64-linux-thread-multi-ld/Moose/Meta/Attribute.pm line 1111.
	Moose::Meta::Attribute::_process_accessors(Moose::Meta::Attribute=HASH(0x55b3b66db400), "reader", "type", undef) called at /home/sand/src/perl/repoperls/installed-perls/host/k93focal/v5.37.4/e463/lib/site_perl/5.37.4/x86_64-linux-thread-multi-ld/Class/MOP/Attribute.pm line 450
	Class::MOP::Attribute::install_accessors(Moose::Meta::Attribute=HASH(0x55b3b66db400)) called at /home/sand/src/perl/repoperls/installed-perls/host/k93focal/v5.37.4/e463/lib/site_perl/5.37.4/x86_64-linux-thread-multi-ld/Moose/Meta/Attribute.pm line 1014
	Moose::Meta::Attribute::install_accessors(Moose::Meta::Attribute=HASH(0x55b3b66db400)) called at /home/sand/src/perl/repoperls/installed-perls/host/k93focal/v5.37.4/e463/lib/site_perl/5.37.4/x86_64-linux-thread-multi-ld/Class/MOP/Class.pm line 899
	Class::MOP::Class::try {...} () called at /home/sand/src/perl/repoperls/installed-perls/host/k93focal/v5.37.4/e463/lib/site_perl/5.37.4/Try/Tiny.pm line 102
	eval {...} called at /home/sand/src/perl/repoperls/installed-perls/host/k93focal/v5.37.4/e463/lib/site_perl/5.37.4/Try/Tiny.pm line 93
	Try::Tiny::try(CODE(0x55b3b66c3d70), Try::Tiny::Catch=REF(0x55b3b66c3008)) called at /home/sand/src/perl/repoperls/installed-perls/host/k93focal/v5.37.4/e463/lib/site_perl/5.37.4/x86_64-linux-thread-multi-ld/Class/MOP/Class.pm line 904
	Class::MOP::Class::_post_add_attribute(Moose::Meta::Class=HASH(0x55b3b6683cf8), Moose::Meta::Attribute=HASH(0x55b3b66db400)) called at /home/sand/src/perl/repoperls/installed-perls/host/k93focal/v5.37.4/e463/lib/site_perl/5.37.4/x86_64-linux-thread-multi-ld/Class/MOP/Mixin/HasAttributes.pm line 39
	Class::MOP::Mixin::HasAttributes::add_attribute(Moose::Meta::Class=HASH(0x55b3b6683cf8), Moose::Meta::Attribute=HASH(0x55b3b66db400)) called at /home/sand/src/perl/repoperls/installed-perls/host/k93focal/v5.37.4/e463/lib/site_perl/5.37.4/x86_64-linux-thread-multi-ld/Moose/Meta/Class.pm line 585
	Moose::Meta::Class::add_attribute(Moose::Meta::Class=HASH(0x55b3b6683cf8), "type", "definition_context", HASH(0x55b3b66834e8), "is", "ro", "isa", "StatusType", ...) called at /home/sand/src/perl/repoperls/installed-perls/host/k93focal/v5.37.4/e463/lib/site_perl/5.37.4/x86_64-linux-thread-multi-ld/Moose.pm line 74
	Moose::has(Moose::Meta::Class=HASH(0x55b3b6683cf8), "type", "is", "ro", "isa", "StatusType", "required", 1) called at /home/sand/src/perl/repoperls/installed-perls/host/k93focal/v5.37.4/e463/lib/site_perl/5.37.4/x86_64-linux-thread-multi-ld/Moose/Exporter.pm line 418
	Moose::has("type", "is", "ro", "isa", "StatusType", "required", 1) called at /tmp/loop_over_bdir-699717-u8pT6m/Drupal-Admin-0.04-0/blib/lib/Drupal/Admin/Status.pm line 16
	require Drupal/Admin/Status.pm called at /tmp/loop_over_bdir-699717-u8pT6m/Drupal-Admin-0.04-0/blib/lib/Drupal/Admin.pm line 19
	Drupal::Admin::BEGIN() called at /tmp/loop_over_bdir-699717-u8pT6m/Drupal-Admin-0.04-0/blib/lib/Drupal/Admin.pm line 19
	eval {...} called at /tmp/loop_over_bdir-699717-u8pT6m/Drupal-Admin-0.04-0/blib/lib/Drupal/Admin.pm line 19
	require Drupal/Admin.pm called at (eval 13) line 1
	eval ' require Drupal::Admin ' called at /home/sand/src/perl/repoperls/installed-perls/host/k93focal/v5.37.4/e463/lib/site_perl/5.37.4/Pod/Coverage.pm line 308
	Pod::Coverage::_get_syms(Pod::Coverage=HASH(0x55b3b42782a0), "Drupal::Admin") called at /home/sand/src/perl/repoperls/installed-perls/host/k93focal/v5.37.4/e463/lib/site_perl/5.37.4/Pod/Coverage.pm line 152
	Pod::Coverage::coverage(Pod::Coverage=HASH(0x55b3b42782a0)) called at /home/sand/src/perl/repoperls/installed-perls/host/k93focal/v5.37.4/e463/lib/site_perl/5.37.4/Test/Pod/Coverage.pm line 169
	Test::Pod::Coverage::pod_coverage_ok("Drupal::Admin", HASH(0x55b3b3a7f710), "Pod coverage on Drupal::Admin") called at /home/sand/src/perl/repoperls/installed-perls/host/k93focal/v5.37.4/e463/lib/site_perl/5.37.4/Test/Pod/Coverage.pm line 133
	Test::Pod::Coverage::all_pod_coverage_ok() called at t/pod-coverage.t line 18
t/pod-coverage.t .. ok
t/pod.t ........... ok
All tests successful.
Files=3, Tests=9,  1 wallclock secs ( 0.03 usr  0.01 sys +  1.10 cusr  0.08 csys =  1.22 CPU)
Result: PASS

------------------------------
PREREQUISITES
------------------------------

Prerequisite modules loaded:

requires:

    Module                      Need Have    
    --------------------------- ---- --------
    File::Type                  0    0.22    
    Getopt::Long                0    2.52    
    Log::Log4perl               0    1.56    
    Moose                       0    2.2201  
    MooseX::Log::Log4perl::Easy 0    0.47    
    Pod::Usage                  0    2.03    
    Test::More                  0    1.302191
    WWW::Mechanize              0    2.15    
    WWW::Mechanize::TreeBuilder 0    1.20000 

build_requires:

    Module                      Need Have    
    --------------------------- ---- --------
    ExtUtils::MakeMaker         0    7.64    


------------------------------
ENVIRONMENT AND OTHER CONTEXT
------------------------------

Environment variables:

    AUTOMATED_TESTING = 1
    LANG = en_US.UTF-8
    PATH = /home/sand/bin:/usr/local/bin:/usr/local/sbin:/usr/sbin:/usr/bin:/sbin:/bin:/usr/games:/usr/local/games:/snap/bin:/usr/local/perl/bin:/usr/X11/bin
    PERL = /tmp/basesmoker-reloperl-kHob/bin/perl
    PERL5LIB = 
    PERL5OPT = 
    PERL5_CPANPLUS_IS_RUNNING = 699725
    PERL5_CPAN_IS_RUNNING = 699725
    PERL_CANARY_STABILITY_NOPROMPT = 1
    PERL_MM_USE_DEFAULT = 1
    PERL_USE_UNSAFE_INC = 1
    SHELL = /usr/bin/zsh
    TERM = screen

Perl special variables (and OS-specific diagnostics, for MSWin32):

    $^X = /tmp/basesmoker-reloperl-kHob/bin/perl
    $UID/$EUID = 1005 / 1005
    $GID = 1005 1005
    $EGID = 1005 1005

Perl module toolchain versions installed:

    Module              Have    
    ------------------- --------
    CPAN                2.34    
    CPAN::Meta          2.150010
    Cwd                 3.86    
    ExtUtils::CBuilder  0.280237
    ExtUtils::Command   7.64    
    ExtUtils::Install   2.20    
    ExtUtils::MakeMaker 7.64    
    ExtUtils::Manifest  1.73    
    ExtUtils::ParseXS   3.46    
    File::Spec          3.87    
    JSON                4.10    
    JSON::PP            4.12    
    Module::Build       0.4231  
    Module::Signature   0.88    
    Parse::CPAN::Meta   2.150010
    Test::Harness       3.44    
    Test::More          1.302191
    YAML                1.30    
    YAML::Syck          1.34    
    version             0.9929  


--

Summary of my perl5 (revision 5 version 37 subversion 4) configuration:
  Commit id: f2582f5b18658f945a763f2edc110cdc7c5220e7
  Platform:
    osname=linux
    osvers=5.4.0-125-generic
    archname=x86_64-linux-thread-multi-ld
    uname='linux k93focal 5.4.0-125-generic #141-ubuntu smp wed aug 10 13:42:03 utc 2022 x86_64 x86_64 x86_64 gnulinux '
    config_args='-Dprefix=/home/sand/src/perl/repoperls/installed-perls/host/k93focal/v5.37.4/e463 -Dmyhostname=k93focal -Dinstallusrbinperl=n -Uversiononly -Dusedevel -des -Ui_db -Dlibswanted=cl pthread socket inet nsl gdbm dbm malloc dl ld sun m crypt sec util c cposix posix ucb BSD gdbm_compat -Duseithreads -Duselongdouble -DEBUGGING=both'
    hint=recommended
    useposix=true
    d_sigaction=define
    useithreads=define
    usemultiplicity=define
    use64bitint=define
    use64bitall=define
    uselongdouble=define
    usemymalloc=n
    default_inc_excludes_dot=define
  Compiler:
    cc='cc'
    ccflags ='-D_REENTRANT -D_GNU_SOURCE -fwrapv -DDEBUGGING -fno-strict-aliasing -pipe -fstack-protector-strong -I/usr/local/include -D_LARGEFILE_SOURCE -D_FILE_OFFSET_BITS=64'
    optimize='-O2 -g'
    cppflags='-D_REENTRANT -D_GNU_SOURCE -fwrapv -DDEBUGGING -fno-strict-aliasing -pipe -fstack-protector-strong -I/usr/local/include'
    ccversion=''
    gccversion='9.4.0'
    gccosandvers=''
    intsize=4
    longsize=8
    ptrsize=8
    doublesize=8
    byteorder=12345678
    doublekind=3
    d_longlong=define
    longlongsize=8
    d_longdbl=define
    longdblsize=16
    longdblkind=3
    ivtype='long'
    ivsize=8
    nvtype='long double'
    nvsize=16
    Off_t='off_t'
    lseeksize=8
    alignbytes=16
    prototype=define
  Linker and Libraries:
    ld='cc'
    ldflags =' -fstack-protector-strong -L/usr/local/lib'
    libpth=/usr/local/lib /usr/lib/x86_64-linux-gnu /usr/lib /usr/lib64
    libs=-lpthread -lnsl -ldl -lm -lcrypt -lutil -lc
    perllibs=-lpthread -lnsl -ldl -lm -lcrypt -lutil -lc
    libc=libc-2.31.so
    so=so
    useshrplib=false
    libperl=libperl.a
    gnulibc_version='2.31'
  Dynamic Linking:
    dlsrc=dl_dlopen.xs
    dlext=so
    d_dlsymun=undef
    ccdlflags='-Wl,-E'
    cccdlflags='-fPIC'
    lddlflags='-shared -O2 -g -L/usr/local/lib -fstack-protector-strong'


Characteristics of this binary (from libperl): 
  Compile-time options:
    DEBUGGING
    HAS_TIMES
    MULTIPLICITY
    PERLIO_LAYERS
    PERL_COPY_ON_WRITE
    PERL_DONT_CREATE_GVSV
    PERL_HASH_FUNC_SIPHASH13
    PERL_HASH_USE_SBOX32
    PERL_MALLOC_WRAP
    PERL_OP_PARENT
    PERL_PRESERVE_IVUV
    PERL_TRACK_MEMPOOL
    PERL_USE_DEVEL
    PERL_USE_SAFE_PUTENV
    USE_64_BIT_ALL
    USE_64_BIT_INT
    USE_ITHREADS
    USE_LARGE_FILES
    USE_LOCALE
    USE_LOCALE_COLLATE
    USE_LOCALE_CTYPE
    USE_LOCALE_NUMERIC
    USE_LOCALE_TIME
    USE_LONG_DOUBLE
    USE_PERLIO
    USE_PERL_ATOF
    USE_REENTRANT_API
    USE_THREAD_SAFE_LOCALE
  Built under linux
  Compiled at Oct 10 2022 06:00:24
  %ENV:
    PERL="/tmp/basesmoker-reloperl-kHob/bin/perl"
    PERL5LIB=""
    PERL5OPT=""
    PERL5_CPANPLUS_IS_RUNNING="699725"
    PERL5_CPAN_IS_RUNNING="699725"
    PERL_CANARY_STABILITY_NOPROMPT="1"
    PERL_MM_USE_DEFAULT="1"
    PERL_USE_UNSAFE_INC="1"
  @INC:
    /home/sand/src/perl/repoperls/installed-perls/host/k93focal/v5.37.4/e463/lib/site_perl/5.37.4/x86_64-linux-thread-multi-ld
    /home/sand/src/perl/repoperls/installed-perls/host/k93focal/v5.37.4/e463/lib/site_perl/5.37.4
    /home/sand/src/perl/repoperls/installed-perls/host/k93focal/v5.37.4/e463/lib/5.37.4/x86_64-linux-thread-multi-ld
    /home/sand/src/perl/repoperls/installed-perls/host/k93focal/v5.37.4/e463/lib/5.37.4
    .