DBIx-Schema-Changelog v0.9.0 Perl 5 v5.26.0 MSWin32-x86-multi-thread-64int
- Status
- Pass
- From
- Alexandr Ciornii (CHORNY)
- Dist
-
DBIx-Schema-Changelog v0.9.0
- Platform
- Perl 5 v5.26.0 MSWin32-x86-multi-thread-64int
- Date
- 2018-01-22 20:14:37
- ID
- ab80e96d-6bfe-1014-b135-fed706b9c96c
This distribution has been tested as part of the CPAN Testers
project, supporting the Perl programming language. See
http://wiki.cpantesters.org/ for more information or email
questions to cpan-testers-discuss@perl.org
--
Dear Mario Zieschang,
This is a computer-generated report for DBIx-Schema-Changelog-0.9.0
on perl 5.26.0, created by CPAN-Reporter-1.2018.
Thank you for uploading your work to CPAN. Congratulations!
All tests were successful.
Sections of this report:
* Tester comments
* Program output
* Prerequisites
* Environment and other context
------------------------------
TESTER COMMENTS
------------------------------
Additional comments from tester:
this report is from an automated smoke testing program
and was not reviewed by a human for accuracy
------------------------------
PROGRAM OUTPUT
------------------------------
Output from 'C:\STRAWB~1\c\bin\gmake.exe test':
"C:\Strawberry260\perl\bin\perl.exe" "-MExtUtils::Command::MM" "-MTest::Harness" "-e" "undef *Test::Harness::Switches; test_harness(0, 'blib\lib', 'blib\arch')" t/*.t
t/00-load.t ......... ok
t/010-changelog.t ... ok
t/020-driver.t ...... ok
DBIx::Schema::Changelog::File::Yaml. Read changelog file 'C:\STRAWB~1\cpan\build\DBIx-Schema-Changelog-0.9.0-0\t\data\changelog\changelog.yml'.
DBIx::Schema::Changelog::File::Yaml. Read changelog file 'C:\STRAWB~1\cpan\build\DBIx-Schema-Changelog-0.9.0-0\t\data\changelog\changelog-01.yml'.
DBIx::Schema::Changelog::Action::Indices (37) Create index is not supported!
DBIx::Schema::Changelog::Action::Sql (35). WARNING: Execute sql statements can lead very likely to incompatibilities.
DBIx::Schema::Changelog::Action::Columns (98) Drop column is not supported!
DBIx::Schema::Changelog::Action::Tables (197). Add constraint is not supported!
DBIx::Schema::Changelog::Action::Tables (197). Add constraint is not supported!
t/021-sqlite.t ...... ok
t/030-changeset.t ... ok
t/040-action.t ...... ok
DBIx::Schema::Changelog::Action::Columns (84) Alter column is not supported!
DBIx::Schema::Changelog::Action::Columns (98) Drop column is not supported!
t/0401-column.t ..... ok
t/0403-indices.t .... ok
t/0404-table.t ...... ok
t/0405-views.t ...... ok
t/0406-sql.t ........ ok
t/0408-default.t .... ok
t/0409-functions.t .. ok
t/0411-entries.t .... ok
t/051-base.t ........ ok
t/052-driver.t ...... ok
t/053-file.t ........ ok
DBIx::Schema::Changelog::File::Yaml. Read changelog file 'C:\STRAWB~1\cpan\build\DBIx-Schema-Changelog-0.9.0-0\.tmp\changelog\changelog.yml'.
DBIx::Schema::Changelog::File::Yaml. Read changelog file 'C:\STRAWB~1\cpan\build\DBIx-Schema-Changelog-0.9.0-0\.tmp\changelog\changelog-01.yml'.
t/054-changeset.t ... ok
t/060-file.t ........ ok
DBIx::Schema::Changelog::File::Yaml. Read changelog file 'C:\STRAWB~1\cpan\build\DBIx-Schema-Changelog-0.9.0-0\t\data\changelog\changelog.yml'.
DBIx::Schema::Changelog::File::Yaml. Read changelog file 'C:\STRAWB~1\cpan\build\DBIx-Schema-Changelog-0.9.0-0\t\data\changelog\changelog-01.yml'.
t/061-yaml.t ........ ok
Could not remove C:\STRAWB~1\cpan\build\DBIx-Schema-Changelog-0.9.0-0\.tmp: No such file or directory at t/999-delete.t line 17.
t/999-delete.t ...... ok
t/boilerplate.t ..... ok
t/manifest.t ........ skipped: Author tests not required for installation
t/pod-coverage.t .... skipped: Author tests not required for installation
t/pod-spelling.t .... skipped: Author tests not required for installation
t/pod.t ............. skipped: Author tests not required for installation
All tests successful.
Test Summary Report
-------------------
t/boilerplate.t (Wstat: 0 Tests: 5 Failed: 0)
TODO passed: 1-3
Files=26, Tests=156, 43 wallclock secs ( 0.52 usr + 0.24 sys = 0.76 CPU)
Result: PASS
------------------------------
PREREQUISITES
------------------------------
Prerequisite modules loaded:
requires:
Module Need Have
---------------------------- -------- --------
DBD::SQLite 1.4 1.54
DBI 1.632 1.639
File::Spec 0 3.67
FindBin 0 1.51
Getopt::Long 2.42 2.5
Hash::MD5 0.08 0.08
Moose 2.1403 2.2009
MooseX::HasDefaults::RO 0 0
MooseX::Types::LoadableClass 0.013 0.015
MooseX::Types::Moose 0.45 0.50
MooseX::Types::Path::Class 0.06 0.09
MooseX::Types::PerlVersion 0.002 0.002
perl 5.010000 5.026000
SQL::Abstract 1.81 1.84
Time::Piece 1.27 1.3203
YAML 1.13 1.24
YAML::XS 0.55 0.69
build_requires:
Module Need Have
---------------------------- -------- --------
ExtUtils::MakeMaker 0 7.30
Pod::Coverage::TrustPod 0 0.100003
Pod::Usage 0 1.69
Test::CheckManifest 0 1.31
Test::Cmd 0 1.09
Test::Exception 0 0.43
Test::Pod::Coverage 0 1.10
Test::Requires 0 0.10
Test::Spelling 0 0.20
configure_requires:
Module Need Have
---------------------------- -------- --------
ExtUtils::MakeMaker 0 7.30
------------------------------
ENVIRONMENT AND OTHER CONTEXT
------------------------------
Environment variables:
AUTOMATED_TESTING = 1
COMSPEC = C:\WINDOWS\system32\cmd.exe
NUMBER_OF_PROCESSORS = 1
PATH = C:\WINDOWS\system32;C:\WINDOWS;C:\WINDOWS\System32\Wbem;C:\Git\cmd;C:\Strawberry260\c\bin;C:\Strawberry260\perl\site\bin;C:\Strawberry260\perl\bin
PERL5LIB = C:\STRAWB~1\cpan\build\Test-Cmd-1.09-0/blib/arch;C:\STRAWB~1\cpan\build\Test-Cmd-1.09-0/blib/lib;C:\STRAWB~1\cpan\build\MooseX-Types-PerlVersion-0.002-0/blib/arch;C:\STRAWB~1\cpan\build\MooseX-Types-PerlVersion-0.002-0/blib/lib;C:\STRAWB~1\cpan\build\Hash-MD5-0.08-0/blib/arch;C:\STRAWB~1\cpan\build\Hash-MD5-0.08-0/blib/lib
PERL5OPT =
PERL5_CPANPLUS_IS_RUNNING = 1596
PERL5_CPAN_IS_RUNNING = 1596
PERL5_CPAN_IS_RUNNING_IN_RECURSION = 408,1596
PERL_CR_SMOKER_CURRENT = DBIx-Schema-Changelog-0.9.0
PERL_CR_SMOKER_RUNONCE = 1
PERL_EXTUTILS_AUTOINSTALL = --defaultdeps
PERL_MM_USE_DEFAULT = 1
PERL_USE_UNSAFE_INC = 1
PROCESSOR_IDENTIFIER = x86 Family 16 Model 5 Stepping 3, AuthenticAMD
TEMP = C:\DOCUME~1\a\LOCALS~1\Temp
Perl special variables (and OS-specific diagnostics, for MSWin32):
$^X = C:\Strawberry260\perl\bin\perl.exe
$UID/$EUID = 0 / 0
$GID = 0
$EGID = 0
Win32::GetOSName = WinXP/.Net
Win32::GetOSVersion = Service Pack 3, 5, 1, 2600, 2, 3, 0, 256, 1
Win32::FsType = NTFS
Win32::IsAdminUser = 1
Perl module toolchain versions installed:
Module Have
------------------- --------
CPAN 2.18
CPAN::Meta 2.150010
Cwd 3.67
ExtUtils::CBuilder 0.280230
ExtUtils::Command 7.30
ExtUtils::Install 2.14
ExtUtils::MakeMaker 7.30
ExtUtils::Manifest 1.70
ExtUtils::ParseXS 3.35
File::Spec 3.67
JSON 2.97001
JSON::PP 2.97001
Module::Build 0.4224
Module::Signature 0.81
Parse::CPAN::Meta 2.150010
Test::Harness 3.39
Test::More 1.302120
YAML 1.24
YAML::Syck 1.30
version 0.9918
--
Summary of my perl5 (revision 5 version 26 subversion 0) configuration:
Platform:
osname=MSWin32
osvers=4.0
archname=MSWin32-x86-multi-thread-64int
uname='Win32 strawberry-perl 5.26.0.1 #1 Sat Dec 30 15:55:34 2017 i386'
config_args='undef'
hint=recommended
useposix=true
d_sigaction=undef
useithreads=define
usemultiplicity=define
use64bitint=define
use64bitall=undef
uselongdouble=undef
usemymalloc=n
default_inc_excludes_dot=define
bincompat5005=undef
Compiler:
cc='gcc'
ccflags =' -s -O2 -DWIN32 -D__USE_MINGW_ANSI_STDIO -DPERL_TEXTMODE_SCRIPTS -DPERL_IMPLICIT_CONTEXT -DPERL_IMPLICIT_SYS -DUSE_PERLIO -fwrapv -fno-strict-aliasing -mms-bitfields'
optimize='-s -O2'
cppflags='-DWIN32'
ccversion=''
gccversion='7.1.0'
gccosandvers=''
intsize=4
longsize=4
ptrsize=4
doublesize=8
byteorder=12345678
doublekind=3
d_longlong=define
longlongsize=8
d_longdbl=define
longdblsize=12
longdblkind=3
ivtype='long long'
ivsize=8
nvtype='double'
nvsize=8
Off_t='long long'
lseeksize=8
alignbytes=8
prototype=define
Linker and Libraries:
ld='g++'
ldflags ='-s -L"C:\STRAWB~1\perl\lib\CORE" -L"C:\STRAWB~1\c\lib"'
libpth=C:\STRAWB~1\c\lib C:\STRAWB~1\c\i686-w64-mingw32\lib C:\STRAWB~1\c\lib\gcc\i686-w64-mingw32\7.1.0
libs= -lmoldname -lkernel32 -luser32 -lgdi32 -lwinspool -lcomdlg32 -ladvapi32 -lshell32 -lole32 -loleaut32 -lnetapi32 -luuid -lws2_32 -lmpr -lwinmm -lversion -lodbc32 -lodbccp32 -lcomctl32
perllibs= -lmoldname -lkernel32 -luser32 -lgdi32 -lwinspool -lcomdlg32 -ladvapi32 -lshell32 -lole32 -loleaut32 -lnetapi32 -luuid -lws2_32 -lmpr -lwinmm -lversion -lodbc32 -lodbccp32 -lcomctl32
libc=
so=dll
useshrplib=true
libperl=libperl526.a
gnulibc_version=''
Dynamic Linking:
dlsrc=dl_win32.xs
dlext=xs.dll
d_dlsymun=undef
ccdlflags=' '
cccdlflags=' '
lddlflags='-mdll -s -L"C:\STRAWB~1\perl\lib\CORE" -L"C:\STRAWB~1\c\lib"'
Characteristics of this binary (from libperl):
Compile-time options:
HAS_TIMES
HAVE_INTERP_INTERN
MULTIPLICITY
PERLIO_LAYERS
PERL_COPY_ON_WRITE
PERL_DONT_CREATE_GVSV
PERL_IMPLICIT_CONTEXT
PERL_IMPLICIT_SYS
PERL_MALLOC_WRAP
PERL_OP_PARENT
PERL_PRESERVE_IVUV
USE_64_BIT_INT
USE_ITHREADS
USE_LARGE_FILES
USE_LOCALE
USE_LOCALE_COLLATE
USE_LOCALE_CTYPE
USE_LOCALE_NUMERIC
USE_LOCALE_TIME
USE_PERLIO
USE_PERL_ATOF
Built under MSWin32
Compiled at Dec 30 2017 16:05:39
%ENV:
PERL5LIB="C:\STRAWB~1\cpan\build\Test-Cmd-1.09-0/blib/arch;C:\STRAWB~1\cpan\build\Test-Cmd-1.09-0/blib/lib;C:\STRAWB~1\cpan\build\MooseX-Types-PerlVersion-0.002-0/blib/arch;C:\STRAWB~1\cpan\build\MooseX-Types-PerlVersion-0.002-0/blib/lib;C:\STRAWB~1\cpan\build\Hash-MD5-0.08-0/blib/arch;C:\STRAWB~1\cpan\build\Hash-MD5-0.08-0/blib/lib"
PERL5_CPANPLUS_IS_RUNNING="1596"
PERL5_CPAN_IS_RUNNING="1596"
PERL5_CPAN_IS_RUNNING_IN_RECURSION="408,1596"
PERL_CR_SMOKER_CURRENT="DBIx-Schema-Changelog-0.9.0"
PERL_CR_SMOKER_RUNONCE="1"
PERL_EXTUTILS_AUTOINSTALL="--defaultdeps"
PERL_MM_USE_DEFAULT="1"
PERL_USE_UNSAFE_INC="1"
@INC:
C:\STRAWB~1\cpan\build\Test-Cmd-1.09-0/blib/arch
C:\STRAWB~1\cpan\build\Test-Cmd-1.09-0/blib/lib
C:\STRAWB~1\cpan\build\MooseX-Types-PerlVersion-0.002-0/blib/arch
C:\STRAWB~1\cpan\build\MooseX-Types-PerlVersion-0.002-0/blib/lib
C:\STRAWB~1\cpan\build\Hash-MD5-0.08-0/blib/arch
C:\STRAWB~1\cpan\build\Hash-MD5-0.08-0/blib/lib
C:/Strawberry260/perl/site/lib
C:/Strawberry260/perl/vendor/lib
C:/Strawberry260/perl/lib
.