Dist-Zilla-Plugin-Test-TrailingSpace v0.4.0 Perl 5 v5.26.3 x86_64-linux-ld

Status
Pass
From
Slaven Rezić
Dist
Dist-Zilla-Plugin-Test-TrailingSpace v0.4.0
Platform
Perl 5 v5.26.3 x86_64-linux-ld
Date
2024-08-23 18:01:06
ID
ab85015c-6179-11ef-aa62-f40f6e8775ea
This distribution has been tested as part of the CPAN Testers
project, supporting the Perl programming language.  See
http://wiki.cpantesters.org/ for more information or email
questions to cpan-testers-discuss@perl.org


--
Dear Shlomi Fish,

This is a computer-generated report for Dist-Zilla-Plugin-Test-TrailingSpace-0.4.0
on perl 5.26.3, created by CPAN-Reporter-1.2019.

Thank you for uploading your work to CPAN.  Congratulations!
All tests were successful.

Sections of this report:

    * Tester comments
    * Program output
    * Prerequisites
    * Environment and other context

------------------------------
TESTER COMMENTS
------------------------------

Additional comments from tester:

none provided

------------------------------
PROGRAM OUTPUT
------------------------------

Output from './Build test':

t/00-compile.t ............ ok
t/author-pod-coverage.t ... skipped: these tests are for testing by the author
t/author-pod-syntax.t ..... skipped: these tests are for testing by the author
t/release-cpan-changes.t .. skipped: these tests are for release candidate testing
All tests successful.
Files=4, Tests=1,  0 wallclock secs ( 0.01 usr  0.00 sys +  0.23 cusr  0.01 csys =  0.25 CPU)
Result: PASS

------------------------------
PREREQUISITES
------------------------------

Prerequisite modules loaded:

requires:

    Module                           Need  Have    
    -------------------------------- ----- --------
    Dist::Zilla::Plugin::InlineFiles 0     6.032   
    Dist::Zilla::Role::PrereqSource  0     6.032   
    Dist::Zilla::Role::TextTemplate  0     6.032   
    Moose                            0     2.2207  
    namespace::autoclean             0     0.29    
    perl                             5.012 5.026003

build_requires:

    Module                           Need  Have    
    -------------------------------- ----- --------
    File::Spec                       0     3.75    
    File::Temp                       0     0.2311  
    IO::Handle                       0     1.36    
    IPC::Open3                       0     1.20    
    Module::Build                    0.28  0.4234  
    strict                           0     1.11    
    Test::More                       0     1.302199
    warnings                         0     1.37    

configure_requires:

    Module                           Need  Have    
    -------------------------------- ----- --------
    Module::Build                    0.28  0.4234  


------------------------------
ENVIRONMENT AND OTHER CONTEXT
------------------------------

Environment variables:

    LANG = en_US.UTF-8
    PATH = /usr/local/bin:/usr/bin:/bin:/usr/local/sbin:/usr/sbin:/sbin:/home/cpansand/bin/linux-gnu:/home/cpansand/bin/sh:/home/cpansand/bin:/usr/games:/home/cpansand/devel:/home/eserte/src/srezic-misc/scripts
    PERL5LIB = 
    PERL5OPT = 
    PERL5_CPANPLUS_IS_RUNNING = 2469870
    PERL5_CPAN_IS_RUNNING = 2469870
    PERL5_CPAN_IS_RUNNING_IN_RECURSION = 2464478,2469870
    PERLDOC = -MPod::Perldoc::ToTextOverstrike
    PERL_BATCH = yes
    PERL_CANARY_STABILITY_NOPROMPT = 1
    PERL_CPAN_REPORTER_CONFIG = /var/tmp/cpansmoker-1023/2024082317/cpanreporter_000_config.ini
    PERL_EXTUTILS_AUTOINSTALL = --defaultdeps
    PERL_USE_UNSAFE_INC = 1
    SHELL = /usr/bin/zsh
    TERM = screen
    TMPDIR = /var/tmp/cpansmoker-1023/2024082317

Perl special variables (and OS-specific diagnostics, for MSWin32):

    $^X = /opt/perl-5.26.3D/bin/perl
    $UID/$EUID = 1023 / 1023
    $GID = 1023 1023
    $EGID = 1023 1023

Perl module toolchain versions installed:

    Module              Have    
    ------------------- --------
    CPAN                2.18    
    CPAN::Meta          2.150010
    Cwd                 3.75    
    ExtUtils::CBuilder  0.280236
    ExtUtils::Command   7.70    
    ExtUtils::Install   2.06    
    ExtUtils::MakeMaker 7.70    
    ExtUtils::Manifest  1.70    
    ExtUtils::ParseXS   3.34    
    File::Spec          3.75    
    JSON                4.10    
    JSON::PP            4.16    
    Module::Build       0.4234  
    Module::Signature   n/a     
    Parse::CPAN::Meta   2.150010
    Test2               1.302199
    Test::Harness       3.38    
    Test::More          1.302199
    YAML                1.31    
    YAML::Syck          1.34    
    version             0.9917  


--

Summary of my perl5 (revision 5 version 26 subversion 3) configuration:
   
  Platform:
    osname=linux
    osvers=5.10.0-30-amd64
    archname=x86_64-linux-ld
    uname='linux cloud7.bbbike.org 5.10.0-30-amd64 #1 smp debian 5.10.218-1 (2024-06-01) x86_64 gnulinux '
    config_args='-ds -e -Dprefix=/opt/perl-5.26.3D -Duselongdouble -Dcf_email=srezic@cpan.org'
    hint=recommended
    useposix=true
    d_sigaction=define
    useithreads=undef
    usemultiplicity=undef
    use64bitint=define
    use64bitall=define
    uselongdouble=define
    usemymalloc=n
    default_inc_excludes_dot=define
    bincompat5005=undef
  Compiler:
    cc='cc'
    ccflags ='-fwrapv -fno-strict-aliasing -pipe -fstack-protector-strong -I/usr/local/include -D_LARGEFILE_SOURCE -D_FILE_OFFSET_BITS=64 -D_FORTIFY_SOURCE=2'
    optimize='-O2'
    cppflags='-fwrapv -fno-strict-aliasing -pipe -fstack-protector-strong -I/usr/local/include'
    ccversion=''
    gccversion='10.2.1 20210110'
    gccosandvers=''
    intsize=4
    longsize=8
    ptrsize=8
    doublesize=8
    byteorder=12345678
    doublekind=3
    d_longlong=define
    longlongsize=8
    d_longdbl=define
    longdblsize=16
    longdblkind=3
    ivtype='long'
    ivsize=8
    nvtype='long double'
    nvsize=16
    Off_t='off_t'
    lseeksize=8
    alignbytes=16
    prototype=define
  Linker and Libraries:
    ld='cc'
    ldflags =' -fstack-protector-strong -L/usr/local/lib'
    libpth=/usr/local/lib /usr/include/x86_64-linux-gnu /usr/lib /lib/x86_64-linux-gnu /lib/../lib /usr/lib/x86_64-linux-gnu /usr/lib/../lib /lib /lib64 /usr/lib64
    libs=-lpthread -lnsl -lgdbm -ldb -ldl -lm -lcrypt -lutil -lc
    perllibs=-lpthread -lnsl -ldl -lm -lcrypt -lutil -lc
    libc=libc-2.31.so
    so=so
    useshrplib=false
    libperl=libperl.a
    gnulibc_version='2.31'
  Dynamic Linking:
    dlsrc=dl_dlopen.xs
    dlext=so
    d_dlsymun=undef
    ccdlflags='-Wl,-E'
    cccdlflags='-fPIC'
    lddlflags='-shared -O2 -L/usr/local/lib -fstack-protector-strong'


Characteristics of this binary (from libperl): 
  Compile-time options:
    HAS_TIMES
    PERLIO_LAYERS
    PERL_COPY_ON_WRITE
    PERL_DONT_CREATE_GVSV
    PERL_MALLOC_WRAP
    PERL_OP_PARENT
    PERL_PRESERVE_IVUV
    USE_64_BIT_ALL
    USE_64_BIT_INT
    USE_LARGE_FILES
    USE_LOCALE
    USE_LOCALE_COLLATE
    USE_LOCALE_CTYPE
    USE_LOCALE_NUMERIC
    USE_LOCALE_TIME
    USE_LONG_DOUBLE
    USE_PERLIO
    USE_PERL_ATOF
  Locally applied patches:
    Devel::PatchPerl 2.08
  Built under linux
  Compiled at Jul 19 2024 20:40:55
  %ENV:
    PERL5LIB=""
    PERL5OPT=""
    PERL5_CPANPLUS_IS_RUNNING="2469870"
    PERL5_CPAN_IS_RUNNING="2469870"
    PERL5_CPAN_IS_RUNNING_IN_RECURSION="2464478,2469870"
    PERLDOC="-MPod::Perldoc::ToTextOverstrike"
    PERL_BATCH="yes"
    PERL_CANARY_STABILITY_NOPROMPT="1"
    PERL_CPAN_REPORTER_CONFIG="/var/tmp/cpansmoker-1023/2024082317/cpanreporter_000_config.ini"
    PERL_EXTUTILS_AUTOINSTALL="--defaultdeps"
    PERL_USE_UNSAFE_INC="1"
  @INC:
    /opt/perl-5.26.3D/lib/site_perl/5.26.3/x86_64-linux-ld
    /opt/perl-5.26.3D/lib/site_perl/5.26.3
    /opt/perl-5.26.3D/lib/5.26.3/x86_64-linux-ld
    /opt/perl-5.26.3D/lib/5.26.3
    .