Report for Array-Columnize-1.04

Back
From: metabase:user:30f4dfbe-2aae-11df-837a-5e0a49663a4f
Subject: PASS Array-Columnize-1.04 v5.8.8 FreeBSD
Date: 2017-07-15T15:02:50Z

This distribution has been tested as part of the CPAN Testers
project, supporting the Perl programming language.  See
http://wiki.cpantesters.org/ for more information or email
questions to cpan-testers-discuss@perl.org


--
Dear Rocky Bernstein,

This is a computer-generated report for Array-Columnize-1.04
on perl 5.8.8, created by CPAN-Reporter-1.2018.

Thank you for uploading your work to CPAN.  Congratulations!
All tests were successful.

Sections of this report:

    * Tester comments
    * Program output
    * Prerequisites
    * Environment and other context

------------------------------
TESTER COMMENTS
------------------------------

Additional comments from tester:

this report is from an automated smoke testing program
and was not reviewed by a human for accuracy

------------------------------
PROGRAM OUTPUT
------------------------------

Output from './Build test':

t/00.test-pod.t ... ok
t/02.options.t .... ok
t/03.cell_size.t .. ok
t/01.version.t .... ok
t/04.columnize.t .. ok
t/05.longcol.t .... ok
All tests successful.
Files=6, Tests=40,  6 wallclock secs ( 0.45 usr  0.23 sys +  8.11 cusr  7.70 csys = 16.50 CPU)
Result: PASS

------------------------------
PREREQUISITES
------------------------------

Prerequisite modules loaded:

requires:

    Module        Need     Have    
    ------------- -------- --------
    version       0        0.9917  

build_requires:

    Module        Need     Have    
    ------------- -------- --------
    Test::More    0.81     1.302059

configure_requires:

    Module        Need     Have    
    ------------- -------- --------
    Module::Build 0        0.4220  
    perl          5.006001 5.008008
    rlib          0.02     0.02    


------------------------------
ENVIRONMENT AND OTHER CONTEXT
------------------------------

Environment variables:

    AUTOMATED_TESTING = 1
    HARNESS_OPTIONS = j4
    PATH = /home/njh/perl5/perlbrew/bin:/home/njh/perl5/perlbrew/perls/perl-5.8.8/bin:/home/njh/perl5/perlbrew/bin:/sbin:/bin:/usr/sbin:/usr/bin:/usr/local/sbin:/usr/local/bin
    PERL5LIB = /home/njh/.cpan/build/rlib-0.02-0/blib/arch:/home/njh/.cpan/build/rlib-0.02-0/blib/lib
    PERL5OPT = 
    PERL5_CPANPLUS_IS_RUNNING = 75748
    PERL5_CPAN_IS_RUNNING = 75748
    PERLBREW_BASHRC_VERSION = 0.78
    PERLBREW_HOME = /home/njh/.perlbrew
    PERLBREW_LIB = 
    PERLBREW_MANPATH = /home/njh/perl5/perlbrew/perls/perl-5.8.8/man
    PERLBREW_PATH = /home/njh/perl5/perlbrew/bin:/home/njh/perl5/perlbrew/perls/perl-5.8.8/bin
    PERLBREW_PERL = perl-5.8.8
    PERLBREW_ROOT = /home/njh/perl5/perlbrew
    PERLBREW_VERSION = 0.78
    PERL_LOCAL_LIB_ROOT = 
    SHELL = /bin/sh
    TMPDIR = /home/njh/tmp

Perl special variables (and OS-specific diagnostics, for MSWin32):

    $^X = /home/njh/perl5/perlbrew/perls/perl-5.8.8/bin/perl5.8.8
    $UID/$EUID = 1000 / 1000
    $GID = 1000 0 1000
    $EGID = 1000 0 1000

Perl module toolchain versions installed:

    Module              Have    
    ------------------- --------
    CPAN                2.16    
    CPAN::Meta          2.143240
    Cwd                 3.62    
    ExtUtils::CBuilder  0.280224
    ExtUtils::Command   7.24    
    ExtUtils::Install   1.54    
    ExtUtils::MakeMaker 7.24    
    ExtUtils::Manifest  1.70    
    ExtUtils::ParseXS   3.30    
    File::Spec          3.62    
    JSON                2.90    
    JSON::PP            2.27203 
    Module::Build       0.4220  
    Module::Signature   n/a     
    Parse::CPAN::Meta   1.4414  
    Test::Harness       3.36    
    Test::More          1.302059
    YAML                1.23    
    YAML::Syck          1.30    
    version             0.9917  


--

Summary of my perl5 (revision 5 version 8 subversion 8) configuration:
  Platform:
    osname=freebsd, osvers=11.0-rc1, archname=arm-freebsd-thread-multi
    uname='freebsd pi2b 11.0-rc1 freebsd 11.0-rc1 #0 r303979: fri aug 12 17:12:13 utc 2016 root@releng2.nyi.freebsd.org:usrobjarm.armv6usrsrcsysrpi2 arm '
    config_args='-de -Dprefix=/home/njh/perl5/perlbrew/perls/perl-5.8.8 -Duseithreads -Dusemultiplicity -Dusedevel -Accflags= -Aeval:scriptdir=/home/njh/perl5/perlbrew/perls/perl-5.8.8/bin'
    hint=recommended, useposix=true, d_sigaction=define
    usethreads=define use5005threads=undef useithreads=define usemultiplicity=define
    useperlio=define d_sfio=undef uselargefiles=define usesocks=undef
    use64bitint=undef use64bitall=undef uselongdouble=undef
    usemymalloc=n, bincompat5005=undef
  Compiler:
    cc='cc', ccflags ='-DHAS_FPSETMASK -DHAS_FLOATINGPOINT_H -fno-strict-aliasing -pipe -Wdeclaration-after-statement -I/usr/local/include',
    optimize='-O',
    cppflags='-DHAS_FPSETMASK -DHAS_FLOATINGPOINT_H -fno-strict-aliasing -pipe -Wdeclaration-after-statement -I/usr/local/include'
    ccversion='', gccversion='4.2.1 Compatible FreeBSD Clang 3.8.0 (tags/RELEASE_380/final 262564)', gccosandvers=''
    intsize=4, longsize=4, ptrsize=4, doublesize=8, byteorder=1234
    d_longlong=define, longlongsize=8, d_longdbl=define, longdblsize=8
    ivtype='long', ivsize=4, nvtype='double', nvsize=8, Off_t='off_t', lseeksize=8
    alignbytes=8, prototype=define
  Linker and Libraries:
    ld='cc', ldflags ='-pthread -Wl,-E  -L/usr/local/lib'
    libpth=/usr/lib /usr/local/lib
    libs=-lm -lcrypt -lutil
    perllibs=-lm -lcrypt -lutil
    libc=, so=so, useshrplib=false, libperl=libperl.a
    gnulibc_version=''
  Dynamic Linking:
    dlsrc=dl_dlopen.xs, dlext=so, d_dlsymun=undef, ccdlflags=' '
    cccdlflags='-DPIC -fPIC', lddlflags='-shared  -L/usr/local/lib'


Characteristics of this binary (from libperl): 
  Compile-time options: MULTIPLICITY PERL_IMPLICIT_CONTEXT
                        PERL_MALLOC_WRAP USE_ITHREADS USE_LARGE_FILES
                        USE_PERLIO USE_REENTRANT_API
  Locally applied patches:
	Devel::PatchPerl 1.38
  Built under freebsd
  Compiled at Aug 29 2016 04:24:13
  %ENV:
    PERL5LIB="/home/njh/.cpan/build/rlib-0.02-0/blib/arch:/home/njh/.cpan/build/rlib-0.02-0/blib/lib"
    PERL5OPT=""
    PERL5_CPANPLUS_IS_RUNNING="75748"
    PERL5_CPAN_IS_RUNNING="75748"
    PERLBREW_BASHRC_VERSION="0.78"
    PERLBREW_HOME="/home/njh/.perlbrew"
    PERLBREW_LIB=""
    PERLBREW_MANPATH="/home/njh/perl5/perlbrew/perls/perl-5.8.8/man"
    PERLBREW_PATH="/home/njh/perl5/perlbrew/bin:/home/njh/perl5/perlbrew/perls/perl-5.8.8/bin"
    PERLBREW_PERL="perl-5.8.8"
    PERLBREW_ROOT="/home/njh/perl5/perlbrew"
    PERLBREW_VERSION="0.78"
    PERL_LOCAL_LIB_ROOT=""
  @INC:
    /home/njh/.cpan/build/rlib-0.02-0/blib/arch
    /home/njh/.cpan/build/rlib-0.02-0/blib/lib
    /home/njh/perl5/perlbrew/perls/perl-5.8.8/lib/5.8.8/arm-freebsd-thread-multi
    /home/njh/perl5/perlbrew/perls/perl-5.8.8/lib/5.8.8
    /home/njh/perl5/perlbrew/perls/perl-5.8.8/lib/site_perl/5.8.8/arm-freebsd-thread-multi
    /home/njh/perl5/perlbrew/perls/perl-5.8.8/lib/site_perl/5.8.8
    /home/njh/perl5/perlbrew/perls/perl-5.8.8/lib/site_perl
    .