WebService-RESTCountries v0.3 Perl 5 v5.31.3 x86_64-linux-thread-multi-ld
- Status
- Pass
- From
- Andreas J. König (ANDK)
- Dist
-
WebService-RESTCountries v0.3
- Platform
- Perl 5 v5.31.3 x86_64-linux-thread-multi-ld
- Date
- 2019-08-23 04:51:29
- ID
- ab99e90a-c561-11e9-9d2c-bac9aefbdd4f
This distribution has been tested as part of the CPAN Testers
project, supporting the Perl programming language. See
http://wiki.cpantesters.org/ for more information or email
questions to cpan-testers-discuss@perl.org
--
Dear Kian Meng, Ang,
This is a computer-generated report for WebService-RESTCountries-0.3
on perl 5.31.3, created by CPAN-Reporter-1.2018.
Thank you for uploading your work to CPAN. Congratulations!
All tests were successful.
Sections of this report:
* Tester comments
* Program output
* Prerequisites
* Environment and other context
------------------------------
TESTER COMMENTS
------------------------------
Additional comments from tester:
this report is from an automated smoke testing program
and was not reviewed by a human for accuracy
------------------------------
PROGRAM OUTPUT
------------------------------
Output from './Build test':
t/00-compile.t ...................... ok
# Testing with Perl 5.031003, /tmp/basesmoker-reloperl-GWPD/bin/perl
# CHI version is 0.60
# Data::Serializer version is 0.60
# Digest::MD5 version is 2.55
# JSON version is 4.02
# Module::Build::Tiny version is 0.039
# Moo version is 2.003004
# REST::Client version is 273
# Role::REST::Client version is 0.23
# Sereal version is 4.007
# Test::DistManifest version is 1.014
# Test::HasVersion version is 0.014
# Test::More version is 1.302166
# Test::Warn version is 0.36
# Types::Standard version is 1.004004
# namespace::clean version is 0.27
# strictures version is 2.000006
t/000-report-versions.t ............. ok
t/00_compile.t ...................... ok
t/01_instantiation.t ................ ok
t/02_request.t ...................... ok
t/03_search_all.t ................... ok
t/04_search_by_country_name.t ....... ok
t/05_search_by_country_full_name.t .. ok
t/06_search_by_country_code.t ....... ok
t/07_search_by_country_codes.t ...... ok
t/08_search_by_currency.t ........... ok
t/09_search_by_language_code.t ...... ok
t/10_search_by_capital_city.t ....... ok
t/11_search_by_calling_code.t ....... ok
t/12_search_by_region.t ............. ok
t/13_search_by_region_bloc.t ........ ok
t/14_ping.t ......................... ok
t/15_download.t ..................... ok
t/author-eol.t ...................... skipped: these tests are for testing by the author
t/author-minimum-version.t .......... skipped: these tests are for testing by the author
t/author-pod-coverage.t ............. skipped: these tests are for testing by the author
t/author-pod-syntax.t ............... skipped: these tests are for testing by the author
t/release-dist-manifest.t ........... skipped: these tests are for release candidate testing
t/release-distmeta.t ................ skipped: these tests are for release candidate testing
t/release-has-version.t ............. skipped: these tests are for release candidate testing
t/release-kwalitee.t ................ skipped: these tests are for release candidate testing
t/release-unused-vars.t ............. skipped: these tests are for release candidate testing
All tests successful.
Files=27, Tests=93, 8 wallclock secs ( 0.08 usr 0.19 sys + 4.48 cusr 1.10 csys = 5.85 CPU)
Result: PASS
------------------------------
PREREQUISITES
------------------------------
Prerequisite modules loaded:
requires:
Module Need Have
------------------- -------- --------
CHI 0 0.60
Data::Serializer 0 0.60
Digest::MD5 0 2.55
JSON 0 4.02
Moo 0 2.003004
namespace::clean 0 0.27
REST::Client 0 273
Role::REST::Client 0 0.23
Sereal 0 4.007
strictures 2 2.000006
Types::Standard 0 1.004004
build_requires:
Module Need Have
------------------- -------- --------
Test::DistManifest 0 1.014
Test::HasVersion 0 0.014
Test::Kwalitee 0 1.28
Test::More 0 1.302166
Test::Warn 0 0.36
configure_requires:
Module Need Have
------------------- -------- --------
Module::Build::Tiny 0.034 0.039
perl 5.008005 5.031003
------------------------------
ENVIRONMENT AND OTHER CONTEXT
------------------------------
Environment variables:
AUTOMATED_TESTING = 1
LANG = en_US.UTF-8
PATH = /home/sand/bin:/usr/local/bin:/usr/local/sbin:/usr/sbin:/usr/bin:/sbin:/bin:/usr/games:/usr/local/games:/usr/local/perl/bin:/usr/X11/bin
PERL = /tmp/basesmoker-reloperl-GWPD/bin/perl
PERL5LIB = /tmp/loop_over_bdir-3749-SI4vBF/EJBCA-CrlPublish-0.60-0/blib/arch:/tmp/loop_over_bdir-3749-SI4vBF/EJBCA-CrlPublish-0.60-0/blib/lib:/tmp/loop_over_bdir-3749-SI4vBF/Sysync-0.35-0/blib/arch:/tmp/loop_over_bdir-3749-SI4vBF/Sysync-0.35-0/blib/lib:/tmp/loop_over_bdir-3749-SI4vBF/Dpkg-1.19.7-0/blib/arch:/tmp/loop_over_bdir-3749-SI4vBF/Dpkg-1.19.7-0/blib/lib
PERL5OPT =
PERL5_CPANPLUS_IS_RUNNING = 3757
PERL5_CPAN_IS_RUNNING = 3757
PERL_CANARY_STABILITY_NOPROMPT = 1
PERL_MM_USE_DEFAULT = 1
PERL_USE_UNSAFE_INC = 1
SHELL = /usr/bin/zsh
TERM = screen
Perl special variables (and OS-specific diagnostics, for MSWin32):
$^X = /tmp/basesmoker-reloperl-GWPD/bin/perl
$UID/$EUID = 1005 / 1005
$GID = 1005 1005
$EGID = 1005 1005
Perl module toolchain versions installed:
Module Have
------------------- --------
CPAN 2.27
CPAN::Meta 2.150010
Cwd 3.78
ExtUtils::CBuilder 0.280232
ExtUtils::Command 7.36
ExtUtils::Install 2.14
ExtUtils::MakeMaker 7.36
ExtUtils::Manifest 1.72
ExtUtils::ParseXS 3.40
File::Spec 3.78
JSON 4.02
JSON::PP 4.04
Module::Build 0.4229
Module::Signature 0.83
Parse::CPAN::Meta 2.150010
Test::Harness 3.42
Test::More 1.302166
YAML 1.29
YAML::Syck 1.31
version 0.9924
--
Summary of my perl5 (revision 5 version 31 subversion 3) configuration:
Commit id: 1f6c9461cb3775550f70cd0c579d874dc80c5038
Platform:
osname=linux
osvers=4.15.0-55-generic
archname=x86_64-linux-thread-multi-ld
uname='linux k93bionic 4.15.0-55-generic #60-ubuntu smp tue jul 2 18:22:20 utc 2019 x86_64 x86_64 x86_64 gnulinux '
config_args='-Dprefix=/home/sand/src/perl/repoperls/installed-perls/host/k93bionic/v5.31.3/ebf1 -Dmyhostname=k93bionic -Dinstallusrbinperl=n -Uversiononly -Dusedevel -des -Ui_db -Dlibswanted=cl pthread socket inet nsl gdbm dbm malloc dl ld sun m crypt sec util c cposix posix ucb BSD gdbm_compat -Duseithreads -Duselongdouble -DEBUGGING=-g'
hint=recommended
useposix=true
d_sigaction=define
useithreads=define
usemultiplicity=define
use64bitint=define
use64bitall=define
uselongdouble=define
usemymalloc=n
default_inc_excludes_dot=define
bincompat5005=undef
Compiler:
cc='cc'
ccflags ='-D_REENTRANT -D_GNU_SOURCE -fwrapv -fno-strict-aliasing -pipe -fstack-protector-strong -I/usr/local/include -D_LARGEFILE_SOURCE -D_FILE_OFFSET_BITS=64'
optimize='-O2 -g'
cppflags='-D_REENTRANT -D_GNU_SOURCE -fwrapv -fno-strict-aliasing -pipe -fstack-protector-strong -I/usr/local/include'
ccversion=''
gccversion='7.4.0'
gccosandvers=''
intsize=4
longsize=8
ptrsize=8
doublesize=8
byteorder=12345678
doublekind=3
d_longlong=define
longlongsize=8
d_longdbl=define
longdblsize=16
longdblkind=3
ivtype='long'
ivsize=8
nvtype='long double'
nvsize=16
Off_t='off_t'
lseeksize=8
alignbytes=16
prototype=define
Linker and Libraries:
ld='cc'
ldflags =' -fstack-protector-strong -L/usr/local/lib'
libpth=/usr/local/lib /usr/lib/gcc/x86_64-linux-gnu/7/include-fixed /usr/include/x86_64-linux-gnu /usr/lib /lib/x86_64-linux-gnu /lib/../lib /usr/lib/x86_64-linux-gnu /usr/lib/../lib /lib
libs=-lpthread -lnsl -ldl -lm -lcrypt -lutil -lc
perllibs=-lpthread -lnsl -ldl -lm -lcrypt -lutil -lc
libc=libc-2.27.so
so=so
useshrplib=false
libperl=libperl.a
gnulibc_version='2.27'
Dynamic Linking:
dlsrc=dl_dlopen.xs
dlext=so
d_dlsymun=undef
ccdlflags='-Wl,-E'
cccdlflags='-fPIC'
lddlflags='-shared -O2 -g -L/usr/local/lib -fstack-protector-strong'
Characteristics of this binary (from libperl):
Compile-time options:
HAS_TIMES
MULTIPLICITY
PERLIO_LAYERS
PERL_COPY_ON_WRITE
PERL_DONT_CREATE_GVSV
PERL_IMPLICIT_CONTEXT
PERL_MALLOC_WRAP
PERL_OP_PARENT
PERL_PRESERVE_IVUV
PERL_USE_DEVEL
USE_64_BIT_ALL
USE_64_BIT_INT
USE_ITHREADS
USE_LARGE_FILES
USE_LOCALE
USE_LOCALE_COLLATE
USE_LOCALE_CTYPE
USE_LOCALE_NUMERIC
USE_LOCALE_TIME
USE_LONG_DOUBLE
USE_PERLIO
USE_PERL_ATOF
USE_REENTRANT_API
USE_THREAD_SAFE_LOCALE
Built under linux
Compiled at Aug 20 2019 17:22:17
%ENV:
PERL="/tmp/basesmoker-reloperl-GWPD/bin/perl"
PERL5LIB="/tmp/loop_over_bdir-3749-SI4vBF/EJBCA-CrlPublish-0.60-0/blib/arch:/tmp/loop_over_bdir-3749-SI4vBF/EJBCA-CrlPublish-0.60-0/blib/lib:/tmp/loop_over_bdir-3749-SI4vBF/Sysync-0.35-0/blib/arch:/tmp/loop_over_bdir-3749-SI4vBF/Sysync-0.35-0/blib/lib:/tmp/loop_over_bdir-3749-SI4vBF/Dpkg-1.19.7-0/blib/arch:/tmp/loop_over_bdir-3749-SI4vBF/Dpkg-1.19.7-0/blib/lib"
PERL5OPT=""
PERL5_CPANPLUS_IS_RUNNING="3757"
PERL5_CPAN_IS_RUNNING="3757"
PERL_CANARY_STABILITY_NOPROMPT="1"
PERL_MM_USE_DEFAULT="1"
PERL_USE_UNSAFE_INC="1"
@INC:
/tmp/loop_over_bdir-3749-SI4vBF/EJBCA-CrlPublish-0.60-0/blib/arch
/tmp/loop_over_bdir-3749-SI4vBF/EJBCA-CrlPublish-0.60-0/blib/lib
/tmp/loop_over_bdir-3749-SI4vBF/Sysync-0.35-0/blib/arch
/tmp/loop_over_bdir-3749-SI4vBF/Sysync-0.35-0/blib/lib
/tmp/loop_over_bdir-3749-SI4vBF/Dpkg-1.19.7-0/blib/arch
/tmp/loop_over_bdir-3749-SI4vBF/Dpkg-1.19.7-0/blib/lib
/home/sand/src/perl/repoperls/installed-perls/host/k93bionic/v5.31.3/ebf1/lib/site_perl/5.31.3/x86_64-linux-thread-multi-ld
/home/sand/src/perl/repoperls/installed-perls/host/k93bionic/v5.31.3/ebf1/lib/site_perl/5.31.3
/home/sand/src/perl/repoperls/installed-perls/host/k93bionic/v5.31.3/ebf1/lib/5.31.3/x86_64-linux-thread-multi-ld
/home/sand/src/perl/repoperls/installed-perls/host/k93bionic/v5.31.3/ebf1/lib/5.31.3
.