CPP-panda-lib v1.3.3 Perl 5 v5.28.1 x86_64-linux-thread-multi

Status
Pass
From
Andreas J. König (ANDK)
Dist
CPP-panda-lib v1.3.3
Platform
Perl 5 v5.28.1 x86_64-linux-thread-multi
Date
2020-01-15 14:45:27
ID
abb3dbba-37a5-11ea-9ad0-57b51abb472f
This distribution has been tested as part of the CPAN Testers
project, supporting the Perl programming language.  See
http://wiki.cpantesters.org/ for more information or email
questions to cpan-testers-discuss@perl.org


--
Dear Oleg Pronin,

This is a computer-generated report for CPP-panda-lib-1.3.3
on perl 5.28.1, created by CPAN-Reporter-1.2018.

Thank you for uploading your work to CPAN.  Congratulations!
All tests were successful.

Sections of this report:

    * Tester comments
    * Program output
    * Prerequisites
    * Environment and other context

------------------------------
TESTER COMMENTS
------------------------------

Additional comments from tester:

this report is from an automated smoke testing program
and was not reviewed by a human for accuracy

------------------------------
PROGRAM OUTPUT
------------------------------

Output from '/usr/bin/make test':

"/home/sand/src/perl/repoperls/installed-perls/host/k93msid/v5.28.1/1e0c/bin/perl" -MExtUtils::Command::MM -e 'cp_nonempty' -- lib.bs blib/arch/auto/CPP/panda/lib/lib.bs 644
c++ -c  -Isrc -I/home/sand/src/perl/repoperls/installed-perls/host/k93msid/v5.28.1/1e0c/lib/site_perl/5.28.1/XS/Install.x/i -I/home/sand/src/perl/repoperls/installed-perls/host/k93msid/v5.28.1/1e0c/lib/site_perl/5.28.1/CPP/catch.x/i -D_REENTRANT -D_GNU_SOURCE -fwrapv -fno-strict-aliasing -pipe -fstack-protector-strong -I/usr/local/include -D_LARGEFILE_SOURCE -D_FILE_OFFSET_BITS=64 -Wall -Wextra -std=c++14 -o t/bench.o -g -O0   -DVERSION=\"0.0.0\" -DXS_VERSION=\"0.0.0\" -fPIC "-I/home/sand/src/perl/repoperls/installed-perls/host/k93msid/v5.28.1/1e0c/lib/5.28.1/x86_64-linux-thread-multi/CORE"   t/bench.cc
c++ -c  -Isrc -I/home/sand/src/perl/repoperls/installed-perls/host/k93msid/v5.28.1/1e0c/lib/site_perl/5.28.1/XS/Install.x/i -I/home/sand/src/perl/repoperls/installed-perls/host/k93msid/v5.28.1/1e0c/lib/site_perl/5.28.1/CPP/catch.x/i -D_REENTRANT -D_GNU_SOURCE -fwrapv -fno-strict-aliasing -pipe -fstack-protector-strong -I/usr/local/include -D_LARGEFILE_SOURCE -D_FILE_OFFSET_BITS=64 -Wall -Wextra -std=c++14 -o t/dispatcher.o -g -O0   -DVERSION=\"0.0.0\" -DXS_VERSION=\"0.0.0\" -fPIC "-I/home/sand/src/perl/repoperls/installed-perls/host/k93msid/v5.28.1/1e0c/lib/5.28.1/x86_64-linux-thread-multi/CORE"   t/dispatcher.cc
c++ -c  -Isrc -I/home/sand/src/perl/repoperls/installed-perls/host/k93msid/v5.28.1/1e0c/lib/site_perl/5.28.1/XS/Install.x/i -I/home/sand/src/perl/repoperls/installed-perls/host/k93msid/v5.28.1/1e0c/lib/site_perl/5.28.1/CPP/catch.x/i -D_REENTRANT -D_GNU_SOURCE -fwrapv -fno-strict-aliasing -pipe -fstack-protector-strong -I/usr/local/include -D_LARGEFILE_SOURCE -D_FILE_OFFSET_BITS=64 -Wall -Wextra -std=c++14 -o t/endian.o -g -O0   -DVERSION=\"0.0.0\" -DXS_VERSION=\"0.0.0\" -fPIC "-I/home/sand/src/perl/repoperls/installed-perls/host/k93msid/v5.28.1/1e0c/lib/5.28.1/x86_64-linux-thread-multi/CORE"   t/endian.cc
c++ -c  -Isrc -I/home/sand/src/perl/repoperls/installed-perls/host/k93msid/v5.28.1/1e0c/lib/site_perl/5.28.1/XS/Install.x/i -I/home/sand/src/perl/repoperls/installed-perls/host/k93msid/v5.28.1/1e0c/lib/site_perl/5.28.1/CPP/catch.x/i -D_REENTRANT -D_GNU_SOURCE -fwrapv -fno-strict-aliasing -pipe -fstack-protector-strong -I/usr/local/include -D_LARGEFILE_SOURCE -D_FILE_OFFSET_BITS=64 -Wall -Wextra -std=c++14 -o t/error.o -g -O0   -DVERSION=\"0.0.0\" -DXS_VERSION=\"0.0.0\" -fPIC "-I/home/sand/src/perl/repoperls/installed-perls/host/k93msid/v5.28.1/1e0c/lib/5.28.1/x86_64-linux-thread-multi/CORE"   t/error.cc
c++ -c  -Isrc -I/home/sand/src/perl/repoperls/installed-perls/host/k93msid/v5.28.1/1e0c/lib/site_perl/5.28.1/XS/Install.x/i -I/home/sand/src/perl/repoperls/installed-perls/host/k93msid/v5.28.1/1e0c/lib/site_perl/5.28.1/CPP/catch.x/i -D_REENTRANT -D_GNU_SOURCE -fwrapv -fno-strict-aliasing -pipe -fstack-protector-strong -I/usr/local/include -D_LARGEFILE_SOURCE -D_FILE_OFFSET_BITS=64 -Wall -Wextra -std=c++14 -o t/excepted.o -g -O0   -DVERSION=\"0.0.0\" -DXS_VERSION=\"0.0.0\" -fPIC "-I/home/sand/src/perl/repoperls/installed-perls/host/k93msid/v5.28.1/1e0c/lib/5.28.1/x86_64-linux-thread-multi/CORE"   t/excepted.cc
c++ -c  -Isrc -I/home/sand/src/perl/repoperls/installed-perls/host/k93msid/v5.28.1/1e0c/lib/site_perl/5.28.1/XS/Install.x/i -I/home/sand/src/perl/repoperls/installed-perls/host/k93msid/v5.28.1/1e0c/lib/site_perl/5.28.1/CPP/catch.x/i -D_REENTRANT -D_GNU_SOURCE -fwrapv -fno-strict-aliasing -pipe -fstack-protector-strong -I/usr/local/include -D_LARGEFILE_SOURCE -D_FILE_OFFSET_BITS=64 -Wall -Wextra -std=c++14 -o t/exception.o -g -O0   -DVERSION=\"0.0.0\" -DXS_VERSION=\"0.0.0\" -fPIC "-I/home/sand/src/perl/repoperls/installed-perls/host/k93msid/v5.28.1/1e0c/lib/5.28.1/x86_64-linux-thread-multi/CORE"   t/exception.cc
c++ -c  -Isrc -I/home/sand/src/perl/repoperls/installed-perls/host/k93msid/v5.28.1/1e0c/lib/site_perl/5.28.1/XS/Install.x/i -I/home/sand/src/perl/repoperls/installed-perls/host/k93msid/v5.28.1/1e0c/lib/site_perl/5.28.1/CPP/catch.x/i -D_REENTRANT -D_GNU_SOURCE -fwrapv -fno-strict-aliasing -pipe -fstack-protector-strong -I/usr/local/include -D_LARGEFILE_SOURCE -D_FILE_OFFSET_BITS=64 -Wall -Wextra -std=c++14 -o t/from_chars.o -g -O0   -DVERSION=\"0.0.0\" -DXS_VERSION=\"0.0.0\" -fPIC "-I/home/sand/src/perl/repoperls/installed-perls/host/k93msid/v5.28.1/1e0c/lib/5.28.1/x86_64-linux-thread-multi/CORE"   t/from_chars.cc
c++ -c  -Isrc -I/home/sand/src/perl/repoperls/installed-perls/host/k93msid/v5.28.1/1e0c/lib/site_perl/5.28.1/XS/Install.x/i -I/home/sand/src/perl/repoperls/installed-perls/host/k93msid/v5.28.1/1e0c/lib/site_perl/5.28.1/CPP/catch.x/i -D_REENTRANT -D_GNU_SOURCE -fwrapv -fno-strict-aliasing -pipe -fstack-protector-strong -I/usr/local/include -D_LARGEFILE_SOURCE -D_FILE_OFFSET_BITS=64 -Wall -Wextra -std=c++14 -o t/function.o -g -O0   -DVERSION=\"0.0.0\" -DXS_VERSION=\"0.0.0\" -fPIC "-I/home/sand/src/perl/repoperls/installed-perls/host/k93msid/v5.28.1/1e0c/lib/5.28.1/x86_64-linux-thread-multi/CORE"   t/function.cc
c++ -c  -Isrc -I/home/sand/src/perl/repoperls/installed-perls/host/k93msid/v5.28.1/1e0c/lib/site_perl/5.28.1/XS/Install.x/i -I/home/sand/src/perl/repoperls/installed-perls/host/k93msid/v5.28.1/1e0c/lib/site_perl/5.28.1/CPP/catch.x/i -D_REENTRANT -D_GNU_SOURCE -fwrapv -fno-strict-aliasing -pipe -fstack-protector-strong -I/usr/local/include -D_LARGEFILE_SOURCE -D_FILE_OFFSET_BITS=64 -Wall -Wextra -std=c++14 -o t/intrusive_chain.o -g -O0   -DVERSION=\"0.0.0\" -DXS_VERSION=\"0.0.0\" -fPIC "-I/home/sand/src/perl/repoperls/installed-perls/host/k93msid/v5.28.1/1e0c/lib/5.28.1/x86_64-linux-thread-multi/CORE"   t/intrusive_chain.cc
t/intrusive_chain.cc: In instantiation of ‘static void Test<T>::check_content(Test<T>::CIt, Test<T>::CIt, const T&, Args&& ...) [with Args = {}; T = MyPtr*; Test<T>::CIt = panda::IntrusiveChainIterator<MyPtr*>]’:
t/intrusive_chain.cc:49:22:   required from ‘static void Test<T>::check_content(const IC&, Args&& ...) [with Args = {MyPtr*&}; T = MyPtr*; Test<T>::IC = panda::IntrusiveChain<MyPtr*>]’
t/intrusive_chain.cc:71:26:   required from ‘static void Test<T>::test(panda::function<T()>) [with T = MyPtr*]’
t/intrusive_chain.cc:265:19:   required from here
t/intrusive_chain.cc:43:22: warning: implicitly-declared ‘constexpr panda::IntrusiveChainIterator<MyPtr*>::IntrusiveChainIterator(const panda::IntrusiveChainIterator<MyPtr*>&)’ is deprecated [-Wdeprecated-copy]
   43 |         check_content(begin, end, rest...);
      |         ~~~~~~~~~~~~~^~~~~~~~~~~~~~~~~~~~~
In file included from t/intrusive_chain.cc:4:
src/panda/intrusive_chain.h:76:29: note: because ‘panda::IntrusiveChainIterator<MyPtr*>’ has user-provided ‘panda::IntrusiveChainIterator<T>& panda::IntrusiveChainIterator<T>::operator=(const panda::IntrusiveChainIterator<T>&) [with T = MyPtr*]’
   76 |     IntrusiveChainIterator& operator= (const IntrusiveChainIterator& oth) {
      |                             ^~~~~~~~
t/intrusive_chain.cc:34:36: note:   initializing argument 1 of ‘static void Test<T>::check_content(Test<T>::CIt, Test<T>::CIt) [with T = MyPtr*; Test<T>::CIt = panda::IntrusiveChainIterator<MyPtr*>]’
   34 |     static void check_content (CIt begin, CIt end) {
      |                                ~~~~^~~~~
t/intrusive_chain.cc:43:22: warning: implicitly-declared ‘constexpr panda::IntrusiveChainIterator<MyPtr*>::IntrusiveChainIterator(const panda::IntrusiveChainIterator<MyPtr*>&)’ is deprecated [-Wdeprecated-copy]
   43 |         check_content(begin, end, rest...);
      |         ~~~~~~~~~~~~~^~~~~~~~~~~~~~~~~~~~~
In file included from t/intrusive_chain.cc:4:
src/panda/intrusive_chain.h:76:29: note: because ‘panda::IntrusiveChainIterator<MyPtr*>’ has user-provided ‘panda::IntrusiveChainIterator<T>& panda::IntrusiveChainIterator<T>::operator=(const panda::IntrusiveChainIterator<T>&) [with T = MyPtr*]’
   76 |     IntrusiveChainIterator& operator= (const IntrusiveChainIterator& oth) {
      |                             ^~~~~~~~
t/intrusive_chain.cc:34:47: note:   initializing argument 2 of ‘static void Test<T>::check_content(Test<T>::CIt, Test<T>::CIt) [with T = MyPtr*; Test<T>::CIt = panda::IntrusiveChainIterator<MyPtr*>]’
   34 |     static void check_content (CIt begin, CIt end) {
      |                                           ~~~~^~~
t/intrusive_chain.cc: In instantiation of ‘static void Test<T>::check_content(Test<T>::CIt, Test<T>::CIt, const T&, Args&& ...) [with Args = {MyPtr*&}; T = MyPtr*; Test<T>::CIt = panda::IntrusiveChainIterator<MyPtr*>]’:
t/intrusive_chain.cc:49:22:   required from ‘static void Test<T>::check_content(const IC&, Args&& ...) [with Args = {MyPtr*&, MyPtr*&}; T = MyPtr*; Test<T>::IC = panda::IntrusiveChain<MyPtr*>]’
t/intrusive_chain.cc:73:26:   required from ‘static void Test<T>::test(panda::function<T()>) [with T = MyPtr*]’
t/intrusive_chain.cc:265:19:   required from here
t/intrusive_chain.cc:43:22: warning: implicitly-declared ‘constexpr panda::IntrusiveChainIterator<MyPtr*>::IntrusiveChainIterator(const panda::IntrusiveChainIterator<MyPtr*>&)’ is deprecated [-Wdeprecated-copy]
   43 |         check_content(begin, end, rest...);
      |         ~~~~~~~~~~~~~^~~~~~~~~~~~~~~~~~~~~
In file included from t/intrusive_chain.cc:4:
src/panda/intrusive_chain.h:76:29: note: because ‘panda::IntrusiveChainIterator<MyPtr*>’ has user-provided ‘panda::IntrusiveChainIterator<T>& panda::IntrusiveChainIterator<T>::operator=(const panda::IntrusiveChainIterator<T>&) [with T = MyPtr*]’
   76 |     IntrusiveChainIterator& operator= (const IntrusiveChainIterator& oth) {
      |                             ^~~~~~~~
t/intrusive_chain.cc:39:36: note:   initializing argument 1 of ‘static void Test<T>::check_content(Test<T>::CIt, Test<T>::CIt, const T&, Args&& ...) [with Args = {}; T = MyPtr*; Test<T>::CIt = panda::IntrusiveChainIterator<MyPtr*>]’
   39 |     static void check_content (CIt begin, CIt end, const T& v, Args&&... rest) {
      |                                ~~~~^~~~~
t/intrusive_chain.cc:43:22: warning: implicitly-declared ‘constexpr panda::IntrusiveChainIterator<MyPtr*>::IntrusiveChainIterator(const panda::IntrusiveChainIterator<MyPtr*>&)’ is deprecated [-Wdeprecated-copy]
   43 |         check_content(begin, end, rest...);
      |         ~~~~~~~~~~~~~^~~~~~~~~~~~~~~~~~~~~
In file included from t/intrusive_chain.cc:4:
src/panda/intrusive_chain.h:76:29: note: because ‘panda::IntrusiveChainIterator<MyPtr*>’ has user-provided ‘panda::IntrusiveChainIterator<T>& panda::IntrusiveChainIterator<T>::operator=(const panda::IntrusiveChainIterator<T>&) [with T = MyPtr*]’
   76 |     IntrusiveChainIterator& operator= (const IntrusiveChainIterator& oth) {
      |                             ^~~~~~~~
t/intrusive_chain.cc:39:47: note:   initializing argument 2 of ‘static void Test<T>::check_content(Test<T>::CIt, Test<T>::CIt, const T&, Args&& ...) [with Args = {}; T = MyPtr*; Test<T>::CIt = panda::IntrusiveChainIterator<MyPtr*>]’
   39 |     static void check_content (CIt begin, CIt end, const T& v, Args&&... rest) {
      |                                           ~~~~^~~
t/intrusive_chain.cc: In instantiation of ‘static void Test<T>::check_content(Test<T>::CIt, Test<T>::CIt, const T&, Args&& ...) [with Args = {MyPtr*&, MyPtr*&}; T = MyPtr*; Test<T>::CIt = panda::IntrusiveChainIterator<MyPtr*>]’:
t/intrusive_chain.cc:49:22:   required from ‘static void Test<T>::check_content(const IC&, Args&& ...) [with Args = {MyPtr*&, MyPtr*&, MyPtr*&}; T = MyPtr*; Test<T>::IC = panda::IntrusiveChain<MyPtr*>]’
t/intrusive_chain.cc:86:26:   required from ‘static void Test<T>::test(panda::function<T()>) [with T = MyPtr*]’
t/intrusive_chain.cc:265:19:   required from here
t/intrusive_chain.cc:43:22: warning: implicitly-declared ‘constexpr panda::IntrusiveChainIterator<MyPtr*>::IntrusiveChainIterator(const panda::IntrusiveChainIterator<MyPtr*>&)’ is deprecated [-Wdeprecated-copy]
   43 |         check_content(begin, end, rest...);
      |         ~~~~~~~~~~~~~^~~~~~~~~~~~~~~~~~~~~
In file included from t/intrusive_chain.cc:4:
src/panda/intrusive_chain.h:76:29: note: because ‘panda::IntrusiveChainIterator<MyPtr*>’ has user-provided ‘panda::IntrusiveChainIterator<T>& panda::IntrusiveChainIterator<T>::operator=(const panda::IntrusiveChainIterator<T>&) [with T = MyPtr*]’
   76 |     IntrusiveChainIterator& operator= (const IntrusiveChainIterator& oth) {
      |                             ^~~~~~~~
t/intrusive_chain.cc:39:36: note:   initializing argument 1 of ‘static void Test<T>::check_content(Test<T>::CIt, Test<T>::CIt, const T&, Args&& ...) [with Args = {MyPtr*&}; T = MyPtr*; Test<T>::CIt = panda::IntrusiveChainIterator<MyPtr*>]’
   39 |     static void check_content (CIt begin, CIt end, const T& v, Args&&... rest) {
      |                                ~~~~^~~~~
t/intrusive_chain.cc:43:22: warning: implicitly-declared ‘constexpr panda::IntrusiveChainIterator<MyPtr*>::IntrusiveChainIterator(const panda::IntrusiveChainIterator<MyPtr*>&)’ is deprecated [-Wdeprecated-copy]
   43 |         check_content(begin, end, rest...);
      |         ~~~~~~~~~~~~~^~~~~~~~~~~~~~~~~~~~~
In file included from t/intrusive_chain.cc:4:
src/panda/intrusive_chain.h:76:29: note: because ‘panda::IntrusiveChainIterator<MyPtr*>’ has user-provided ‘panda::IntrusiveChainIterator<T>& panda::IntrusiveChainIterator<T>::operator=(const panda::IntrusiveChainIterator<T>&) [with T = MyPtr*]’
   76 |     IntrusiveChainIterator& operator= (const IntrusiveChainIterator& oth) {
      |                             ^~~~~~~~
t/intrusive_chain.cc:39:47: note:   initializing argument 2 of ‘static void Test<T>::check_content(Test<T>::CIt, Test<T>::CIt, const T&, Args&& ...) [with Args = {MyPtr*&}; T = MyPtr*; Test<T>::CIt = panda::IntrusiveChainIterator<MyPtr*>]’
   39 |     static void check_content (CIt begin, CIt end, const T& v, Args&&... rest) {
      |                                           ~~~~^~~
t/intrusive_chain.cc: In instantiation of ‘static void Test<T>::check_content(Test<T>::CIt, Test<T>::CIt, const T&, Args&& ...) [with Args = {MyPtr*&, MyPtr*&, MyPtr*&}; T = MyPtr*; Test<T>::CIt = panda::IntrusiveChainIterator<MyPtr*>]’:
t/intrusive_chain.cc:49:22:   required from ‘static void Test<T>::check_content(const IC&, Args&& ...) [with Args = {MyPtr*&, MyPtr*&, MyPtr*&, MyPtr*&}; T = MyPtr*; Test<T>::IC = panda::IntrusiveChain<MyPtr*>]’
t/intrusive_chain.cc:131:26:   required from ‘static void Test<T>::test(panda::function<T()>) [with T = MyPtr*]’
t/intrusive_chain.cc:265:19:   required from here
t/intrusive_chain.cc:43:22: warning: implicitly-declared ‘constexpr panda::IntrusiveChainIterator<MyPtr*>::IntrusiveChainIterator(const panda::IntrusiveChainIterator<MyPtr*>&)’ is deprecated [-Wdeprecated-copy]
   43 |         check_content(begin, end, rest...);
      |         ~~~~~~~~~~~~~^~~~~~~~~~~~~~~~~~~~~
In file included from t/intrusive_chain.cc:4:
src/panda/intrusive_chain.h:76:29: note: because ‘panda::IntrusiveChainIterator<MyPtr*>’ has user-provided ‘panda::IntrusiveChainIterator<T>& panda::IntrusiveChainIterator<T>::operator=(const panda::IntrusiveChainIterator<T>&) [with T = MyPtr*]’
   76 |     IntrusiveChainIterator& operator= (const IntrusiveChainIterator& oth) {
      |                             ^~~~~~~~
t/intrusive_chain.cc:39:36: note:   initializing argument 1 of ‘static void Test<T>::check_content(Test<T>::CIt, Test<T>::CIt, const T&, Args&& ...) [with Args = {MyPtr*&, MyPtr*&}; T = MyPtr*; Test<T>::CIt = panda::IntrusiveChainIterator<MyPtr*>]’
   39 |     static void check_content (CIt begin, CIt end, const T& v, Args&&... rest) {
      |                                ~~~~^~~~~
t/intrusive_chain.cc:43:22: warning: implicitly-declared ‘constexpr panda::IntrusiveChainIterator<MyPtr*>::IntrusiveChainIterator(const panda::IntrusiveChainIterator<MyPtr*>&)’ is deprecated [-Wdeprecated-copy]
   43 |         check_content(begin, end, rest...);
      |         ~~~~~~~~~~~~~^~~~~~~~~~~~~~~~~~~~~
In file included from t/intrusive_chain.cc:4:
src/panda/intrusive_chain.h:76:29: note: because ‘panda::IntrusiveChainIterator<MyPtr*>’ has user-provided ‘panda::IntrusiveChainIterator<T>& panda::IntrusiveChainIterator<T>::operator=(const panda::IntrusiveChainIterator<T>&) [with T = MyPtr*]’
   76 |     IntrusiveChainIterator& operator= (const IntrusiveChainIterator& oth) {
      |                             ^~~~~~~~
t/intrusive_chain.cc:39:47: note:   initializing argument 2 of ‘static void Test<T>::check_content(Test<T>::CIt, Test<T>::CIt, const T&, Args&& ...) [with Args = {MyPtr*&, MyPtr*&}; T = MyPtr*; Test<T>::CIt = panda::IntrusiveChainIterator<MyPtr*>]’
   39 |     static void check_content (CIt begin, CIt end, const T& v, Args&&... rest) {
      |                                           ~~~~^~~
t/intrusive_chain.cc: In instantiation of ‘static void Test<T>::check_content(Test<T>::CIt, Test<T>::CIt, const T&, Args&& ...) [with Args = {MyPtr*&, MyPtr*&, MyPtr*&, MyPtr*&}; T = MyPtr*; Test<T>::CIt = panda::IntrusiveChainIterator<MyPtr*>]’:
t/intrusive_chain.cc:49:22:   required from ‘static void Test<T>::check_content(const IC&, Args&& ...) [with Args = {MyPtr*&, MyPtr*&, MyPtr*&, MyPtr*&, MyPtr*&}; T = MyPtr*; Test<T>::IC = panda::IntrusiveChain<MyPtr*>]’
t/intrusive_chain.cc:135:26:   required from ‘static void Test<T>::test(panda::function<T()>) [with T = MyPtr*]’
t/intrusive_chain.cc:265:19:   required from here
t/intrusive_chain.cc:43:22: warning: implicitly-declared ‘constexpr panda::IntrusiveChainIterator<MyPtr*>::IntrusiveChainIterator(const panda::IntrusiveChainIterator<MyPtr*>&)’ is deprecated [-Wdeprecated-copy]
   43 |         check_content(begin, end, rest...);
      |         ~~~~~~~~~~~~~^~~~~~~~~~~~~~~~~~~~~
In file included from t/intrusive_chain.cc:4:
src/panda/intrusive_chain.h:76:29: note: because ‘panda::IntrusiveChainIterator<MyPtr*>’ has user-provided ‘panda::IntrusiveChainIterator<T>& panda::IntrusiveChainIterator<T>::operator=(const panda::IntrusiveChainIterator<T>&) [with T = MyPtr*]’
   76 |     IntrusiveChainIterator& operator= (const IntrusiveChainIterator& oth) {
      |                             ^~~~~~~~
t/intrusive_chain.cc:39:36: note:   initializing argument 1 of ‘static void Test<T>::check_content(Test<T>::CIt, Test<T>::CIt, const T&, Args&& ...) [with Args = {MyPtr*&, MyPtr*&, MyPtr*&}; T = MyPtr*; Test<T>::CIt = panda::IntrusiveChainIterator<MyPtr*>]’
   39 |     static void check_content (CIt begin, CIt end, const T& v, Args&&... rest) {
      |                                ~~~~^~~~~
t/intrusive_chain.cc:43:22: warning: implicitly-declared ‘constexpr panda::IntrusiveChainIterator<MyPtr*>::IntrusiveChainIterator(const panda::IntrusiveChainIterator<MyPtr*>&)’ is deprecated [-Wdeprecated-copy]
   43 |         check_content(begin, end, rest...);
      |         ~~~~~~~~~~~~~^~~~~~~~~~~~~~~~~~~~~
In file included from t/intrusive_chain.cc:4:
src/panda/intrusive_chain.h:76:29: note: because ‘panda::IntrusiveChainIterator<MyPtr*>’ has user-provided ‘panda::IntrusiveChainIterator<T>& panda::IntrusiveChainIterator<T>::operator=(const panda::IntrusiveChainIterator<T>&) [with T = MyPtr*]’
   76 |     IntrusiveChainIterator& operator= (const IntrusiveChainIterator& oth) {
      |                             ^~~~~~~~
t/intrusive_chain.cc:39:47: note:   initializing argument 2 of ‘static void Test<T>::check_content(Test<T>::CIt, Test<T>::CIt, const T&, Args&& ...) [with Args = {MyPtr*&, MyPtr*&, MyPtr*&}; T = MyPtr*; Test<T>::CIt = panda::IntrusiveChainIterator<MyPtr*>]’
   39 |     static void check_content (CIt begin, CIt end, const T& v, Args&&... rest) {
      |                                           ~~~~^~~
t/intrusive_chain.cc: In instantiation of ‘static void Test<T>::check_content(Test<T>::CIt, Test<T>::CIt, const T&, Args&& ...) [with Args = {MyPtr*&, MyPtr*&, MyPtr*&, MyPtr*&, MyPtr*&}; T = MyPtr*; Test<T>::CIt = panda::IntrusiveChainIterator<MyPtr*>]’:
t/intrusive_chain.cc:49:22:   required from ‘static void Test<T>::check_content(const IC&, Args&& ...) [with Args = {MyPtr*&, MyPtr*&, MyPtr*&, MyPtr*&, MyPtr*&, MyPtr*&}; T = MyPtr*; Test<T>::IC = panda::IntrusiveChain<MyPtr*>]’
t/intrusive_chain.cc:138:26:   required from ‘static void Test<T>::test(panda::function<T()>) [with T = MyPtr*]’
t/intrusive_chain.cc:265:19:   required from here
t/intrusive_chain.cc:43:22: warning: implicitly-declared ‘constexpr panda::IntrusiveChainIterator<MyPtr*>::IntrusiveChainIterator(const panda::IntrusiveChainIterator<MyPtr*>&)’ is deprecated [-Wdeprecated-copy]
   43 |         check_content(begin, end, rest...);
      |         ~~~~~~~~~~~~~^~~~~~~~~~~~~~~~~~~~~
In file included from t/intrusive_chain.cc:4:
src/panda/intrusive_chain.h:76:29: note: because ‘panda::IntrusiveChainIterator<MyPtr*>’ has user-provided ‘panda::IntrusiveChainIterator<T>& panda::IntrusiveChainIterator<T>::operator=(const panda::IntrusiveChainIterator<T>&) [with T = MyPtr*]’
   76 |     IntrusiveChainIterator& operator= (const IntrusiveChainIterator& oth) {
      |                             ^~~~~~~~
t/intrusive_chain.cc:39:36: note:   initializing argument 1 of ‘static void Test<T>::check_content(Test<T>::CIt, Test<T>::CIt, const T&, Args&& ...) [with Args = {MyPtr*&, MyPtr*&, MyPtr*&, MyPtr*&}; T = MyPtr*; Test<T>::CIt = panda::IntrusiveChainIterator<MyPtr*>]’
   39 |     static void check_content (CIt begin, CIt end, const T& v, Args&&... rest) {
      |                                ~~~~^~~~~
t/intrusive_chain.cc:43:22: warning: implicitly-declared ‘constexpr panda::IntrusiveChainIterator<MyPtr*>::IntrusiveChainIterator(const panda::IntrusiveChainIterator<MyPtr*>&)’ is deprecated [-Wdeprecated-copy]
   43 |         check_content(begin, end, rest...);
      |         ~~~~~~~~~~~~~^~~~~~~~~~~~~~~~~~~~~
In file included from t/intrusive_chain.cc:4:
src/panda/intrusive_chain.h:76:29: note: because ‘panda::IntrusiveChainIterator<MyPtr*>’ has user-provided ‘panda::IntrusiveChainIterator<T>& panda::IntrusiveChainIterator<T>::operator=(const panda::IntrusiveChainIterator<T>&) [with T = MyPtr*]’
   76 |     IntrusiveChainIterator& operator= (const IntrusiveChainIterator& oth) {
      |                             ^~~~~~~~
t/intrusive_chain.cc:39:47: note:   initializing argument 2 of ‘static void Test<T>::check_content(Test<T>::CIt, Test<T>::CIt, const T&, Args&& ...) [with Args = {MyPtr*&, MyPtr*&, MyPtr*&, MyPtr*&}; T = MyPtr*; Test<T>::CIt = panda::IntrusiveChainIterator<MyPtr*>]’
   39 |     static void check_content (CIt begin, CIt end, const T& v, Args&&... rest) {
      |                                           ~~~~^~~
t/intrusive_chain.cc: In instantiation of ‘static void Test<T>::check_content(Test<T>::CIt, Test<T>::CIt, const T&, Args&& ...) [with Args = {MyPtr*&, MyPtr*&, MyPtr*&, MyPtr*&, MyPtr*&, MyPtr*&}; T = MyPtr*; Test<T>::CIt = panda::IntrusiveChainIterator<MyPtr*>]’:
t/intrusive_chain.cc:49:22:   required from ‘static void Test<T>::check_content(const IC&, Args&& ...) [with Args = {MyPtr*&, MyPtr*&, MyPtr*&, MyPtr*&, MyPtr*&, MyPtr*&, MyPtr*&}; T = MyPtr*; Test<T>::IC = panda::IntrusiveChain<MyPtr*>]’
t/intrusive_chain.cc:141:26:   required from ‘static void Test<T>::test(panda::function<T()>) [with T = MyPtr*]’
t/intrusive_chain.cc:265:19:   required from here
t/intrusive_chain.cc:43:22: warning: implicitly-declared ‘constexpr panda::IntrusiveChainIterator<MyPtr*>::IntrusiveChainIterator(const panda::IntrusiveChainIterator<MyPtr*>&)’ is deprecated [-Wdeprecated-copy]
   43 |         check_content(begin, end, rest...);
      |         ~~~~~~~~~~~~~^~~~~~~~~~~~~~~~~~~~~
In file included from t/intrusive_chain.cc:4:
src/panda/intrusive_chain.h:76:29: note: because ‘panda::IntrusiveChainIterator<MyPtr*>’ has user-provided ‘panda::IntrusiveChainIterator<T>& panda::IntrusiveChainIterator<T>::operator=(const panda::IntrusiveChainIterator<T>&) [with T = MyPtr*]’
   76 |     IntrusiveChainIterator& operator= (const IntrusiveChainIterator& oth) {
      |                             ^~~~~~~~
t/intrusive_chain.cc:39:36: note:   initializing argument 1 of ‘static void Test<T>::check_content(Test<T>::CIt, Test<T>::CIt, const T&, Args&& ...) [with Args = {MyPtr*&, MyPtr*&, MyPtr*&, MyPtr*&, MyPtr*&}; T = MyPtr*; Test<T>::CIt = panda::IntrusiveChainIterator<MyPtr*>]’
   39 |     static void check_content (CIt begin, CIt end, const T& v, Args&&... rest) {
      |                                ~~~~^~~~~
t/intrusive_chain.cc:43:22: warning: implicitly-declared ‘constexpr panda::IntrusiveChainIterator<MyPtr*>::IntrusiveChainIterator(const panda::IntrusiveChainIterator<MyPtr*>&)’ is deprecated [-Wdeprecated-copy]
   43 |         check_content(begin, end, rest...);
      |         ~~~~~~~~~~~~~^~~~~~~~~~~~~~~~~~~~~
In file included from t/intrusive_chain.cc:4:
src/panda/intrusive_chain.h:76:29: note: because ‘panda::IntrusiveChainIterator<MyPtr*>’ has user-provided ‘panda::IntrusiveChainIterator<T>& panda::IntrusiveChainIterator<T>::operator=(const panda::IntrusiveChainIterator<T>&) [with T = MyPtr*]’
   76 |     IntrusiveChainIterator& operator= (const IntrusiveChainIterator& oth) {
      |                             ^~~~~~~~
t/intrusive_chain.cc:39:47: note:   initializing argument 2 of ‘static void Test<T>::check_content(Test<T>::CIt, Test<T>::CIt, const T&, Args&& ...) [with Args = {MyPtr*&, MyPtr*&, MyPtr*&, MyPtr*&, MyPtr*&}; T = MyPtr*; Test<T>::CIt = panda::IntrusiveChainIterator<MyPtr*>]’
   39 |     static void check_content (CIt begin, CIt end, const T& v, Args&&... rest) {
      |                                           ~~~~^~~
t/intrusive_chain.cc: In instantiation of ‘static void Test<T>::check_content(Test<T>::CIt, Test<T>::CIt, const T&, Args&& ...) [with Args = {}; T = panda::iptr<MyIPtr>; Test<T>::CIt = panda::IntrusiveChainIterator<panda::iptr<MyIPtr> >]’:
t/intrusive_chain.cc:49:22:   required from ‘static void Test<T>::check_content(const IC&, Args&& ...) [with Args = {panda::iptr<MyIPtr>&}; T = panda::iptr<MyIPtr>; Test<T>::IC = panda::IntrusiveChain<panda::iptr<MyIPtr> >]’
t/intrusive_chain.cc:71:26:   required from ‘static void Test<T>::test(panda::function<T()>) [with T = panda::iptr<MyIPtr>]’
t/intrusive_chain.cc:276:25:   required from here
t/intrusive_chain.cc:43:22: warning: implicitly-declared ‘panda::IntrusiveChainIterator<panda::iptr<MyIPtr> >::IntrusiveChainIterator(const panda::IntrusiveChainIterator<panda::iptr<MyIPtr> >&)’ is deprecated [-Wdeprecated-copy]
   43 |         check_content(begin, end, rest...);
      |         ~~~~~~~~~~~~~^~~~~~~~~~~~~~~~~~~~~
In file included from t/intrusive_chain.cc:4:
src/panda/intrusive_chain.h:76:29: note: because ‘panda::IntrusiveChainIterator<panda::iptr<MyIPtr> >’ has user-provided ‘panda::IntrusiveChainIterator<T>& panda::IntrusiveChainIterator<T>::operator=(const panda::IntrusiveChainIterator<T>&) [with T = panda::iptr<MyIPtr>]’
   76 |     IntrusiveChainIterator& operator= (const IntrusiveChainIterator& oth) {
      |                             ^~~~~~~~
t/intrusive_chain.cc:34:36: note:   initializing argument 1 of ‘static void Test<T>::check_content(Test<T>::CIt, Test<T>::CIt) [with T = panda::iptr<MyIPtr>; Test<T>::CIt = panda::IntrusiveChainIterator<panda::iptr<MyIPtr> >]’
   34 |     static void check_content (CIt begin, CIt end) {
      |                                ~~~~^~~~~
t/intrusive_chain.cc:43:22: warning: implicitly-declared ‘panda::IntrusiveChainIterator<panda::iptr<MyIPtr> >::IntrusiveChainIterator(const panda::IntrusiveChainIterator<panda::iptr<MyIPtr> >&)’ is deprecated [-Wdeprecated-copy]
   43 |         check_content(begin, end, rest...);
      |         ~~~~~~~~~~~~~^~~~~~~~~~~~~~~~~~~~~
In file included from t/intrusive_chain.cc:4:
src/panda/intrusive_chain.h:76:29: note: because ‘panda::IntrusiveChainIterator<panda::iptr<MyIPtr> >’ has user-provided ‘panda::IntrusiveChainIterator<T>& panda::IntrusiveChainIterator<T>::operator=(const panda::IntrusiveChainIterator<T>&) [with T = panda::iptr<MyIPtr>]’
   76 |     IntrusiveChainIterator& operator= (const IntrusiveChainIterator& oth) {
      |                             ^~~~~~~~
t/intrusive_chain.cc:34:47: note:   initializing argument 2 of ‘static void Test<T>::check_content(Test<T>::CIt, Test<T>::CIt) [with T = panda::iptr<MyIPtr>; Test<T>::CIt = panda::IntrusiveChainIterator<panda::iptr<MyIPtr> >]’
   34 |     static void check_content (CIt begin, CIt end) {
      |                                           ~~~~^~~
t/intrusive_chain.cc: In instantiation of ‘static void Test<T>::check_content(Test<T>::CIt, Test<T>::CIt, const T&, Args&& ...) [with Args = {panda::iptr<MyIPtr>&}; T = panda::iptr<MyIPtr>; Test<T>::CIt = panda::IntrusiveChainIterator<panda::iptr<MyIPtr> >]’:
t/intrusive_chain.cc:49:22:   required from ‘static void Test<T>::check_content(const IC&, Args&& ...) [with Args = {panda::iptr<MyIPtr>&, panda::iptr<MyIPtr>&}; T = panda::iptr<MyIPtr>; Test<T>::IC = panda::IntrusiveChain<panda::iptr<MyIPtr> >]’
t/intrusive_chain.cc:73:26:   required from ‘static void Test<T>::test(panda::function<T()>) [with T = panda::iptr<MyIPtr>]’
t/intrusive_chain.cc:276:25:   required from here
t/intrusive_chain.cc:43:22: warning: implicitly-declared ‘panda::IntrusiveChainIterator<panda::iptr<MyIPtr> >::IntrusiveChainIterator(const panda::IntrusiveChainIterator<panda::iptr<MyIPtr> >&)’ is deprecated [-Wdeprecated-copy]
   43 |         check_content(begin, end, rest...);
      |         ~~~~~~~~~~~~~^~~~~~~~~~~~~~~~~~~~~
In file included from t/intrusive_chain.cc:4:
src/panda/intrusive_chain.h:76:29: note: because ‘panda::IntrusiveChainIterator<panda::iptr<MyIPtr> >’ has user-provided ‘panda::IntrusiveChainIterator<T>& panda::IntrusiveChainIterator<T>::operator=(const panda::IntrusiveChainIterator<T>&) [with T = panda::iptr<MyIPtr>]’
   76 |     IntrusiveChainIterator& operator= (const IntrusiveChainIterator& oth) {
      |                             ^~~~~~~~
t/intrusive_chain.cc:39:36: note:   initializing argument 1 of ‘static void Test<T>::check_content(Test<T>::CIt, Test<T>::CIt, const T&, Args&& ...) [with Args = {}; T = panda::iptr<MyIPtr>; Test<T>::CIt = panda::IntrusiveChainIterator<panda::iptr<MyIPtr> >]’
   39 |     static void check_content (CIt begin, CIt end, const T& v, Args&&... rest) {
      |                                ~~~~^~~~~
t/intrusive_chain.cc:43:22: warning: implicitly-declared ‘panda::IntrusiveChainIterator<panda::iptr<MyIPtr> >::IntrusiveChainIterator(const panda::IntrusiveChainIterator<panda::iptr<MyIPtr> >&)’ is deprecated [-Wdeprecated-copy]
   43 |         check_content(begin, end, rest...);
      |         ~~~~~~~~~~~~~^~~~~~~~~~~~~~~~~~~~~
In file included from t/intrusive_chain.cc:4:
src/panda/intrusive_chain.h:76:29: note: because ‘panda::IntrusiveChainIterator<panda::iptr<MyIPtr> >’ has user-provided ‘panda::IntrusiveChainIterator<T>& panda::IntrusiveChainIterator<T>::operator=(const panda::IntrusiveChainIterator<T>&) [with T = panda::iptr<MyIPtr>]’
   76 |     IntrusiveChainIterator& operator= (const IntrusiveChainIterator& oth) {
      |                             ^~~~~~~~
t/intrusive_chain.cc:39:47: note:   initializing argument 2 of ‘static void Test<T>::check_content(Test<T>::CIt, Test<T>::CIt, const T&, Args&& ...) [with Args = {}; T = panda::iptr<MyIPtr>; Test<T>::CIt = panda::IntrusiveChainIterator<panda::iptr<MyIPtr> >]’
   39 |     static void check_content (CIt begin, CIt end, const T& v, Args&&... rest) {
      |                                           ~~~~^~~
t/intrusive_chain.cc: In instantiation of ‘static void Test<T>::check_content(Test<T>::CIt, Test<T>::CIt, const T&, Args&& ...) [with Args = {panda::iptr<MyIPtr>&, panda::iptr<MyIPtr>&}; T = panda::iptr<MyIPtr>; Test<T>::CIt = panda::IntrusiveChainIterator<panda::iptr<MyIPtr> >]’:
t/intrusive_chain.cc:49:22:   required from ‘static void Test<T>::check_content(const IC&, Args&& ...) [with Args = {panda::iptr<MyIPtr>&, panda::iptr<MyIPtr>&, panda::iptr<MyIPtr>&}; T = panda::iptr<MyIPtr>; Test<T>::IC = panda::IntrusiveChain<panda::iptr<MyIPtr> >]’
t/intrusive_chain.cc:86:26:   required from ‘static void Test<T>::test(panda::function<T()>) [with T = panda::iptr<MyIPtr>]’
t/intrusive_chain.cc:276:25:   required from here
t/intrusive_chain.cc:43:22: warning: implicitly-declared ‘panda::IntrusiveChainIterator<panda::iptr<MyIPtr> >::IntrusiveChainIterator(const panda::IntrusiveChainIterator<panda::iptr<MyIPtr> >&)’ is deprecated [-Wdeprecated-copy]
   43 |         check_content(begin, end, rest...);
      |         ~~~~~~~~~~~~~^~~~~~~~~~~~~~~~~~~~~
In file included from t/intrusive_chain.cc:4:
src/panda/intrusive_chain.h:76:29: note: because ‘panda::IntrusiveChainIterator<panda::iptr<MyIPtr> >’ has user-provided ‘panda::IntrusiveChainIterator<T>& panda::IntrusiveChainIterator<T>::operator=(const panda::IntrusiveChainIterator<T>&) [with T = panda::iptr<MyIPtr>]’
   76 |     IntrusiveChainIterator& operator= (const IntrusiveChainIterator& oth) {
      |                             ^~~~~~~~
t/intrusive_chain.cc:39:36: note:   initializing argument 1 of ‘static void Test<T>::check_content(Test<T>::CIt, Test<T>::CIt, const T&, Args&& ...) [with Args = {panda::iptr<MyIPtr>&}; T = panda::iptr<MyIPtr>; Test<T>::CIt = panda::IntrusiveChainIterator<panda::iptr<MyIPtr> >]’
   39 |     static void check_content (CIt begin, CIt end, const T& v, Args&&... rest) {
      |                                ~~~~^~~~~
t/intrusive_chain.cc:43:22: warning: implicitly-declared ‘panda::IntrusiveChainIterator<panda::iptr<MyIPtr> >::IntrusiveChainIterator(const panda::IntrusiveChainIterator<panda::iptr<MyIPtr> >&)’ is deprecated [-Wdeprecated-copy]
   43 |         check_content(begin, end, rest...);
      |         ~~~~~~~~~~~~~^~~~~~~~~~~~~~~~~~~~~
In file included from t/intrusive_chain.cc:4:
src/panda/intrusive_chain.h:76:29: note: because ‘panda::IntrusiveChainIterator<panda::iptr<MyIPtr> >’ has user-provided ‘panda::IntrusiveChainIterator<T>& panda::IntrusiveChainIterator<T>::operator=(const panda::IntrusiveChainIterator<T>&) [with T = panda::iptr<MyIPtr>]’
   76 |     IntrusiveChainIterator& operator= (const IntrusiveChainIterator& oth) {
      |                             ^~~~~~~~
t/intrusive_chain.cc:39:47: note:   initializing argument 2 of ‘static void Test<T>::check_content(Test<T>::CIt, Test<T>::CIt, const T&, Args&& ...) [with Args = {panda::iptr<MyIPtr>&}; T = panda::iptr<MyIPtr>; Test<T>::CIt = panda::IntrusiveChainIterator<panda::iptr<MyIPtr> >]’
   39 |     static void check_content (CIt begin, CIt end, const T& v, Args&&... rest) {
      |                                           ~~~~^~~
t/intrusive_chain.cc: In instantiation of ‘static void Test<T>::check_content(Test<T>::CIt, Test<T>::CIt, const T&, Args&& ...) [with Args = {panda::iptr<MyIPtr>&, panda::iptr<MyIPtr>&, panda::iptr<MyIPtr>&}; T = panda::iptr<MyIPtr>; Test<T>::CIt = panda::IntrusiveChainIterator<panda::iptr<MyIPtr> >]’:
t/intrusive_chain.cc:49:22:   required from ‘static void Test<T>::check_content(const IC&, Args&& ...) [with Args = {panda::iptr<MyIPtr>&, panda::iptr<MyIPtr>&, panda::iptr<MyIPtr>&, panda::iptr<MyIPtr>&}; T = panda::iptr<MyIPtr>; Test<T>::IC = panda::IntrusiveChain<panda::iptr<MyIPtr> >]’
t/intrusive_chain.cc:131:26:   required from ‘static void Test<T>::test(panda::function<T()>) [with T = panda::iptr<MyIPtr>]’
t/intrusive_chain.cc:276:25:   required from here
t/intrusive_chain.cc:43:22: warning: implicitly-declared ‘panda::IntrusiveChainIterator<panda::iptr<MyIPtr> >::IntrusiveChainIterator(const panda::IntrusiveChainIterator<panda::iptr<MyIPtr> >&)’ is deprecated [-Wdeprecated-copy]
   43 |         check_content(begin, end, rest...);
      |         ~~~~~~~~~~~~~^~~~~~~~~~~~~~~~~~~~~
In file included from t/intrusive_chain.cc:4:
src/panda/intrusive_chain.h:76:29: note: because ‘panda::IntrusiveChainIterator<panda::iptr<MyIPtr> >’ has user-provided ‘panda::IntrusiveChainIterator<T>& panda::IntrusiveChainIterator<T>::operator=(const panda::IntrusiveChainIterator<T>&) [with T = panda::iptr<MyIPtr>]’
   76 |     IntrusiveChainIterator& operator= (const IntrusiveChainIterator& oth) {
      |                             ^~~~~~~~
t/intrusive_chain.cc:39:36: note:   initializing argument 1 of ‘static void Test<T>::check_content(Test<T>::CIt, Test<T>::CIt, const T&, Args&& ...) [with Args = {panda::iptr<MyIPtr>&, panda::iptr<MyIPtr>&}; T = panda::iptr<MyIPtr>; Test<T>::CIt = panda::IntrusiveChainIterator<panda::iptr<MyIPtr> >]’
   39 |     static void check_content (CIt begin, CIt end, const T& v, Args&&... rest) {
      |                                ~~~~^~~~~
t/intrusive_chain.cc:43:22: warning: implicitly-declared ‘panda::IntrusiveChainIterator<panda::iptr<MyIPtr> >::IntrusiveChainIterator(const panda::IntrusiveChainIterator<panda::iptr<MyIPtr> >&)’ is deprecated [-Wdeprecated-copy]
   43 |         check_content(begin, end, rest...);
      |         ~~~~~~~~~~~~~^~~~~~~~~~~~~~~~~~~~~
In file included from t/intrusive_chain.cc:4:
src/panda/intrusive_chain.h:76:29: note: because ‘panda::IntrusiveChainIterator<panda::iptr<MyIPtr> >’ has user-provided ‘panda::IntrusiveChainIterator<T>& panda::IntrusiveChainIterator<T>::operator=(const panda::IntrusiveChainIterator<T>&) [with T = panda::iptr<MyIPtr>]’
   76 |     IntrusiveChainIterator& operator= (const IntrusiveChainIterator& oth) {
      |                             ^~~~~~~~
t/intrusive_chain.cc:39:47: note:   initializing argument 2 of ‘static void Test<T>::check_content(Test<T>::CIt, Test<T>::CIt, const T&, Args&& ...) [with Args = {panda::iptr<MyIPtr>&, panda::iptr<MyIPtr>&}; T = panda::iptr<MyIPtr>; Test<T>::CIt = panda::IntrusiveChainIterator<panda::iptr<MyIPtr> >]’
   39 |     static void check_content (CIt begin, CIt end, const T& v, Args&&... rest) {
      |                                           ~~~~^~~
t/intrusive_chain.cc: In instantiation of ‘static void Test<T>::check_content(Test<T>::CIt, Test<T>::CIt, const T&, Args&& ...) [with Args = {panda::iptr<MyIPtr>&, panda::iptr<MyIPtr>&, panda::iptr<MyIPtr>&, panda::iptr<MyIPtr>&}; T = panda::iptr<MyIPtr>; Test<T>::CIt = panda::IntrusiveChainIterator<panda::iptr<MyIPtr> >]’:
t/intrusive_chain.cc:49:22:   required from ‘static void Test<T>::check_content(const IC&, Args&& ...) [with Args = {panda::iptr<MyIPtr>&, panda::iptr<MyIPtr>&, panda::iptr<MyIPtr>&, panda::iptr<MyIPtr>&, panda::iptr<MyIPtr>&}; T = panda::iptr<MyIPtr>; Test<T>::IC = panda::IntrusiveChain<panda::iptr<MyIPtr> >]’
t/intrusive_chain.cc:135:26:   required from ‘static void Test<T>::test(panda::function<T()>) [with T = panda::iptr<MyIPtr>]’
t/intrusive_chain.cc:276:25:   required from here
t/intrusive_chain.cc:43:22: warning: implicitly-declared ‘panda::IntrusiveChainIterator<panda::iptr<MyIPtr> >::IntrusiveChainIterator(const panda::IntrusiveChainIterator<panda::iptr<MyIPtr> >&)’ is deprecated [-Wdeprecated-copy]
   43 |         check_content(begin, end, rest...);
      |         ~~~~~~~~~~~~~^~~~~~~~~~~~~~~~~~~~~
In file included from t/intrusive_chain.cc:4:
src/panda/intrusive_chain.h:76:29: note: because ‘panda::IntrusiveChainIterator<panda::iptr<MyIPtr> >’ has user-provided ‘panda::IntrusiveChainIterator<T>& panda::IntrusiveChainIterator<T>::operator=(const panda::IntrusiveChainIterator<T>&) [with T = panda::iptr<MyIPtr>]’
   76 |     IntrusiveChainIterator& operator= (const IntrusiveChainIterator& oth) {
      |                             ^~~~~~~~
t/intrusive_chain.cc:39:36: note:   initializing argument 1 of ‘static void Test<T>::check_content(Test<T>::CIt, Test<T>::CIt, const T&, Args&& ...) [with Args = {panda::iptr<MyIPtr>&, panda::iptr<MyIPtr>&, panda::iptr<MyIPtr>&}; T = panda::iptr<MyIPtr>; Test<T>::CIt = panda::IntrusiveChainIterator<panda::iptr<MyIPtr> >]’
   39 |     static void check_content (CIt begin, CIt end, const T& v, Args&&... rest) {
      |                                ~~~~^~~~~
t/intrusive_chain.cc:43:22: warning: implicitly-declared ‘panda::IntrusiveChainIterator<panda::iptr<MyIPtr> >::IntrusiveChainIterator(const panda::IntrusiveChainIterator<panda::iptr<MyIPtr> >&)’ is deprecated [-Wdeprecated-copy]
   43 |         check_content(begin, end, rest...);
      |         ~~~~~~~~~~~~~^~~~~~~~~~~~~~~~~~~~~
In file included from t/intrusive_chain.cc:4:
src/panda/intrusive_chain.h:76:29: note: because ‘panda::IntrusiveChainIterator<panda::iptr<MyIPtr> >’ has user-provided ‘panda::IntrusiveChainIterator<T>& panda::IntrusiveChainIterator<T>::operator=(const panda::IntrusiveChainIterator<T>&) [with T = panda::iptr<MyIPtr>]’
   76 |     IntrusiveChainIterator& operator= (const IntrusiveChainIterator& oth) {
      |                             ^~~~~~~~
t/intrusive_chain.cc:39:47: note:   initializing argument 2 of ‘static void Test<T>::check_content(Test<T>::CIt, Test<T>::CIt, const T&, Args&& ...) [with Args = {panda::iptr<MyIPtr>&, panda::iptr<MyIPtr>&, panda::iptr<MyIPtr>&}; T = panda::iptr<MyIPtr>; Test<T>::CIt = panda::IntrusiveChainIterator<panda::iptr<MyIPtr> >]’
   39 |     static void check_content (CIt begin, CIt end, const T& v, Args&&... rest) {
      |                                           ~~~~^~~
t/intrusive_chain.cc: In instantiation of ‘static void Test<T>::check_content(Test<T>::CIt, Test<T>::CIt, const T&, Args&& ...) [with Args = {panda::iptr<MyIPtr>&, panda::iptr<MyIPtr>&, panda::iptr<MyIPtr>&, panda::iptr<MyIPtr>&, panda::iptr<MyIPtr>&}; T = panda::iptr<MyIPtr>; Test<T>::CIt = panda::IntrusiveChainIterator<panda::iptr<MyIPtr> >]’:
t/intrusive_chain.cc:49:22:   required from ‘static void Test<T>::check_content(const IC&, Args&& ...) [with Args = {panda::iptr<MyIPtr>&, panda::iptr<MyIPtr>&, panda::iptr<MyIPtr>&, panda::iptr<MyIPtr>&, panda::iptr<MyIPtr>&, panda::iptr<MyIPtr>&}; T = panda::iptr<MyIPtr>; Test<T>::IC = panda::IntrusiveChain<panda::iptr<MyIPtr> >]’
t/intrusive_chain.cc:138:26:   required from ‘static void Test<T>::test(panda::function<T()>) [with T = panda::iptr<MyIPtr>]’
t/intrusive_chain.cc:276:25:   required from here
t/intrusive_chain.cc:43:22: warning: implicitly-declared ‘panda::IntrusiveChainIterator<panda::iptr<MyIPtr> >::IntrusiveChainIterator(const panda::IntrusiveChainIterator<panda::iptr<MyIPtr> >&)’ is deprecated [-Wdeprecated-copy]
   43 |         check_content(begin, end, rest...);
      |         ~~~~~~~~~~~~~^~~~~~~~~~~~~~~~~~~~~
In file included from t/intrusive_chain.cc:4:
src/panda/intrusive_chain.h:76:29: note: because ‘panda::IntrusiveChainIterator<panda::iptr<MyIPtr> >’ has user-provided ‘panda::IntrusiveChainIterator<T>& panda::IntrusiveChainIterator<T>::operator=(const panda::IntrusiveChainIterator<T>&) [with T = panda::iptr<MyIPtr>]’
   76 |     IntrusiveChainIterator& operator= (const IntrusiveChainIterator& oth) {
      |                             ^~~~~~~~
t/intrusive_chain.cc:39:36: note:   initializing argument 1 of ‘static void Test<T>::check_content(Test<T>::CIt, Test<T>::CIt, const T&, Args&& ...) [with Args = {panda::iptr<MyIPtr>&, panda::iptr<MyIPtr>&, panda::iptr<MyIPtr>&, panda::iptr<MyIPtr>&}; T = panda::iptr<MyIPtr>; Test<T>::CIt = panda::IntrusiveChainIterator<panda::iptr<MyIPtr> >]’
   39 |     static void check_content (CIt begin, CIt end, const T& v, Args&&... rest) {
      |                                ~~~~^~~~~
t/intrusive_chain.cc:43:22: warning: implicitly-declared ‘panda::IntrusiveChainIterator<panda::iptr<MyIPtr> >::IntrusiveChainIterator(const panda::IntrusiveChainIterator<panda::iptr<MyIPtr> >&)’ is deprecated [-Wdeprecated-copy]
   43 |         check_content(begin, end, rest...);
      |         ~~~~~~~~~~~~~^~~~~~~~~~~~~~~~~~~~~
In file included from t/intrusive_chain.cc:4:
src/panda/intrusive_chain.h:76:29: note: because ‘panda::IntrusiveChainIterator<panda::iptr<MyIPtr> >’ has user-provided ‘panda::IntrusiveChainIterator<T>& panda::IntrusiveChainIterator<T>::operator=(const panda::IntrusiveChainIterator<T>&) [with T = panda::iptr<MyIPtr>]’
   76 |     IntrusiveChainIterator& operator= (const IntrusiveChainIterator& oth) {
      |                             ^~~~~~~~
t/intrusive_chain.cc:39:47: note:   initializing argument 2 of ‘static void Test<T>::check_content(Test<T>::CIt, Test<T>::CIt, const T&, Args&& ...) [with Args = {panda::iptr<MyIPtr>&, panda::iptr<MyIPtr>&, panda::iptr<MyIPtr>&, panda::iptr<MyIPtr>&}; T = panda::iptr<MyIPtr>; Test<T>::CIt = panda::IntrusiveChainIterator<panda::iptr<MyIPtr> >]’
   39 |     static void check_content (CIt begin, CIt end, const T& v, Args&&... rest) {
      |                                           ~~~~^~~
t/intrusive_chain.cc: In instantiation of ‘static void Test<T>::check_content(Test<T>::CIt, Test<T>::CIt, const T&, Args&& ...) [with Args = {panda::iptr<MyIPtr>&, panda::iptr<MyIPtr>&, panda::iptr<MyIPtr>&, panda::iptr<MyIPtr>&, panda::iptr<MyIPtr>&, panda::iptr<MyIPtr>&}; T = panda::iptr<MyIPtr>; Test<T>::CIt = panda::IntrusiveChainIterator<panda::iptr<MyIPtr> >]’:
t/intrusive_chain.cc:49:22:   required from ‘static void Test<T>::check_content(const IC&, Args&& ...) [with Args = {panda::iptr<MyIPtr>&, panda::iptr<MyIPtr>&, panda::iptr<MyIPtr>&, panda::iptr<MyIPtr>&, panda::iptr<MyIPtr>&, panda::iptr<MyIPtr>&, panda::iptr<MyIPtr>&}; T = panda::iptr<MyIPtr>; Test<T>::IC = panda::IntrusiveChain<panda::iptr<MyIPtr> >]’
t/intrusive_chain.cc:141:26:   required from ‘static void Test<T>::test(panda::function<T()>) [with T = panda::iptr<MyIPtr>]’
t/intrusive_chain.cc:276:25:   required from here
t/intrusive_chain.cc:43:22: warning: implicitly-declared ‘panda::IntrusiveChainIterator<panda::iptr<MyIPtr> >::IntrusiveChainIterator(const panda::IntrusiveChainIterator<panda::iptr<MyIPtr> >&)’ is deprecated [-Wdeprecated-copy]
   43 |         check_content(begin, end, rest...);
      |         ~~~~~~~~~~~~~^~~~~~~~~~~~~~~~~~~~~
In file included from t/intrusive_chain.cc:4:
src/panda/intrusive_chain.h:76:29: note: because ‘panda::IntrusiveChainIterator<panda::iptr<MyIPtr> >’ has user-provided ‘panda::IntrusiveChainIterator<T>& panda::IntrusiveChainIterator<T>::operator=(const panda::IntrusiveChainIterator<T>&) [with T = panda::iptr<MyIPtr>]’
   76 |     IntrusiveChainIterator& operator= (const IntrusiveChainIterator& oth) {
      |                             ^~~~~~~~
t/intrusive_chain.cc:39:36: note:   initializing argument 1 of ‘static void Test<T>::check_content(Test<T>::CIt, Test<T>::CIt, const T&, Args&& ...) [with Args = {panda::iptr<MyIPtr>&, panda::iptr<MyIPtr>&, panda::iptr<MyIPtr>&, panda::iptr<MyIPtr>&, panda::iptr<MyIPtr>&}; T = panda::iptr<MyIPtr>; Test<T>::CIt = panda::IntrusiveChainIterator<panda::iptr<MyIPtr> >]’
   39 |     static void check_content (CIt begin, CIt end, const T& v, Args&&... rest) {
      |                                ~~~~^~~~~
t/intrusive_chain.cc:43:22: warning: implicitly-declared ‘panda::IntrusiveChainIterator<panda::iptr<MyIPtr> >::IntrusiveChainIterator(const panda::IntrusiveChainIterator<panda::iptr<MyIPtr> >&)’ is deprecated [-Wdeprecated-copy]
   43 |         check_content(begin, end, rest...);
      |         ~~~~~~~~~~~~~^~~~~~~~~~~~~~~~~~~~~
In file included from t/intrusive_chain.cc:4:
src/panda/intrusive_chain.h:76:29: note: because ‘panda::IntrusiveChainIterator<panda::iptr<MyIPtr> >’ has user-provided ‘panda::IntrusiveChainIterator<T>& panda::IntrusiveChainIterator<T>::operator=(const panda::IntrusiveChainIterator<T>&) [with T = panda::iptr<MyIPtr>]’
   76 |     IntrusiveChainIterator& operator= (const IntrusiveChainIterator& oth) {
      |                             ^~~~~~~~
t/intrusive_chain.cc:39:47: note:   initializing argument 2 of ‘static void Test<T>::check_content(Test<T>::CIt, Test<T>::CIt, const T&, Args&& ...) [with Args = {panda::iptr<MyIPtr>&, panda::iptr<MyIPtr>&, panda::iptr<MyIPtr>&, panda::iptr<MyIPtr>&, panda::iptr<MyIPtr>&}; T = panda::iptr<MyIPtr>; Test<T>::CIt = panda::IntrusiveChainIterator<panda::iptr<MyIPtr> >]’
   39 |     static void check_content (CIt begin, CIt end, const T& v, Args&&... rest) {
      |                                           ~~~~^~~
t/intrusive_chain.cc: In instantiation of ‘static void Test<T>::check_content(Test<T>::CIt, Test<T>::CIt, const T&, Args&& ...) [with Args = {}; T = std::shared_ptr<MySPtr>; Test<T>::CIt = panda::IntrusiveChainIterator<std::shared_ptr<MySPtr> >]’:
t/intrusive_chain.cc:49:22:   required from ‘static void Test<T>::check_content(const IC&, Args&& ...) [with Args = {std::shared_ptr<MySPtr>&}; T = std::shared_ptr<MySPtr>; Test<T>::IC = panda::IntrusiveChain<std::shared_ptr<MySPtr> >]’
t/intrusive_chain.cc:71:26:   required from ‘static void Test<T>::test(panda::function<T()>) [with T = std::shared_ptr<MySPtr>]’
t/intrusive_chain.cc:282:31:   required from here
t/intrusive_chain.cc:43:22: warning: implicitly-declared ‘panda::IntrusiveChainIterator<std::shared_ptr<MySPtr> >::IntrusiveChainIterator(const panda::IntrusiveChainIterator<std::shared_ptr<MySPtr> >&)’ is deprecated [-Wdeprecated-copy]
   43 |         check_content(begin, end, rest...);
      |         ~~~~~~~~~~~~~^~~~~~~~~~~~~~~~~~~~~
In file included from t/intrusive_chain.cc:4:
src/panda/intrusive_chain.h:76:29: note: because ‘panda::IntrusiveChainIterator<std::shared_ptr<MySPtr> >’ has user-provided ‘panda::IntrusiveChainIterator<T>& panda::IntrusiveChainIterator<T>::operator=(const panda::IntrusiveChainIterator<T>&) [with T = std::shared_ptr<MySPtr>]’
   76 |     IntrusiveChainIterator& operator= (const IntrusiveChainIterator& oth) {
      |                             ^~~~~~~~
t/intrusive_chain.cc:34:36: note:   initializing argument 1 of ‘static void Test<T>::check_content(Test<T>::CIt, Test<T>::CIt) [with T = std::shared_ptr<MySPtr>; Test<T>::CIt = panda::IntrusiveChainIterator<std::shared_ptr<MySPtr> >]’
   34 |     static void check_content (CIt begin, CIt end) {
      |                                ~~~~^~~~~
t/intrusive_chain.cc:43:22: warning: implicitly-declared ‘panda::IntrusiveChainIterator<std::shared_ptr<MySPtr> >::IntrusiveChainIterator(const panda::IntrusiveChainIterator<std::shared_ptr<MySPtr> >&)’ is deprecated [-Wdeprecated-copy]
   43 |         check_content(begin, end, rest...);
      |         ~~~~~~~~~~~~~^~~~~~~~~~~~~~~~~~~~~
In file included from t/intrusive_chain.cc:4:
src/panda/intrusive_chain.h:76:29: note: because ‘panda::IntrusiveChainIterator<std::shared_ptr<MySPtr> >’ has user-provided ‘panda::IntrusiveChainIterator<T>& panda::IntrusiveChainIterator<T>::operator=(const panda::IntrusiveChainIterator<T>&) [with T = std::shared_ptr<MySPtr>]’
   76 |     IntrusiveChainIterator& operator= (const IntrusiveChainIterator& oth) {
      |                             ^~~~~~~~
t/intrusive_chain.cc:34:47: note:   initializing argument 2 of ‘static void Test<T>::check_content(Test<T>::CIt, Test<T>::CIt) [with T = std::shared_ptr<MySPtr>; Test<T>::CIt = panda::IntrusiveChainIterator<std::shared_ptr<MySPtr> >]’
   34 |     static void check_content (CIt begin, CIt end) {
      |                                           ~~~~^~~
t/intrusive_chain.cc: In instantiation of ‘static void Test<T>::check_content(Test<T>::CIt, Test<T>::CIt, const T&, Args&& ...) [with Args = {std::shared_ptr<MySPtr>&}; T = std::shared_ptr<MySPtr>; Test<T>::CIt = panda::IntrusiveChainIterator<std::shared_ptr<MySPtr> >]’:
t/intrusive_chain.cc:49:22:   required from ‘static void Test<T>::check_content(const IC&, Args&& ...) [with Args = {std::shared_ptr<MySPtr>&, std::shared_ptr<MySPtr>&}; T = std::shared_ptr<MySPtr>; Test<T>::IC = panda::IntrusiveChain<std::shared_ptr<MySPtr> >]’
t/intrusive_chain.cc:73:26:   required from ‘static void Test<T>::test(panda::function<T()>) [with T = std::shared_ptr<MySPtr>]’
t/intrusive_chain.cc:282:31:   required from here
t/intrusive_chain.cc:43:22: warning: implicitly-declared ‘panda::IntrusiveChainIterator<std::shared_ptr<MySPtr> >::IntrusiveChainIterator(const panda::IntrusiveChainIterator<std::shared_ptr<MySPtr> >&)’ is deprecated [-Wdeprecated-copy]
   43 |         check_content(begin, end, rest...);
      |         ~~~~~~~~~~~~~^~~~~~~~~~~~~~~~~~~~~
In file included from t/intrusive_chain.cc:4:
src/panda/intrusive_chain.h:76:29: note: because ‘panda::IntrusiveChainIterator<std::shared_ptr<MySPtr> >’ has user-provided ‘panda::IntrusiveChainIterator<T>& panda::IntrusiveChainIterator<T>::operator=(const panda::IntrusiveChainIterator<T>&) [with T = std::shared_ptr<MySPtr>]’
   76 |     IntrusiveChainIterator& operator= (const IntrusiveChainIterator& oth) {
      |                             ^~~~~~~~
t/intrusive_chain.cc:39:36: note:   initializing argument 1 of ‘static void Test<T>::check_content(Test<T>::CIt, Test<T>::CIt, const T&, Args&& ...) [with Args = {}; T = std::shared_ptr<MySPtr>; Test<T>::CIt = panda::IntrusiveChainIterator<std::shared_ptr<MySPtr> >]’
   39 |     static void check_content (CIt begin, CIt end, const T& v, Args&&... rest) {
      |                                ~~~~^~~~~
t/intrusive_chain.cc:43:22: warning: implicitly-declared ‘panda::IntrusiveChainIterator<std::shared_ptr<MySPtr> >::IntrusiveChainIterator(const panda::IntrusiveChainIterator<std::shared_ptr<MySPtr> >&)’ is deprecated [-Wdeprecated-copy]
   43 |         check_content(begin, end, rest...);
      |         ~~~~~~~~~~~~~^~~~~~~~~~~~~~~~~~~~~
In file included from t/intrusive_chain.cc:4:
src/panda/intrusive_chain.h:76:29: note: because ‘panda::IntrusiveChainIterator<std::shared_ptr<MySPtr> >’ has user-provided ‘panda::IntrusiveChainIterator<T>& panda::IntrusiveChainIterator<T>::operator=(const panda::IntrusiveChainIterator<T>&) [with T = std::shared_ptr<MySPtr>]’
   76 |     IntrusiveChainIterator& operator= (const IntrusiveChainIterator& oth) {
      |                             ^~~~~~~~
t/intrusive_chain.cc:39:47: note:   initializing argument 2 of ‘static void Test<T>::check_content(Test<T>::CIt, Test<T>::CIt, const T&, Args&& ...) [with Args = {}; T = std::shared_ptr<MySPtr>; Test<T>::CIt = panda::IntrusiveChainIterator<std::shared_ptr<MySPtr> >]’
   39 |     static void check_content (CIt begin, CIt end, const T& v, Args&&... rest) {
      |                                           ~~~~^~~
t/intrusive_chain.cc: In instantiation of ‘static void Test<T>::check_content(Test<T>::CIt, Test<T>::CIt, const T&, Args&& ...) [with Args = {std::shared_ptr<MySPtr>&, std::shared_ptr<MySPtr>&}; T = std::shared_ptr<MySPtr>; Test<T>::CIt = panda::IntrusiveChainIterator<std::shared_ptr<MySPtr> >]’:
t/intrusive_chain.cc:49:22:   required from ‘static void Test<T>::check_content(const IC&, Args&& ...) [with Args = {std::shared_ptr<MySPtr>&, std::shared_ptr<MySPtr>&, std::shared_ptr<MySPtr>&}; T = std::shared_ptr<MySPtr>; Test<T>::IC = panda::IntrusiveChain<std::shared_ptr<MySPtr> >]’
t/intrusive_chain.cc:86:26:   required from ‘static void Test<T>::test(panda::function<T()>) [with T = std::shared_ptr<MySPtr>]’
t/intrusive_chain.cc:282:31:   required from here
t/intrusive_chain.cc:43:22: warning: implicitly-declared ‘panda::IntrusiveChainIterator<std::shared_ptr<MySPtr> >::IntrusiveChainIterator(const panda::IntrusiveChainIterator<std::shared_ptr<MySPtr> >&)’ is deprecated [-Wdeprecated-copy]
   43 |         check_content(begin, end, rest...);
      |         ~~~~~~~~~~~~~^~~~~~~~~~~~~~~~~~~~~
In file included from t/intrusive_chain.cc:4:
src/panda/intrusive_chain.h:76:29: note: because ‘panda::IntrusiveChainIterator<std::shared_ptr<MySPtr> >’ has user-provided ‘panda::IntrusiveChainIterator<T>& panda::IntrusiveChainIterator<T>::operator=(const panda::IntrusiveChainIterator<T>&) [with T = std::shared_ptr<MySPtr>]’
   76 |     IntrusiveChainIterator& operator= (const IntrusiveChainIterator& oth) {
      |                             ^~~~~~~~
t/intrusive_chain.cc:39:36: note:   initializing argument 1 of ‘static void Test<T>::check_content(Test<T>::CIt, Test<T>::CIt, const T&, Args&& ...) [with Args = {std::shared_ptr<MySPtr>&}; T = std::shared_ptr<MySPtr>; Test<T>::CIt = panda::IntrusiveChainIterator<std::shared_ptr<MySPtr> >]’
   39 |     static void check_content (CIt begin, CIt end, const T& v, Args&&... rest) {
      |                                ~~~~^~~~~
t/intrusive_chain.cc:43:22: warning: implicitly-declared ‘panda::IntrusiveChainIterator<std::shared_ptr<MySPtr> >::IntrusiveChainIterator(const panda::IntrusiveChainIterator<std::shared_ptr<MySPtr> >&)’ is deprecated [-Wdeprecated-copy]
   43 |         check_content(begin, end, rest...);
      |         ~~~~~~~~~~~~~^~~~~~~~~~~~~~~~~~~~~
In file included from t/intrusive_chain.cc:4:
src/panda/intrusive_chain.h:76:29: note: because ‘panda::IntrusiveChainIterator<std::shared_ptr<MySPtr> >’ has user-provided ‘panda::IntrusiveChainIterator<T>& panda::IntrusiveChainIterator<T>::operator=(const panda::IntrusiveChainIterator<T>&) [with T = std::shared_ptr<MySPtr>]’
   76 |     IntrusiveChainIterator& operator= (const IntrusiveChainIterator& oth) {
      |                             ^~~~~~~~
t/intrusive_chain.cc:39:47: note:   initializing argument 2 of ‘static void Test<T>::check_content(Test<T>::CIt, Test<T>::CIt, const T&, Args&& ...) [with Args = {std::shared_ptr<MySPtr>&}; T = std::shared_ptr<MySPtr>; Test<T>::CIt = panda::IntrusiveChainIterator<std::shared_ptr<MySPtr> >]’
   39 |     static void check_content (CIt begin, CIt end, const T& v, Args&&... rest) {
      |                                           ~~~~^~~
t/intrusive_chain.cc: In instantiation of ‘static void Test<T>::check_content(Test<T>::CIt, Test<T>::CIt, const T&, Args&& ...) [with Args = {std::shared_ptr<MySPtr>&, std::shared_ptr<MySPtr>&, std::shared_ptr<MySPtr>&}; T = std::shared_ptr<MySPtr>; Test<T>::CIt = panda::IntrusiveChainIterator<std::shared_ptr<MySPtr> >]’:
t/intrusive_chain.cc:49:22:   required from ‘static void Test<T>::check_content(const IC&, Args&& ...) [with Args = {std::shared_ptr<MySPtr>&, std::shared_ptr<MySPtr>&, std::shared_ptr<MySPtr>&, std::shared_ptr<MySPtr>&}; T = std::shared_ptr<MySPtr>; Test<T>::IC = panda::IntrusiveChain<std::shared_ptr<MySPtr> >]’
t/intrusive_chain.cc:131:26:   required from ‘static void Test<T>::test(panda::function<T()>) [with T = std::shared_ptr<MySPtr>]’
t/intrusive_chain.cc:282:31:   required from here
t/intrusive_chain.cc:43:22: warning: implicitly-declared ‘panda::IntrusiveChainIterator<std::shared_ptr<MySPtr> >::IntrusiveChainIterator(const panda::IntrusiveChainIterator<std::shared_ptr<MySPtr> >&)’ is deprecated [-Wdeprecated-copy]
   43 |         check_content(begin, end, rest...);
      |         ~~~~~~~~~~~~~^~~~~~~~~~~~~~~~~~~~~
In file included from t/intrusive_chain.cc:4:
src/panda/intrusive_chain.h:76:29: note: because ‘panda::IntrusiveChainIterator<std::shared_ptr<MySPtr> >’ has user-provided ‘panda::IntrusiveChainIterator<T>& panda::IntrusiveChainIterator<T>::operator=(const panda::IntrusiveChainIterator<T>&) [with T = std::shared_ptr<MySPtr>]’
   76 |     IntrusiveChainIterator& operator= (const IntrusiveChainIterator& oth) {
      |                             ^~~~~~~~
t/intrusive_chain.cc:39:36: note:   initializing argument 1 of ‘static void Test<T>::check_content(Test<T>::CIt, Test<T>::CIt, const T&, Args&& ...) [with Args = {std::shared_ptr<MySPtr>&, std::shared_ptr<MySPtr>&}; T = std::shared_ptr<MySPtr>; Test<T>::CIt = panda::IntrusiveChainIterator<std::shared_ptr<MySPtr> >]’
   39 |     static void check_content (CIt begin, CIt end, const T& v, Args&&... rest) {
      |                                ~~~~^~~~~
t/intrusive_chain.cc:43:22: warning: implicitly-declared ‘panda::IntrusiveChainIterator<std::shared_ptr<MySPtr> >::IntrusiveChainIterator(const panda::IntrusiveChainIterator<std::shared_ptr<MySPtr> >&)’ is deprecated [-Wdeprecated-copy]
   43 |         check_content(begin, end, rest...);
      |         ~~~~~~~~~~~~~^~~~~~~~~~~~~~~~~~~~~
In file included from t/intrusive_chain.cc:4:
src/panda/intrusive_chain.h:76:29: note: because ‘panda::IntrusiveChainIterator<std::shared_ptr<MySPtr> >’ has user-provided ‘panda::IntrusiveChainIterator<T>& panda::IntrusiveChainIterator<T>::operator=(const panda::IntrusiveChainIterator<T>&) [with T = std::shared_ptr<MySPtr>]’
   76 |     IntrusiveChainIterator& operator= (const IntrusiveChainIterator& oth) {
      |                             ^~~~~~~~
t/intrusive_chain.cc:39:47: note:   initializing argument 2 of ‘static void Test<T>::check_content(Test<T>::CIt, Test<T>::CIt, const T&, Args&& ...) [with Args = {std::shared_ptr<MySPtr>&, std::shared_ptr<MySPtr>&}; T = std::shared_ptr<MySPtr>; Test<T>::CIt = panda::IntrusiveChainIterator<std::shared_ptr<MySPtr> >]’
   39 |     static void check_content (CIt begin, CIt end, const T& v, Args&&... rest) {
      |                                           ~~~~^~~
t/intrusive_chain.cc: In instantiation of ‘static void Test<T>::check_content(Test<T>::CIt, Test<T>::CIt, const T&, Args&& ...) [with Args = {std::shared_ptr<MySPtr>&, std::shared_ptr<MySPtr>&, std::shared_ptr<MySPtr>&, std::shared_ptr<MySPtr>&}; T = std::shared_ptr<MySPtr>; Test<T>::CIt = panda::IntrusiveChainIterator<std::shared_ptr<MySPtr> >]’:
t/intrusive_chain.cc:49:22:   required from ‘static void Test<T>::check_content(const IC&, Args&& ...) [with Args = {std::shared_ptr<MySPtr>&, std::shared_ptr<MySPtr>&, std::shared_ptr<MySPtr>&, std::shared_ptr<MySPtr>&, std::shared_ptr<MySPtr>&}; T = std::shared_ptr<MySPtr>; Test<T>::IC = panda::IntrusiveChain<std::shared_ptr<MySPtr> >]’
t/intrusive_chain.cc:135:26:   required from ‘static void Test<T>::test(panda::function<T()>) [with T = std::shared_ptr<MySPtr>]’
t/intrusive_chain.cc:282:31:   required from here
t/intrusive_chain.cc:43:22: warning: implicitly-declared ‘panda::IntrusiveChainIterator<std::shared_ptr<MySPtr> >::IntrusiveChainIterator(const panda::IntrusiveChainIterator<std::shared_ptr<MySPtr> >&)’ is deprecated [-Wdeprecated-copy]
   43 |         check_content(begin, end, rest...);
      |         ~~~~~~~~~~~~~^~~~~~~~~~~~~~~~~~~~~
In file included from t/intrusive_chain.cc:4:
src/panda/intrusive_chain.h:76:29: note: because ‘panda::IntrusiveChainIterator<std::shared_ptr<MySPtr> >’ has user-provided ‘panda::IntrusiveChainIterator<T>& panda::IntrusiveChainIterator<T>::operator=(const panda::IntrusiveChainIterator<T>&) [with T = std::shared_ptr<MySPtr>]’
   76 |     IntrusiveChainIterator& operator= (const IntrusiveChainIterator& oth) {
      |                             ^~~~~~~~
t/intrusive_chain.cc:39:36: note:   initializing argument 1 of ‘static void Test<T>::check_content(Test<T>::CIt, Test<T>::CIt, const T&, Args&& ...) [with Args = {std::shared_ptr<MySPtr>&, std::shared_ptr<MySPtr>&, std::shared_ptr<MySPtr>&}; T = std::shared_ptr<MySPtr>; Test<T>::CIt = panda::IntrusiveChainIterator<std::shared_ptr<MySPtr> >]’
   39 |     static void check_content (CIt begin, CIt end, const T& v, Args&&... rest) {
      |                                ~~~~^~~~~
t/intrusive_chain.cc:43:22: warning: implicitly-declared ‘panda::IntrusiveChainIterator<std::shared_ptr<MySPtr> >::IntrusiveChainIterator(const panda::IntrusiveChainIterator<std::shared_ptr<MySPtr> >&)’ is deprecated [-Wdeprecated-copy]
   43 |         check_content(begin, end, rest...);
      |         ~~~~~~~~~~~~~^~~~~~~~~~~~~~~~~~~~~
In file included from t/intrusive_chain.cc:4:
src/panda/intrusive_chain.h:76:29: note: because ‘panda::IntrusiveChainIterator<std::shared_ptr<MySPtr> >’ has user-provided ‘panda::IntrusiveChainIterator<T>& panda::IntrusiveChainIterator<T>::operator=(const panda::IntrusiveChainIterator<T>&) [with T = std::shared_ptr<MySPtr>]’
   76 |     IntrusiveChainIterator& operator= (const IntrusiveChainIterator& oth) {
      |                             ^~~~~~~~
t/intrusive_chain.cc:39:47: note:   initializing argument 2 of ‘static void Test<T>::check_content(Test<T>::CIt, Test<T>::CIt, const T&, Args&& ...) [with Args = {std::shared_ptr<MySPtr>&, std::shared_ptr<MySPtr>&, std::shared_ptr<MySPtr>&}; T = std::shared_ptr<MySPtr>; Test<T>::CIt = panda::IntrusiveChainIterator<std::shared_ptr<MySPtr> >]’
   39 |     static void check_content (CIt begin, CIt end, const T& v, Args&&... rest) {
      |                                           ~~~~^~~
t/intrusive_chain.cc: In instantiation of ‘static void Test<T>::check_content(Test<T>::CIt, Test<T>::CIt, const T&, Args&& ...) [with Args = {std::shared_ptr<MySPtr>&, std::shared_ptr<MySPtr>&, std::shared_ptr<MySPtr>&, std::shared_ptr<MySPtr>&, std::shared_ptr<MySPtr>&}; T = std::shared_ptr<MySPtr>; Test<T>::CIt = panda::IntrusiveChainIterator<std::shared_ptr<MySPtr> >]’:
t/intrusive_chain.cc:49:22:   required from ‘static void Test<T>::check_content(const IC&, Args&& ...) [with Args = {std::shared_ptr<MySPtr>&, std::shared_ptr<MySPtr>&, std::shared_ptr<MySPtr>&, std::shared_ptr<MySPtr>&, std::shared_ptr<MySPtr>&, std::shared_ptr<MySPtr>&}; T = std::shared_ptr<MySPtr>; Test<T>::IC = panda::IntrusiveChain<std::shared_ptr<MySPtr> >]’
t/intrusive_chain.cc:138:26:   required from ‘static void Test<T>::test(panda::function<T()>) [with T = std::shared_ptr<MySPtr>]’
t/intrusive_chain.cc:282:31:   required from here
t/intrusive_chain.cc:43:22: warning: implicitly-declared ‘panda::IntrusiveChainIterator<std::shared_ptr<MySPtr> >::IntrusiveChainIterator(const panda::IntrusiveChainIterator<std::shared_ptr<MySPtr> >&)’ is deprecated [-Wdeprecated-copy]
   43 |         check_content(begin, end, rest...);
      |         ~~~~~~~~~~~~~^~~~~~~~~~~~~~~~~~~~~
In file included from t/intrusive_chain.cc:4:
src/panda/intrusive_chain.h:76:29: note: because ‘panda::IntrusiveChainIterator<std::shared_ptr<MySPtr> >’ has user-provided ‘panda::IntrusiveChainIterator<T>& panda::IntrusiveChainIterator<T>::operator=(const panda::IntrusiveChainIterator<T>&) [with T = std::shared_ptr<MySPtr>]’
   76 |     IntrusiveChainIterator& operator= (const IntrusiveChainIterator& oth) {
      |                             ^~~~~~~~
t/intrusive_chain.cc:39:36: note:   initializing argument 1 of ‘static void Test<T>::check_content(Test<T>::CIt, Test<T>::CIt, const T&, Args&& ...) [with Args = {std::shared_ptr<MySPtr>&, std::shared_ptr<MySPtr>&, std::shared_ptr<MySPtr>&, std::shared_ptr<MySPtr>&}; T = std::shared_ptr<MySPtr>; Test<T>::CIt = panda::IntrusiveChainIterator<std::shared_ptr<MySPtr> >]’
   39 |     static void check_content (CIt begin, CIt end, const T& v, Args&&... rest) {
      |                                ~~~~^~~~~
t/intrusive_chain.cc:43:22: warning: implicitly-declared ‘panda::IntrusiveChainIterator<std::shared_ptr<MySPtr> >::IntrusiveChainIterator(const panda::IntrusiveChainIterator<std::shared_ptr<MySPtr> >&)’ is deprecated [-Wdeprecated-copy]
   43 |         check_content(begin, end, rest...);
      |         ~~~~~~~~~~~~~^~~~~~~~~~~~~~~~~~~~~
In file included from t/intrusive_chain.cc:4:
src/panda/intrusive_chain.h:76:29: note: because ‘panda::IntrusiveChainIterator<std::shared_ptr<MySPtr> >’ has user-provided ‘panda::IntrusiveChainIterator<T>& panda::IntrusiveChainIterator<T>::operator=(const panda::IntrusiveChainIterator<T>&) [with T = std::shared_ptr<MySPtr>]’
   76 |     IntrusiveChainIterator& operator= (const IntrusiveChainIterator& oth) {
      |                             ^~~~~~~~
t/intrusive_chain.cc:39:47: note:   initializing argument 2 of ‘static void Test<T>::check_content(Test<T>::CIt, Test<T>::CIt, const T&, Args&& ...) [with Args = {std::shared_ptr<MySPtr>&, std::shared_ptr<MySPtr>&, std::shared_ptr<MySPtr>&, std::shared_ptr<MySPtr>&}; T = std::shared_ptr<MySPtr>; Test<T>::CIt = panda::IntrusiveChainIterator<std::shared_ptr<MySPtr> >]’
   39 |     static void check_content (CIt begin, CIt end, const T& v, Args&&... rest) {
      |                                           ~~~~^~~
t/intrusive_chain.cc: In instantiation of ‘static void Test<T>::check_content(Test<T>::CIt, Test<T>::CIt, const T&, Args&& ...) [with Args = {std::shared_ptr<MySPtr>&, std::shared_ptr<MySPtr>&, std::shared_ptr<MySPtr>&, std::shared_ptr<MySPtr>&, std::shared_ptr<MySPtr>&, std::shared_ptr<MySPtr>&}; T = std::shared_ptr<MySPtr>; Test<T>::CIt = panda::IntrusiveChainIterator<std::shared_ptr<MySPtr> >]’:
t/intrusive_chain.cc:49:22:   required from ‘static void Test<T>::check_content(const IC&, Args&& ...) [with Args = {std::shared_ptr<MySPtr>&, std::shared_ptr<MySPtr>&, std::shared_ptr<MySPtr>&, std::shared_ptr<MySPtr>&, std::shared_ptr<MySPtr>&, std::shared_ptr<MySPtr>&, std::shared_ptr<MySPtr>&}; T = std::shared_ptr<MySPtr>; Test<T>::IC = panda::IntrusiveChain<std::shared_ptr<MySPtr> >]’
t/intrusive_chain.cc:141:26:   required from ‘static void Test<T>::test(panda::function<T()>) [with T = std::shared_ptr<MySPtr>]’
t/intrusive_chain.cc:282:31:   required from here
t/intrusive_chain.cc:43:22: warning: implicitly-declared ‘panda::IntrusiveChainIterator<std::shared_ptr<MySPtr> >::IntrusiveChainIterator(const panda::IntrusiveChainIterator<std::shared_ptr<MySPtr> >&)’ is deprecated [-Wdeprecated-copy]
   43 |         check_content(begin, end, rest...);
      |         ~~~~~~~~~~~~~^~~~~~~~~~~~~~~~~~~~~
In file included from t/intrusive_chain.cc:4:
src/panda/intrusive_chain.h:76:29: note: because ‘panda::IntrusiveChainIterator<std::shared_ptr<MySPtr> >’ has user-provided ‘panda::IntrusiveChainIterator<T>& panda::IntrusiveChainIterator<T>::operator=(const panda::IntrusiveChainIterator<T>&) [with T = std::shared_ptr<MySPtr>]’
   76 |     IntrusiveChainIterator& operator= (const IntrusiveChainIterator& oth) {
      |                             ^~~~~~~~
t/intrusive_chain.cc:39:36: note:   initializing argument 1 of ‘static void Test<T>::check_content(Test<T>::CIt, Test<T>::CIt, const T&, Args&& ...) [with Args = {std::shared_ptr<MySPtr>&, std::shared_ptr<MySPtr>&, std::shared_ptr<MySPtr>&, std::shared_ptr<MySPtr>&, std::shared_ptr<MySPtr>&}; T = std::shared_ptr<MySPtr>; Test<T>::CIt = panda::IntrusiveChainIterator<std::shared_ptr<MySPtr> >]’
   39 |     static void check_content (CIt begin, CIt end, const T& v, Args&&... rest) {
      |                                ~~~~^~~~~
t/intrusive_chain.cc:43:22: warning: implicitly-declared ‘panda::IntrusiveChainIterator<std::shared_ptr<MySPtr> >::IntrusiveChainIterator(const panda::IntrusiveChainIterator<std::shared_ptr<MySPtr> >&)’ is deprecated [-Wdeprecated-copy]
   43 |         check_content(begin, end, rest...);
      |         ~~~~~~~~~~~~~^~~~~~~~~~~~~~~~~~~~~
In file included from t/intrusive_chain.cc:4:
src/panda/intrusive_chain.h:76:29: note: because ‘panda::IntrusiveChainIterator<std::shared_ptr<MySPtr> >’ has user-provided ‘panda::IntrusiveChainIterator<T>& panda::IntrusiveChainIterator<T>::operator=(const panda::IntrusiveChainIterator<T>&) [with T = std::shared_ptr<MySPtr>]’
   76 |     IntrusiveChainIterator& operator= (const IntrusiveChainIterator& oth) {
      |                             ^~~~~~~~
t/intrusive_chain.cc:39:47: note:   initializing argument 2 of ‘static void Test<T>::check_content(Test<T>::CIt, Test<T>::CIt, const T&, Args&& ...) [with Args = {std::shared_ptr<MySPtr>&, std::shared_ptr<MySPtr>&, std::shared_ptr<MySPtr>&, std::shared_ptr<MySPtr>&, std::shared_ptr<MySPtr>&}; T = std::shared_ptr<MySPtr>; Test<T>::CIt = panda::IntrusiveChainIterator<std::shared_ptr<MySPtr> >]’
   39 |     static void check_content (CIt begin, CIt end, const T& v, Args&&... rest) {
      |                                           ~~~~^~~
t/intrusive_chain.cc: In instantiation of ‘static void Test<T>::check_content(Test<T>::CIt, Test<T>::CIt, const T&, Args&& ...) [with Args = {}; T = MyCustom*; Test<T>::CIt = panda::IntrusiveChainIterator<MyCustom*>]’:
t/intrusive_chain.cc:49:22:   required from ‘static void Test<T>::check_content(const IC&, Args&& ...) [with Args = {MyCustom*&}; T = MyCustom*; Test<T>::IC = panda::IntrusiveChain<MyCustom*>]’
t/intrusive_chain.cc:71:26:   required from ‘static void Test<T>::test(panda::function<T()>) [with T = MyCustom*]’
t/intrusive_chain.cc:289:22:   required from here
t/intrusive_chain.cc:43:22: warning: implicitly-declared ‘constexpr panda::IntrusiveChainIterator<MyCustom*>::IntrusiveChainIterator(const panda::IntrusiveChainIterator<MyCustom*>&)’ is deprecated [-Wdeprecated-copy]
   43 |         check_content(begin, end, rest...);
      |         ~~~~~~~~~~~~~^~~~~~~~~~~~~~~~~~~~~
In file included from t/intrusive_chain.cc:4:
src/panda/intrusive_chain.h:76:29: note: because ‘panda::IntrusiveChainIterator<MyCustom*>’ has user-provided ‘panda::IntrusiveChainIterator<T>& panda::IntrusiveChainIterator<T>::operator=(const panda::IntrusiveChainIterator<T>&) [with T = MyCustom*]’
   76 |     IntrusiveChainIterator& operator= (const IntrusiveChainIterator& oth) {
      |                             ^~~~~~~~
t/intrusive_chain.cc:34:36: note:   initializing argument 1 of ‘static void Test<T>::check_content(Test<T>::CIt, Test<T>::CIt) [with T = MyCustom*; Test<T>::CIt = panda::IntrusiveChainIterator<MyCustom*>]’
   34 |     static void check_content (CIt begin, CIt end) {
      |                                ~~~~^~~~~
t/intrusive_chain.cc:43:22: warning: implicitly-declared ‘constexpr panda::IntrusiveChainIterator<MyCustom*>::IntrusiveChainIterator(const panda::IntrusiveChainIterator<MyCustom*>&)’ is deprecated [-Wdeprecated-copy]
   43 |         check_content(begin, end, rest...);
      |         ~~~~~~~~~~~~~^~~~~~~~~~~~~~~~~~~~~
In file included from t/intrusive_chain.cc:4:
src/panda/intrusive_chain.h:76:29: note: because ‘panda::IntrusiveChainIterator<MyCustom*>’ has user-provided ‘panda::IntrusiveChainIterator<T>& panda::IntrusiveChainIterator<T>::operator=(const panda::IntrusiveChainIterator<T>&) [with T = MyCustom*]’
   76 |     IntrusiveChainIterator& operator= (const IntrusiveChainIterator& oth) {
      |                             ^~~~~~~~
t/intrusive_chain.cc:34:47: note:   initializing argument 2 of ‘static void Test<T>::check_content(Test<T>::CIt, Test<T>::CIt) [with T = MyCustom*; Test<T>::CIt = panda::IntrusiveChainIterator<MyCustom*>]’
   34 |     static void check_content (CIt begin, CIt end) {
      |                                           ~~~~^~~
t/intrusive_chain.cc: In instantiation of ‘static void Test<T>::check_content(Test<T>::CIt, Test<T>::CIt, const T&, Args&& ...) [with Args = {MyCustom*&}; T = MyCustom*; Test<T>::CIt = panda::IntrusiveChainIterator<MyCustom*>]’:
t/intrusive_chain.cc:49:22:   required from ‘static void Test<T>::check_content(const IC&, Args&& ...) [with Args = {MyCustom*&, MyCustom*&}; T = MyCustom*; Test<T>::IC = panda::IntrusiveChain<MyCustom*>]’
t/intrusive_chain.cc:73:26:   required from ‘static void Test<T>::test(panda::function<T()>) [with T = MyCustom*]’
t/intrusive_chain.cc:289:22:   required from here
t/intrusive_chain.cc:43:22: warning: implicitly-declared ‘constexpr panda::IntrusiveChainIterator<MyCustom*>::IntrusiveChainIterator(const panda::IntrusiveChainIterator<MyCustom*>&)’ is deprecated [-Wdeprecated-copy]
   43 |         check_content(begin, end, rest...);
      |         ~~~~~~~~~~~~~^~~~~~~~~~~~~~~~~~~~~
In file included from t/intrusive_chain.cc:4:
src/panda/intrusive_chain.h:76:29: note: because ‘panda::IntrusiveChainIterator<MyCustom*>’ has user-provided ‘panda::IntrusiveChainIterator<T>& panda::IntrusiveChainIterator<T>::operator=(const panda::IntrusiveChainIterator<T>&) [with T = MyCustom*]’
   76 |     IntrusiveChainIterator& operator= (const IntrusiveChainIterator& oth) {
      |                             ^~~~~~~~
t/intrusive_chain.cc:39:36: note:   initializing argument 1 of ‘static void Test<T>::check_content(Test<T>::CIt, Test<T>::CIt, const T&, Args&& ...) [with Args = {}; T = MyCustom*; Test<T>::CIt = panda::IntrusiveChainIterator<MyCustom*>]’
   39 |     static void check_content (CIt begin, CIt end, const T& v, Args&&... rest) {
      |                                ~~~~^~~~~
t/intrusive_chain.cc:43:22: warning: implicitly-declared ‘constexpr panda::IntrusiveChainIterator<MyCustom*>::IntrusiveChainIterator(const panda::IntrusiveChainIterator<MyCustom*>&)’ is deprecated [-Wdeprecated-copy]
   43 |         check_content(begin, end, rest...);
      |         ~~~~~~~~~~~~~^~~~~~~~~~~~~~~~~~~~~
In file included from t/intrusive_chain.cc:4:
src/panda/intrusive_chain.h:76:29: note: because ‘panda::IntrusiveChainIterator<MyCustom*>’ has user-provided ‘panda::IntrusiveChainIterator<T>& panda::IntrusiveChainIterator<T>::operator=(const panda::IntrusiveChainIterator<T>&) [with T = MyCustom*]’
   76 |     IntrusiveChainIterator& operator= (const IntrusiveChainIterator& oth) {
      |                             ^~~~~~~~
t/intrusive_chain.cc:39:47: note:   initializing argument 2 of ‘static void Test<T>::check_content(Test<T>::CIt, Test<T>::CIt, const T&, Args&& ...) [with Args = {}; T = MyCustom*; Test<T>::CIt = panda::IntrusiveChainIterator<MyCustom*>]’
   39 |     static void check_content (CIt begin, CIt end, const T& v, Args&&... rest) {
      |                                           ~~~~^~~
t/intrusive_chain.cc: In instantiation of ‘static void Test<T>::check_content(Test<T>::CIt, Test<T>::CIt, const T&, Args&& ...) [with Args = {MyCustom*&, MyCustom*&}; T = MyCustom*; Test<T>::CIt = panda::IntrusiveChainIterator<MyCustom*>]’:
t/intrusive_chain.cc:49:22:   required from ‘static void Test<T>::check_content(const IC&, Args&& ...) [with Args = {MyCustom*&, MyCustom*&, MyCustom*&}; T = MyCustom*; Test<T>::IC = panda::IntrusiveChain<MyCustom*>]’
t/intrusive_chain.cc:86:26:   required from ‘static void Test<T>::test(panda::function<T()>) [with T = MyCustom*]’
t/intrusive_chain.cc:289:22:   required from here
t/intrusive_chain.cc:43:22: warning: implicitly-declared ‘constexpr panda::IntrusiveChainIterator<MyCustom*>::IntrusiveChainIterator(const panda::IntrusiveChainIterator<MyCustom*>&)’ is deprecated [-Wdeprecated-copy]
   43 |         check_content(begin, end, rest...);
      |         ~~~~~~~~~~~~~^~~~~~~~~~~~~~~~~~~~~
In file included from t/intrusive_chain.cc:4:
src/panda/intrusive_chain.h:76:29: note: because ‘panda::IntrusiveChainIterator<MyCustom*>’ has user-provided ‘panda::IntrusiveChainIterator<T>& panda::IntrusiveChainIterator<T>::operator=(const panda::IntrusiveChainIterator<T>&) [with T = MyCustom*]’
   76 |     IntrusiveChainIterator& operator= (const IntrusiveChainIterator& oth) {
      |                             ^~~~~~~~
t/intrusive_chain.cc:39:36: note:   initializing argument 1 of ‘static void Test<T>::check_content(Test<T>::CIt, Test<T>::CIt, const T&, Args&& ...) [with Args = {MyCustom*&}; T = MyCustom*; Test<T>::CIt = panda::IntrusiveChainIterator<MyCustom*>]’
   39 |     static void check_content (CIt begin, CIt end, const T& v, Args&&... rest) {
      |                                ~~~~^~~~~
t/intrusive_chain.cc:43:22: warning: implicitly-declared ‘constexpr panda::IntrusiveChainIterator<MyCustom*>::IntrusiveChainIterator(const panda::IntrusiveChainIterator<MyCustom*>&)’ is deprecated [-Wdeprecated-copy]
   43 |         check_content(begin, end, rest...);
      |         ~~~~~~~~~~~~~^~~~~~~~~~~~~~~~~~~~~
In file included from t/intrusive_chain.cc:4:
src/panda/intrusive_chain.h:76:29: note: because ‘panda::IntrusiveChainIterator<MyCustom*>’ has user-provided ‘panda::IntrusiveChainIterator<T>& panda::IntrusiveChainIterator<T>::operator=(const panda::IntrusiveChainIterator<T>&) [with T = MyCustom*]’
   76 |     IntrusiveChainIterator& operator= (const IntrusiveChainIterator& oth) {
      |                             ^~~~~~~~
t/intrusive_chain.cc:39:47: note:   initializing argument 2 of ‘static void Test<T>::check_content(Test<T>::CIt, Test<T>::CIt, const T&, Args&& ...) [with Args = {MyCustom*&}; T = MyCustom*; Test<T>::CIt = panda::IntrusiveChainIterator<MyCustom*>]’
   39 |     static void check_content (CIt begin, CIt end, const T& v, Args&&... rest) {
      |                                           ~~~~^~~
t/intrusive_chain.cc: In instantiation of ‘static void Test<T>::check_content(Test<T>::CIt, Test<T>::CIt, const T&, Args&& ...) [with Args = {MyCustom*&, MyCustom*&, MyCustom*&}; T = MyCustom*; Test<T>::CIt = panda::IntrusiveChainIterator<MyCustom*>]’:
t/intrusive_chain.cc:49:22:   required from ‘static void Test<T>::check_content(const IC&, Args&& ...) [with Args = {MyCustom*&, MyCustom*&, MyCustom*&, MyCustom*&}; T = MyCustom*; Test<T>::IC = panda::IntrusiveChain<MyCustom*>]’
t/intrusive_chain.cc:131:26:   required from ‘static void Test<T>::test(panda::function<T()>) [with T = MyCustom*]’
t/intrusive_chain.cc:289:22:   required from here
t/intrusive_chain.cc:43:22: warning: implicitly-declared ‘constexpr panda::IntrusiveChainIterator<MyCustom*>::IntrusiveChainIterator(const panda::IntrusiveChainIterator<MyCustom*>&)’ is deprecated [-Wdeprecated-copy]
   43 |         check_content(begin, end, rest...);
      |         ~~~~~~~~~~~~~^~~~~~~~~~~~~~~~~~~~~
In file included from t/intrusive_chain.cc:4:
src/panda/intrusive_chain.h:76:29: note: because ‘panda::IntrusiveChainIterator<MyCustom*>’ has user-provided ‘panda::IntrusiveChainIterator<T>& panda::IntrusiveChainIterator<T>::operator=(const panda::IntrusiveChainIterator<T>&) [with T = MyCustom*]’
   76 |     IntrusiveChainIterator& operator= (const IntrusiveChainIterator& oth) {
      |                             ^~~~~~~~
t/intrusive_chain.cc:39:36: note:   initializing argument 1 of ‘static void Test<T>::check_content(Test<T>::CIt, Test<T>::CIt, const T&, Args&& ...) [with Args = {MyCustom*&, MyCustom*&}; T = MyCustom*; Test<T>::CIt = panda::IntrusiveChainIterator<MyCustom*>]’
   39 |     static void check_content (CIt begin, CIt end, const T& v, Args&&... rest) {
      |                                ~~~~^~~~~
t/intrusive_chain.cc:43:22: warning: implicitly-declared ‘constexpr panda::IntrusiveChainIterator<MyCustom*>::IntrusiveChainIterator(const panda::IntrusiveChainIterator<MyCustom*>&)’ is deprecated [-Wdeprecated-copy]
   43 |         check_content(begin, end, rest...);
      |         ~~~~~~~~~~~~~^~~~~~~~~~~~~~~~~~~~~
In file included from t/intrusive_chain.cc:4:
src/panda/intrusive_chain.h:76:29: note: because ‘panda::IntrusiveChainIterator<MyCustom*>’ has user-provided ‘panda::IntrusiveChainIterator<T>& panda::IntrusiveChainIterator<T>::operator=(const panda::IntrusiveChainIterator<T>&) [with T = MyCustom*]’
   76 |     IntrusiveChainIterator& operator= (const IntrusiveChainIterator& oth) {
      |                             ^~~~~~~~
t/intrusive_chain.cc:39:47: note:   initializing argument 2 of ‘static void Test<T>::check_content(Test<T>::CIt, Test<T>::CIt, const T&, Args&& ...) [with Args = {MyCustom*&, MyCustom*&}; T = MyCustom*; Test<T>::CIt = panda::IntrusiveChainIterator<MyCustom*>]’
   39 |     static void check_content (CIt begin, CIt end, const T& v, Args&&... rest) {
      |                                           ~~~~^~~
t/intrusive_chain.cc: In instantiation of ‘static void Test<T>::check_content(Test<T>::CIt, Test<T>::CIt, const T&, Args&& ...) [with Args = {MyCustom*&, MyCustom*&, MyCustom*&, MyCustom*&}; T = MyCustom*; Test<T>::CIt = panda::IntrusiveChainIterator<MyCustom*>]’:
t/intrusive_chain.cc:49:22:   required from ‘static void Test<T>::check_content(const IC&, Args&& ...) [with Args = {MyCustom*&, MyCustom*&, MyCustom*&, MyCustom*&, MyCustom*&}; T = MyCustom*; Test<T>::IC = panda::IntrusiveChain<MyCustom*>]’
t/intrusive_chain.cc:135:26:   required from ‘static void Test<T>::test(panda::function<T()>) [with T = MyCustom*]’
t/intrusive_chain.cc:289:22:   required from here
t/intrusive_chain.cc:43:22: warning: implicitly-declared ‘constexpr panda::IntrusiveChainIterator<MyCustom*>::IntrusiveChainIterator(const panda::IntrusiveChainIterator<MyCustom*>&)’ is deprecated [-Wdeprecated-copy]
   43 |         check_content(begin, end, rest...);
      |         ~~~~~~~~~~~~~^~~~~~~~~~~~~~~~~~~~~
In file included from t/intrusive_chain.cc:4:
src/panda/intrusive_chain.h:76:29: note: because ‘panda::IntrusiveChainIterator<MyCustom*>’ has user-provided ‘panda::IntrusiveChainIterator<T>& panda::IntrusiveChainIterator<T>::operator=(const panda::IntrusiveChainIterator<T>&) [with T = MyCustom*]’
   76 |     IntrusiveChainIterator& operator= (const IntrusiveChainIterator& oth) {
      |                             ^~~~~~~~
t/intrusive_chain.cc:39:36: note:   initializing argument 1 of ‘static void Test<T>::check_content(Test<T>::CIt, Test<T>::CIt, const T&, Args&& ...) [with Args = {MyCustom*&, MyCustom*&, MyCustom*&}; T = MyCustom*; Test<T>::CIt = panda::IntrusiveChainIterator<MyCustom*>]’
   39 |     static void check_content (CIt begin, CIt end, const T& v, Args&&... rest) {
      |                                ~~~~^~~~~
t/intrusive_chain.cc:43:22: warning: implicitly-declared ‘constexpr panda::IntrusiveChainIterator<MyCustom*>::IntrusiveChainIterator(const panda::IntrusiveChainIterator<MyCustom*>&)’ is deprecated [-Wdeprecated-copy]
   43 |         check_content(begin, end, rest...);
      |         ~~~~~~~~~~~~~^~~~~~~~~~~~~~~~~~~~~
In file included from t/intrusive_chain.cc:4:
src/panda/intrusive_chain.h:76:29: note: because ‘panda::IntrusiveChainIterator<MyCustom*>’ has user-provided ‘panda::IntrusiveChainIterator<T>& panda::IntrusiveChainIterator<T>::operator=(const panda::IntrusiveChainIterator<T>&) [with T = MyCustom*]’
   76 |     IntrusiveChainIterator& operator= (const IntrusiveChainIterator& oth) {
      |                             ^~~~~~~~
t/intrusive_chain.cc:39:47: note:   initializing argument 2 of ‘static void Test<T>::check_content(Test<T>::CIt, Test<T>::CIt, const T&, Args&& ...) [with Args = {MyCustom*&, MyCustom*&, MyCustom*&}; T = MyCustom*; Test<T>::CIt = panda::IntrusiveChainIterator<MyCustom*>]’
   39 |     static void check_content (CIt begin, CIt end, const T& v, Args&&... rest) {
      |                                           ~~~~^~~
t/intrusive_chain.cc: In instantiation of ‘static void Test<T>::check_content(Test<T>::CIt, Test<T>::CIt, const T&, Args&& ...) [with Args = {MyCustom*&, MyCustom*&, MyCustom*&, MyCustom*&, MyCustom*&}; T = MyCustom*; Test<T>::CIt = panda::IntrusiveChainIterator<MyCustom*>]’:
t/intrusive_chain.cc:49:22:   required from ‘static void Test<T>::check_content(const IC&, Args&& ...) [with Args = {MyCustom*&, MyCustom*&, MyCustom*&, MyCustom*&, MyCustom*&, MyCustom*&}; T = MyCustom*; Test<T>::IC = panda::IntrusiveChain<MyCustom*>]’
t/intrusive_chain.cc:138:26:   required from ‘static void Test<T>::test(panda::function<T()>) [with T = MyCustom*]’
t/intrusive_chain.cc:289:22:   required from here
t/intrusive_chain.cc:43:22: warning: implicitly-declared ‘constexpr panda::IntrusiveChainIterator<MyCustom*>::IntrusiveChainIterator(const panda::IntrusiveChainIterator<MyCustom*>&)’ is deprecated [-Wdeprecated-copy]
   43 |         check_content(begin, end, rest...);
      |         ~~~~~~~~~~~~~^~~~~~~~~~~~~~~~~~~~~
In file included from t/intrusive_chain.cc:4:
src/panda/intrusive_chain.h:76:29: note: because ‘panda::IntrusiveChainIterator<MyCustom*>’ has user-provided ‘panda::IntrusiveChainIterator<T>& panda::IntrusiveChainIterator<T>::operator=(const panda::IntrusiveChainIterator<T>&) [with T = MyCustom*]’
   76 |     IntrusiveChainIterator& operator= (const IntrusiveChainIterator& oth) {
      |                             ^~~~~~~~
t/intrusive_chain.cc:39:36: note:   initializing argument 1 of ‘static void Test<T>::check_content(Test<T>::CIt, Test<T>::CIt, const T&, Args&& ...) [with Args = {MyCustom*&, MyCustom*&, MyCustom*&, MyCustom*&}; T = MyCustom*; Test<T>::CIt = panda::IntrusiveChainIterator<MyCustom*>]’
   39 |     static void check_content (CIt begin, CIt end, const T& v, Args&&... rest) {
      |                                ~~~~^~~~~
t/intrusive_chain.cc:43:22: warning: implicitly-declared ‘constexpr panda::IntrusiveChainIterator<MyCustom*>::IntrusiveChainIterator(const panda::IntrusiveChainIterator<MyCustom*>&)’ is deprecated [-Wdeprecated-copy]
   43 |         check_content(begin, end, rest...);
      |         ~~~~~~~~~~~~~^~~~~~~~~~~~~~~~~~~~~
In file included from t/intrusive_chain.cc:4:
src/panda/intrusive_chain.h:76:29: note: because ‘panda::IntrusiveChainIterator<MyCustom*>’ has user-provided ‘panda::IntrusiveChainIterator<T>& panda::IntrusiveChainIterator<T>::operator=(const panda::IntrusiveChainIterator<T>&) [with T = MyCustom*]’
   76 |     IntrusiveChainIterator& operator= (const IntrusiveChainIterator& oth) {
      |                             ^~~~~~~~
t/intrusive_chain.cc:39:47: note:   initializing argument 2 of ‘static void Test<T>::check_content(Test<T>::CIt, Test<T>::CIt, const T&, Args&& ...) [with Args = {MyCustom*&, MyCustom*&, MyCustom*&, MyCustom*&}; T = MyCustom*; Test<T>::CIt = panda::IntrusiveChainIterator<MyCustom*>]’
   39 |     static void check_content (CIt begin, CIt end, const T& v, Args&&... rest) {
      |                                           ~~~~^~~
t/intrusive_chain.cc: In instantiation of ‘static void Test<T>::check_content(Test<T>::CIt, Test<T>::CIt, const T&, Args&& ...) [with Args = {MyCustom*&, MyCustom*&, MyCustom*&, MyCustom*&, MyCustom*&, MyCustom*&}; T = MyCustom*; Test<T>::CIt = panda::IntrusiveChainIterator<MyCustom*>]’:
t/intrusive_chain.cc:49:22:   required from ‘static void Test<T>::check_content(const IC&, Args&& ...) [with Args = {MyCustom*&, MyCustom*&, MyCustom*&, MyCustom*&, MyCustom*&, MyCustom*&, MyCustom*&}; T = MyCustom*; Test<T>::IC = panda::IntrusiveChain<MyCustom*>]’
t/intrusive_chain.cc:141:26:   required from ‘static void Test<T>::test(panda::function<T()>) [with T = MyCustom*]’
t/intrusive_chain.cc:289:22:   required from here
t/intrusive_chain.cc:43:22: warning: implicitly-declared ‘constexpr panda::IntrusiveChainIterator<MyCustom*>::IntrusiveChainIterator(const panda::IntrusiveChainIterator<MyCustom*>&)’ is deprecated [-Wdeprecated-copy]
   43 |         check_content(begin, end, rest...);
      |         ~~~~~~~~~~~~~^~~~~~~~~~~~~~~~~~~~~
In file included from t/intrusive_chain.cc:4:
src/panda/intrusive_chain.h:76:29: note: because ‘panda::IntrusiveChainIterator<MyCustom*>’ has user-provided ‘panda::IntrusiveChainIterator<T>& panda::IntrusiveChainIterator<T>::operator=(const panda::IntrusiveChainIterator<T>&) [with T = MyCustom*]’
   76 |     IntrusiveChainIterator& operator= (const IntrusiveChainIterator& oth) {
      |                             ^~~~~~~~
t/intrusive_chain.cc:39:36: note:   initializing argument 1 of ‘static void Test<T>::check_content(Test<T>::CIt, Test<T>::CIt, const T&, Args&& ...) [with Args = {MyCustom*&, MyCustom*&, MyCustom*&, MyCustom*&, MyCustom*&}; T = MyCustom*; Test<T>::CIt = panda::IntrusiveChainIterator<MyCustom*>]’
   39 |     static void check_content (CIt begin, CIt end, const T& v, Args&&... rest) {
      |                                ~~~~^~~~~
t/intrusive_chain.cc:43:22: warning: implicitly-declared ‘constexpr panda::IntrusiveChainIterator<MyCustom*>::IntrusiveChainIterator(const panda::IntrusiveChainIterator<MyCustom*>&)’ is deprecated [-Wdeprecated-copy]
   43 |         check_content(begin, end, rest...);
      |         ~~~~~~~~~~~~~^~~~~~~~~~~~~~~~~~~~~
In file included from t/intrusive_chain.cc:4:
src/panda/intrusive_chain.h:76:29: note: because ‘panda::IntrusiveChainIterator<MyCustom*>’ has user-provided ‘panda::IntrusiveChainIterator<T>& panda::IntrusiveChainIterator<T>::operator=(const panda::IntrusiveChainIterator<T>&) [with T = MyCustom*]’
   76 |     IntrusiveChainIterator& operator= (const IntrusiveChainIterator& oth) {
      |                             ^~~~~~~~
t/intrusive_chain.cc:39:47: note:   initializing argument 2 of ‘static void Test<T>::check_content(Test<T>::CIt, Test<T>::CIt, const T&, Args&& ...) [with Args = {MyCustom*&, MyCustom*&, MyCustom*&, MyCustom*&, MyCustom*&}; T = MyCustom*; Test<T>::CIt = panda::IntrusiveChainIterator<MyCustom*>]’
   39 |     static void check_content (CIt begin, CIt end, const T& v, Args&&... rest) {
      |                                           ~~~~^~~
c++ -c  -Isrc -I/home/sand/src/perl/repoperls/installed-perls/host/k93msid/v5.28.1/1e0c/lib/site_perl/5.28.1/XS/Install.x/i -I/home/sand/src/perl/repoperls/installed-perls/host/k93msid/v5.28.1/1e0c/lib/site_perl/5.28.1/CPP/catch.x/i -D_REENTRANT -D_GNU_SOURCE -fwrapv -fno-strict-aliasing -pipe -fstack-protector-strong -I/usr/local/include -D_LARGEFILE_SOURCE -D_FILE_OFFSET_BITS=64 -Wall -Wextra -std=c++14 -o t/iptr.o -g -O0   -DVERSION=\"0.0.0\" -DXS_VERSION=\"0.0.0\" -fPIC "-I/home/sand/src/perl/repoperls/installed-perls/host/k93msid/v5.28.1/1e0c/lib/5.28.1/x86_64-linux-thread-multi/CORE"   t/iptr.cc
c++ -c  -Isrc -I/home/sand/src/perl/repoperls/installed-perls/host/k93msid/v5.28.1/1e0c/lib/site_perl/5.28.1/XS/Install.x/i -I/home/sand/src/perl/repoperls/installed-perls/host/k93msid/v5.28.1/1e0c/lib/site_perl/5.28.1/CPP/catch.x/i -D_REENTRANT -D_GNU_SOURCE -fwrapv -fno-strict-aliasing -pipe -fstack-protector-strong -I/usr/local/include -D_LARGEFILE_SOURCE -D_FILE_OFFSET_BITS=64 -Wall -Wextra -std=c++14 -o t/owning_list.o -g -O0   -DVERSION=\"0.0.0\" -DXS_VERSION=\"0.0.0\" -fPIC "-I/home/sand/src/perl/repoperls/installed-perls/host/k93msid/v5.28.1/1e0c/lib/5.28.1/x86_64-linux-thread-multi/CORE"   t/owning_list.cc
c++ -c  -Isrc -I/home/sand/src/perl/repoperls/installed-perls/host/k93msid/v5.28.1/1e0c/lib/site_perl/5.28.1/XS/Install.x/i -I/home/sand/src/perl/repoperls/installed-perls/host/k93msid/v5.28.1/1e0c/lib/site_perl/5.28.1/CPP/catch.x/i -D_REENTRANT -D_GNU_SOURCE -fwrapv -fno-strict-aliasing -pipe -fstack-protector-strong -I/usr/local/include -D_LARGEFILE_SOURCE -D_FILE_OFFSET_BITS=64 -Wall -Wextra -std=c++14 -o t/string_char.o -g -O0   -DVERSION=\"0.0.0\" -DXS_VERSION=\"0.0.0\" -fPIC "-I/home/sand/src/perl/repoperls/installed-perls/host/k93msid/v5.28.1/1e0c/lib/5.28.1/x86_64-linux-thread-multi/CORE"   t/string_char.cc
c++ -c  -Isrc -I/home/sand/src/perl/repoperls/installed-perls/host/k93msid/v5.28.1/1e0c/lib/site_perl/5.28.1/XS/Install.x/i -I/home/sand/src/perl/repoperls/installed-perls/host/k93msid/v5.28.1/1e0c/lib/site_perl/5.28.1/CPP/catch.x/i -D_REENTRANT -D_GNU_SOURCE -fwrapv -fno-strict-aliasing -pipe -fstack-protector-strong -I/usr/local/include -D_LARGEFILE_SOURCE -D_FILE_OFFSET_BITS=64 -Wall -Wextra -std=c++14 -o t/string_char16.o -g -O0   -DVERSION=\"0.0.0\" -DXS_VERSION=\"0.0.0\" -fPIC "-I/home/sand/src/perl/repoperls/installed-perls/host/k93msid/v5.28.1/1e0c/lib/5.28.1/x86_64-linux-thread-multi/CORE"   t/string_char16.cc
c++ -c  -Isrc -I/home/sand/src/perl/repoperls/installed-perls/host/k93msid/v5.28.1/1e0c/lib/site_perl/5.28.1/XS/Install.x/i -I/home/sand/src/perl/repoperls/installed-perls/host/k93msid/v5.28.1/1e0c/lib/site_perl/5.28.1/CPP/catch.x/i -D_REENTRANT -D_GNU_SOURCE -fwrapv -fno-strict-aliasing -pipe -fstack-protector-strong -I/usr/local/include -D_LARGEFILE_SOURCE -D_FILE_OFFSET_BITS=64 -Wall -Wextra -std=c++14 -o t/string_char32.o -g -O0   -DVERSION=\"0.0.0\" -DXS_VERSION=\"0.0.0\" -fPIC "-I/home/sand/src/perl/repoperls/installed-perls/host/k93msid/v5.28.1/1e0c/lib/5.28.1/x86_64-linux-thread-multi/CORE"   t/string_char32.cc
c++ -c  -Isrc -I/home/sand/src/perl/repoperls/installed-perls/host/k93msid/v5.28.1/1e0c/lib/site_perl/5.28.1/XS/Install.x/i -I/home/sand/src/perl/repoperls/installed-perls/host/k93msid/v5.28.1/1e0c/lib/site_perl/5.28.1/CPP/catch.x/i -D_REENTRANT -D_GNU_SOURCE -fwrapv -fno-strict-aliasing -pipe -fstack-protector-strong -I/usr/local/include -D_LARGEFILE_SOURCE -D_FILE_OFFSET_BITS=64 -Wall -Wextra -std=c++14 -o t/string_containers.o -g -O0   -DVERSION=\"0.0.0\" -DXS_VERSION=\"0.0.0\" -fPIC "-I/home/sand/src/perl/repoperls/installed-perls/host/k93msid/v5.28.1/1e0c/lib/5.28.1/x86_64-linux-thread-multi/CORE"   t/string_containers.cc
c++ -c  -Isrc -I/home/sand/src/perl/repoperls/installed-perls/host/k93msid/v5.28.1/1e0c/lib/site_perl/5.28.1/XS/Install.x/i -I/home/sand/src/perl/repoperls/installed-perls/host/k93msid/v5.28.1/1e0c/lib/site_perl/5.28.1/CPP/catch.x/i -D_REENTRANT -D_GNU_SOURCE -fwrapv -fno-strict-aliasing -pipe -fstack-protector-strong -I/usr/local/include -D_LARGEFILE_SOURCE -D_FILE_OFFSET_BITS=64 -Wall -Wextra -std=c++14 -o t/string_wchar.o -g -O0   -DVERSION=\"0.0.0\" -DXS_VERSION=\"0.0.0\" -fPIC "-I/home/sand/src/perl/repoperls/installed-perls/host/k93msid/v5.28.1/1e0c/lib/5.28.1/x86_64-linux-thread-multi/CORE"   t/string_wchar.cc
c++ -c  -Isrc -I/home/sand/src/perl/repoperls/installed-perls/host/k93msid/v5.28.1/1e0c/lib/site_perl/5.28.1/XS/Install.x/i -I/home/sand/src/perl/repoperls/installed-perls/host/k93msid/v5.28.1/1e0c/lib/site_perl/5.28.1/CPP/catch.x/i -D_REENTRANT -D_GNU_SOURCE -fwrapv -fno-strict-aliasing -pipe -fstack-protector-strong -I/usr/local/include -D_LARGEFILE_SOURCE -D_FILE_OFFSET_BITS=64 -Wall -Wextra -std=c++14 -o t/test.o -g -O0   -DVERSION=\"0.0.0\" -DXS_VERSION=\"0.0.0\" -fPIC "-I/home/sand/src/perl/repoperls/installed-perls/host/k93msid/v5.28.1/1e0c/lib/5.28.1/x86_64-linux-thread-multi/CORE"   t/test.cc
c++ -c  -Isrc -I/home/sand/src/perl/repoperls/installed-perls/host/k93msid/v5.28.1/1e0c/lib/site_perl/5.28.1/XS/Install.x/i -I/home/sand/src/perl/repoperls/installed-perls/host/k93msid/v5.28.1/1e0c/lib/site_perl/5.28.1/CPP/catch.x/i -D_REENTRANT -D_GNU_SOURCE -fwrapv -fno-strict-aliasing -pipe -fstack-protector-strong -I/usr/local/include -D_LARGEFILE_SOURCE -D_FILE_OFFSET_BITS=64 -Wall -Wextra -std=c++14 -o t/to_chars.o -g -O0   -DVERSION=\"0.0.0\" -DXS_VERSION=\"0.0.0\" -fPIC "-I/home/sand/src/perl/repoperls/installed-perls/host/k93msid/v5.28.1/1e0c/lib/5.28.1/x86_64-linux-thread-multi/CORE"   t/to_chars.cc
c++ -c  -Isrc -I/home/sand/src/perl/repoperls/installed-perls/host/k93msid/v5.28.1/1e0c/lib/site_perl/5.28.1/XS/Install.x/i -I/home/sand/src/perl/repoperls/installed-perls/host/k93msid/v5.28.1/1e0c/lib/site_perl/5.28.1/CPP/catch.x/i -D_REENTRANT -D_GNU_SOURCE -fwrapv -fno-strict-aliasing -pipe -fstack-protector-strong -I/usr/local/include -D_LARGEFILE_SOURCE -D_FILE_OFFSET_BITS=64 -Wall -Wextra -std=c++14 -o t/traits.o -g -O0   -DVERSION=\"0.0.0\" -DXS_VERSION=\"0.0.0\" -fPIC "-I/home/sand/src/perl/repoperls/installed-perls/host/k93msid/v5.28.1/1e0c/lib/5.28.1/x86_64-linux-thread-multi/CORE"   t/traits.cc
c++ -c  -Isrc -I/home/sand/src/perl/repoperls/installed-perls/host/k93msid/v5.28.1/1e0c/lib/site_perl/5.28.1/XS/Install.x/i -I/home/sand/src/perl/repoperls/installed-perls/host/k93msid/v5.28.1/1e0c/lib/site_perl/5.28.1/CPP/catch.x/i -D_REENTRANT -D_GNU_SOURCE -fwrapv -fno-strict-aliasing -pipe -fstack-protector-strong -I/usr/local/include -D_LARGEFILE_SOURCE -D_FILE_OFFSET_BITS=64 -Wall -Wextra -std=c++14 -o t/varint.o -g -O0   -DVERSION=\"0.0.0\" -DXS_VERSION=\"0.0.0\" -fPIC "-I/home/sand/src/perl/repoperls/installed-perls/host/k93msid/v5.28.1/1e0c/lib/5.28.1/x86_64-linux-thread-multi/CORE"   t/varint.cc
Running Mkbootstrap for MyTest ()
chmod 644 "MyTest.bs"
"/home/sand/src/perl/repoperls/installed-perls/host/k93msid/v5.28.1/1e0c/bin/perl" -MExtUtils::Command::MM -e 'cp_nonempty' -- MyTest.bs blib/arch/auto/MyTest/MyTest.bs 644
rm -f blib/arch/auto/MyTest/MyTest.so
c++  -shared -O2 -g -L/usr/local/lib -fstack-protector-strong  t/bench.o t/dispatcher.o t/endian.o t/error.o t/excepted.o t/exception.o t/from_chars.o t/function.o t/intrusive_chain.o t/iptr.o t/owning_list.o t/string_char.o t/string_char16.o t/string_char32.o t/string_containers.o t/string_wchar.o t/test.o t/to_chars.o t/traits.o t/varint.o blib/arch/auto/CPP/panda/lib/lib.so  -o blib/arch/auto/MyTest/MyTest.so  \
      \
  
chmod 755 blib/arch/auto/MyTest/MyTest.so
Manifying 1 pod document
PERL_DL_NONLAZY=1 "/home/sand/src/perl/repoperls/installed-perls/host/k93msid/v5.28.1/1e0c/bin/perl" "-MExtUtils::Command::MM" "-MTest::Harness" "-e" "undef *Test::Harness::Switches; test_harness(0, 'blib/lib', 'blib/arch')" t/*.t
t/dispatcher.t ......... ok
t/endian.t ............. ok
t/error.t .............. ok
t/excepted.t ........... ok
t/exception.t .......... skipped: set TEST_FULL=1 to enable this test
t/from_chars.t ......... ok
t/function.t ........... ok
t/intrusive_chain.t .... ok
t/iptr.t ............... ok
t/owning_list.t ........ ok
t/string_char.t ........ ok
t/string_char16.t ...... ok
t/string_char32.t ...... ok
t/string_containers.t .. ok
t/string_wchar.t ....... ok
t/to_chars.t ........... ok
t/traits.t ............. ok
t/varint.t ............. ok
All tests successful.
Files=18, Tests=103,  5 wallclock secs ( 0.75 usr  0.05 sys +  1.49 cusr  0.48 csys =  2.77 CPU)
Result: PASS

------------------------------
PREREQUISITES
------------------------------

Prerequisite modules loaded:

requires:

    Module       Need     Have    
    ------------ -------- --------
    perl         5.012000 5.028001
    XS::Install  v1.2.12  1.2.12  

build_requires:

    Module       Need     Have    
    ------------ -------- --------
    CPP::catch   v1.0.8   1.0.8   
    Test::Catch  v1.0.10  1.0.10  
    Test::Deep   0        1.128   
    Test::More   0        1.302170
    Test::Simple 0.96     1.302170

configure_requires:

    Module       Need     Have    
    ------------ -------- --------
    CPP::catch   v1.0.8   1.0.8   
    Test::Catch  v1.0.10  1.0.10  
    XS::Install  v1.2.12  1.2.12  


------------------------------
ENVIRONMENT AND OTHER CONTEXT
------------------------------

Environment variables:

    AUTOMATED_TESTING = 1
    LANG = en_US.UTF-8
    PATH = /home/sand/bin:/usr/local/bin:/usr/bin:/bin:/usr/games:/usr/local/perl/bin:/usr/X11/bin:/sbin:/usr/sbin
    PERL5LIB = 
    PERL5OPT = 
    PERL5_CPANPLUS_IS_RUNNING = 3455676
    PERL5_CPAN_IS_RUNNING = 3455676
    PERL_CANARY_STABILITY_NOPROMPT = 1
    PERL_MM_USE_DEFAULT = 1
    PERL_USE_UNSAFE_INC = 1
    SHELL = /usr/bin/zsh
    TERM = screen

Perl special variables (and OS-specific diagnostics, for MSWin32):

    $^X = /home/sand/src/perl/repoperls/installed-perls/host/k93msid/v5.28.1/1e0c/bin/perl
    $UID/$EUID = 1005 / 1005
    $GID = 1005 1005
    $EGID = 1005 1005

Perl module toolchain versions installed:

    Module              Have    
    ------------------- --------
    CPAN                2.27    
    CPAN::Meta          2.150010
    Cwd                 3.75    
    ExtUtils::CBuilder  0.280231
    ExtUtils::Command   7.42    
    ExtUtils::Install   2.14    
    ExtUtils::MakeMaker 7.42    
    ExtUtils::Manifest  1.70    
    ExtUtils::ParseXS   3.39    
    File::Spec          3.75    
    JSON                4.02    
    JSON::PP            2.97001 
    Module::Build       0.4229  
    Module::Signature   0.83    
    Parse::CPAN::Meta   2.150010
    Test::Harness       3.42    
    Test::More          1.302170
    YAML                1.29    
    YAML::Syck          1.31    
    version             0.9924  


--

Summary of my perl5 (revision 5 version 28 subversion 1) configuration:
  Derived from: 63afdf6c0f65af480aa5bb9ccba9f46dae52f6fc
  Platform:
    osname=linux
    osvers=5.3.0-2-amd64
    archname=x86_64-linux-thread-multi
    uname='linux k93msid 5.3.0-2-amd64 #1 smp debian 5.3.9-3 (2019-11-19) x86_64 gnulinux '
    config_args='-Dprefix=/home/sand/src/perl/repoperls/installed-perls/host/k93msid/v5.28.1/1e0c -Dmyhostname=k93msid -Dinstallusrbinperl=n -Uversiononly -Dusedevel -des -Ui_db -Dlibswanted=cl pthread socket inet nsl gdbm dbm malloc dl ld sun m crypt sec util c cposix posix ucb BSD gdbm_compat -Duseithreads -Uuselongdouble -DEBUGGING=-g'
    hint=recommended
    useposix=true
    d_sigaction=define
    useithreads=define
    usemultiplicity=define
    use64bitint=define
    use64bitall=define
    uselongdouble=undef
    usemymalloc=n
    default_inc_excludes_dot=define
    bincompat5005=undef
  Compiler:
    cc='cc'
    ccflags ='-D_REENTRANT -D_GNU_SOURCE -fwrapv -fno-strict-aliasing -pipe -fstack-protector-strong -I/usr/local/include -D_LARGEFILE_SOURCE -D_FILE_OFFSET_BITS=64'
    optimize='-O2 -g'
    cppflags='-D_REENTRANT -D_GNU_SOURCE -fwrapv -fno-strict-aliasing -pipe -fstack-protector-strong -I/usr/local/include'
    ccversion=''
    gccversion='9.2.1 20191109'
    gccosandvers=''
    intsize=4
    longsize=8
    ptrsize=8
    doublesize=8
    byteorder=12345678
    doublekind=3
    d_longlong=define
    longlongsize=8
    d_longdbl=define
    longdblsize=16
    longdblkind=3
    ivtype='long'
    ivsize=8
    nvtype='double'
    nvsize=8
    Off_t='off_t'
    lseeksize=8
    alignbytes=8
    prototype=define
  Linker and Libraries:
    ld='cc'
    ldflags =' -fstack-protector-strong -L/usr/local/lib'
    libpth=/usr/local/lib /usr/lib/gcc/x86_64-linux-gnu/9/include-fixed /usr/include/x86_64-linux-gnu /usr/lib /lib/x86_64-linux-gnu /lib/../lib /usr/lib/x86_64-linux-gnu /usr/lib/../lib /lib
    libs=-lpthread -lnsl -ldl -lm -lcrypt -lutil -lc
    perllibs=-lpthread -lnsl -ldl -lm -lcrypt -lutil -lc
    libc=libc-2.29.so
    so=so
    useshrplib=false
    libperl=libperl.a
    gnulibc_version='2.29'
  Dynamic Linking:
    dlsrc=dl_dlopen.xs
    dlext=so
    d_dlsymun=undef
    ccdlflags='-Wl,-E'
    cccdlflags='-fPIC'
    lddlflags='-shared -O2 -g -L/usr/local/lib -fstack-protector-strong'


Characteristics of this binary (from libperl): 
  Compile-time options:
    HAS_TIMES
    MULTIPLICITY
    PERLIO_LAYERS
    PERL_COPY_ON_WRITE
    PERL_DONT_CREATE_GVSV
    PERL_IMPLICIT_CONTEXT
    PERL_MALLOC_WRAP
    PERL_OP_PARENT
    PERL_PRESERVE_IVUV
    PERL_USE_DEVEL
    USE_64_BIT_ALL
    USE_64_BIT_INT
    USE_ITHREADS
    USE_LARGE_FILES
    USE_LOCALE
    USE_LOCALE_COLLATE
    USE_LOCALE_CTYPE
    USE_LOCALE_NUMERIC
    USE_LOCALE_TIME
    USE_PERLIO
    USE_PERL_ATOF
    USE_REENTRANT_API
  Locally applied patches:
    uncommitted-changes
  Built under linux
  Compiled at Nov 24 2019 20:48:46
  %ENV:
    PERL5LIB=""
    PERL5OPT=""
    PERL5_CPANPLUS_IS_RUNNING="3455676"
    PERL5_CPAN_IS_RUNNING="3455676"
    PERL_CANARY_STABILITY_NOPROMPT="1"
    PERL_MM_USE_DEFAULT="1"
    PERL_USE_UNSAFE_INC="1"
  @INC:
    /home/sand/src/perl/repoperls/installed-perls/host/k93msid/v5.28.1/1e0c/lib/site_perl/5.28.1/x86_64-linux-thread-multi
    /home/sand/src/perl/repoperls/installed-perls/host/k93msid/v5.28.1/1e0c/lib/site_perl/5.28.1
    /home/sand/src/perl/repoperls/installed-perls/host/k93msid/v5.28.1/1e0c/lib/5.28.1/x86_64-linux-thread-multi
    /home/sand/src/perl/repoperls/installed-perls/host/k93msid/v5.28.1/1e0c/lib/5.28.1
    .