AnyEvent-Net-Curl-Queued v0.049 Perl 5 v5.37.11 x86_64-linux-ld

Status
Pass
From
Andreas J. König (ANDK)
Dist
AnyEvent-Net-Curl-Queued v0.049
Platform
Perl 5 v5.37.11 x86_64-linux-ld
Date
2023-04-30 22:16:35
ID
abb799b4-e7a4-11ed-ae10-dc39cbf35b9c
This distribution has been tested as part of the CPAN Testers
project, supporting the Perl programming language.  See
http://wiki.cpantesters.org/ for more information or email
questions to cpan-testers-discuss@perl.org


--
Dear Stanislaw Pusep,

This is a computer-generated report for AnyEvent-Net-Curl-Queued-0.049
on perl 5.37.11, created by CPAN-Reporter-1.2018.

Thank you for uploading your work to CPAN.  Congratulations!
All tests were successful.

Sections of this report:

    * Tester comments
    * Program output
    * Prerequisites
    * Environment and other context

------------------------------
TESTER COMMENTS
------------------------------

Additional comments from tester:

this report is from an automated smoke testing program
and was not reviewed by a human for accuracy

------------------------------
PROGRAM OUTPUT
------------------------------

Output from '/usr/bin/make test':

PERL_DL_NONLAZY=1 "/tmp/basesmoker-reloperl-9NH6/bin/perl" "-MExtUtils::Command::MM" "-MTest::Harness" "-e" "undef *Test::Harness::Switches; test_harness(0, 'blib/lib', 'blib/arch')" t/*.t
when is deprecated at /tmp/loop_over_bdir-1128535-bh7ZiA/AnyEvent-Net-Curl-Queued-0.049-0/blib/lib/AnyEvent/Net/Curl/Queued/Easy.pm line 374.
when is deprecated at /tmp/loop_over_bdir-1128535-bh7ZiA/AnyEvent-Net-Curl-Queued-0.049-0/blib/lib/AnyEvent/Net/Curl/Queued/Easy.pm line 382.
when is deprecated at /tmp/loop_over_bdir-1128535-bh7ZiA/AnyEvent-Net-Curl-Queued-0.049-0/blib/lib/AnyEvent/Net/Curl/Queued/Easy.pm line 399.
when is deprecated at /tmp/loop_over_bdir-1128535-bh7ZiA/AnyEvent-Net-Curl-Queued-0.049-0/blib/lib/AnyEvent/Net/Curl/Queued/Easy.pm line 374.
when is deprecated at /tmp/loop_over_bdir-1128535-bh7ZiA/AnyEvent-Net-Curl-Queued-0.049-0/blib/lib/AnyEvent/Net/Curl/Queued/Easy.pm line 382.
when is deprecated at /tmp/loop_over_bdir-1128535-bh7ZiA/AnyEvent-Net-Curl-Queued-0.049-0/blib/lib/AnyEvent/Net/Curl/Queued/Easy.pm line 399.
when is deprecated at /tmp/loop_over_bdir-1128535-bh7ZiA/AnyEvent-Net-Curl-Queued-0.049-0/blib/lib/YADA.pm line 55.
when is deprecated at /tmp/loop_over_bdir-1128535-bh7ZiA/AnyEvent-Net-Curl-Queued-0.049-0/blib/lib/YADA.pm line 57.
when is deprecated at /tmp/loop_over_bdir-1128535-bh7ZiA/AnyEvent-Net-Curl-Queued-0.049-0/blib/lib/YADA.pm line 59.
when is deprecated at /tmp/loop_over_bdir-1128535-bh7ZiA/AnyEvent-Net-Curl-Queued-0.049-0/blib/lib/YADA.pm line 65.
when is deprecated at /tmp/loop_over_bdir-1128535-bh7ZiA/AnyEvent-Net-Curl-Queued-0.049-0/blib/lib/AnyEvent/Net/Curl/Queued/Easy.pm line 374.
when is deprecated at /tmp/loop_over_bdir-1128535-bh7ZiA/AnyEvent-Net-Curl-Queued-0.049-0/blib/lib/AnyEvent/Net/Curl/Queued/Easy.pm line 382.
when is deprecated at /tmp/loop_over_bdir-1128535-bh7ZiA/AnyEvent-Net-Curl-Queued-0.049-0/blib/lib/AnyEvent/Net/Curl/Queued/Easy.pm line 399.
t/00-compile.t ................. ok
# AnyEvent::Net::Curl::Queued v0.049
# Net::Curl v0.52
# AnyEvent v7.17 (AnyEvent::Impl::EV)
# Perl 5.037011 (/tmp/basesmoker-reloperl-9NH6/bin/perl)
# Net::Curl::version():
# 	libcurl/7.81.0 GnuTLS/3.7.3 zlib/1.2.11 brotli/1.0.9 zstd/1.4.8 libidn2/2.3.2 libpsl/0.21.0 (+libidn2/2.3.2) libssh/0.9.6/openssl/zlib nghttp2/1.43.0 librtmp/2.3 OpenLDAP/2.5.14
# Net::Curl::version_info():
# 	{age} = 9;
# 	{ares_num} = 0;
# 	{features} = 
# 		| CURL_VERSION_IPV6 (1<<0)
# 		| CURL_VERSION_SSL (1<<2)
# 		| CURL_VERSION_LIBZ (1<<3)
# 		| CURL_VERSION_NTLM (1<<4)
# 		| CURL_VERSION_ASYNCHDNS (1<<7)
# 		| CURL_VERSION_SPNEGO (1<<8)
# 		| CURL_VERSION_LARGEFILE (1<<9)
# 		| CURL_VERSION_IDN (1<<10)
# 		| CURL_VERSION_TLSAUTH_SRP (1<<14)
# 		| CURL_VERSION_NTLM_WB (1<<15)
# 		| CURL_VERSION_HTTP2 (1<<16)
# 		| CURL_VERSION_GSSAPI (1<<17)
# 		| CURL_VERSION_KERBEROS5 (1<<18)
# 		| CURL_VERSION_UNIX_SOCKETS (1<<19)
# 		| CURL_VERSION_PSL (1<<20)
# 		| CURL_VERSION_HTTPS_PROXY (1<<21)
# 		| CURL_VERSION_BROTLI (1<<23)
# 		| CURL_VERSION_ALTSVC (1<<24)
# 		| CURL_VERSION_ZSTD (1<<26)
# 		| CURL_VERSION_HSTS (1<<28);
# 	missing features = 
# 		| CURL_VERSION_KERBEROS4 (1<<1)
# 		| CURL_VERSION_GSSNEGOTIATE (1<<5)
# 		| CURL_VERSION_DEBUG (1<<6)
# 		| CURL_VERSION_SSPI (1<<11)
# 		| CURL_VERSION_CONV (1<<12)
# 		| CURL_VERSION_CURLDEBUG (1<<13)
# 		| CURL_VERSION_MULTI_SSL (1<<22)
# 		| CURL_VERSION_HTTP3 (1<<25)
# 		| CURL_VERSION_UNICODE (1<<27)
# 		| CURL_VERSION_GSASL (1<<29);
# 	{host} = 'x86_64-pc-linux-gnu';
# 	{iconv_ver_num} = 0;
# 	{libidn} = '2.3.2';
# 	{libssh_version} = 'libssh/0.9.6/openssl/zlib';
# 	{libz_version} = '1.2.11';
# 	{protocols} = dict, file, ftp, ftps, gopher, gophers, http, https, imap, imaps, ldap, ldaps, mqtt, pop3, pop3s, rtmp, rtsp, scp, sftp, smb, smbs, smtp, smtps, telnet, tftp;
# 	{ssl_version} = 'GnuTLS/3.7.3';
# 	{ssl_version_num} = 0;
# 	{version} = '7.81.0';
# 	{version_num} = 0x075100;
t/00-load.t .................... ok
given is deprecated at inc/Test/HTTP/AnyEvent/Server.pm line 75.
when is deprecated at inc/Test/HTTP/AnyEvent/Server.pm line 76.
when is deprecated at inc/Test/HTTP/AnyEvent/Server.pm line 79.
when is deprecated at inc/Test/HTTP/AnyEvent/Server.pm line 242.
when is deprecated at inc/Test/HTTP/AnyEvent/Server.pm line 244.
when is deprecated at inc/Test/HTTP/AnyEvent/Server.pm line 252.
when is deprecated at inc/Test/HTTP/AnyEvent/Server.pm line 254.
when is deprecated at /tmp/loop_over_bdir-1128535-bh7ZiA/AnyEvent-Net-Curl-Queued-0.049-0/blib/lib/AnyEvent/Net/Curl/Queued/Easy.pm line 374.
when is deprecated at /tmp/loop_over_bdir-1128535-bh7ZiA/AnyEvent-Net-Curl-Queued-0.049-0/blib/lib/AnyEvent/Net/Curl/Queued/Easy.pm line 382.
when is deprecated at /tmp/loop_over_bdir-1128535-bh7ZiA/AnyEvent-Net-Curl-Queued-0.049-0/blib/lib/AnyEvent/Net/Curl/Queued/Easy.pm line 399.
t/01-net-curl-compatibility.t .. ok
t/02-const.t ................... ok
t/10-stats.t ................... ok
given is deprecated at inc/Test/HTTP/AnyEvent/Server.pm line 75.
when is deprecated at inc/Test/HTTP/AnyEvent/Server.pm line 76.
when is deprecated at inc/Test/HTTP/AnyEvent/Server.pm line 79.
when is deprecated at inc/Test/HTTP/AnyEvent/Server.pm line 242.
when is deprecated at inc/Test/HTTP/AnyEvent/Server.pm line 244.
when is deprecated at inc/Test/HTTP/AnyEvent/Server.pm line 252.
when is deprecated at inc/Test/HTTP/AnyEvent/Server.pm line 254.
when is deprecated at /tmp/loop_over_bdir-1128535-bh7ZiA/AnyEvent-Net-Curl-Queued-0.049-0/blib/lib/AnyEvent/Net/Curl/Queued/Easy.pm line 374.
when is deprecated at /tmp/loop_over_bdir-1128535-bh7ZiA/AnyEvent-Net-Curl-Queued-0.049-0/blib/lib/AnyEvent/Net/Curl/Queued/Easy.pm line 382.
when is deprecated at /tmp/loop_over_bdir-1128535-bh7ZiA/AnyEvent-Net-Curl-Queued-0.049-0/blib/lib/AnyEvent/Net/Curl/Queued/Easy.pm line 399.
t/20-easy.t .................... ok
when is deprecated at /tmp/loop_over_bdir-1128535-bh7ZiA/AnyEvent-Net-Curl-Queued-0.049-0/blib/lib/AnyEvent/Net/Curl/Queued/Easy.pm line 374.
when is deprecated at /tmp/loop_over_bdir-1128535-bh7ZiA/AnyEvent-Net-Curl-Queued-0.049-0/blib/lib/AnyEvent/Net/Curl/Queued/Easy.pm line 382.
when is deprecated at /tmp/loop_over_bdir-1128535-bh7ZiA/AnyEvent-Net-Curl-Queued-0.049-0/blib/lib/AnyEvent/Net/Curl/Queued/Easy.pm line 399.
given is deprecated at inc/Test/HTTP/AnyEvent/Server.pm line 75.
when is deprecated at inc/Test/HTTP/AnyEvent/Server.pm line 76.
when is deprecated at inc/Test/HTTP/AnyEvent/Server.pm line 79.
when is deprecated at inc/Test/HTTP/AnyEvent/Server.pm line 242.
when is deprecated at inc/Test/HTTP/AnyEvent/Server.pm line 244.
when is deprecated at inc/Test/HTTP/AnyEvent/Server.pm line 252.
when is deprecated at inc/Test/HTTP/AnyEvent/Server.pm line 254.
# setopt()/getinfo() are *forced* to fail so warnings are OK here!
Specify at least one OPTION/VALUE pair! at t/21-easy-bulk-getset.t line 48.
setopt() expects OPTION/VALUE pair, OPTION/VALUE hash or hashref! at t/21-easy-bulk-getset.t line 49.
Use of uninitialized value in numeric eq (==) at t/21-easy-bulk-getset.t line 51.
Invalid libcurl constant: CURLINFO_INVALIDNAME at /tmp/loop_over_bdir-1128535-bh7ZiA/AnyEvent-Net-Curl-Queued-0.049-0/blib/lib/AnyEvent/Net/Curl/Queued/Easy.pm line 385.
getinfo() expects array/hash reference or string! at t/21-easy-bulk-getset.t line 98.
t/21-easy-bulk-getset.t ........ ok
when is deprecated at /tmp/loop_over_bdir-1128535-bh7ZiA/AnyEvent-Net-Curl-Queued-0.049-0/blib/lib/AnyEvent/Net/Curl/Queued/Easy.pm line 374.
when is deprecated at /tmp/loop_over_bdir-1128535-bh7ZiA/AnyEvent-Net-Curl-Queued-0.049-0/blib/lib/AnyEvent/Net/Curl/Queued/Easy.pm line 382.
when is deprecated at /tmp/loop_over_bdir-1128535-bh7ZiA/AnyEvent-Net-Curl-Queued-0.049-0/blib/lib/AnyEvent/Net/Curl/Queued/Easy.pm line 399.
given is deprecated at inc/Test/HTTP/AnyEvent/Server.pm line 75.
when is deprecated at inc/Test/HTTP/AnyEvent/Server.pm line 76.
when is deprecated at inc/Test/HTTP/AnyEvent/Server.pm line 79.
when is deprecated at inc/Test/HTTP/AnyEvent/Server.pm line 242.
when is deprecated at inc/Test/HTTP/AnyEvent/Server.pm line 244.
when is deprecated at inc/Test/HTTP/AnyEvent/Server.pm line 252.
when is deprecated at inc/Test/HTTP/AnyEvent/Server.pm line 254.
t/30-queued-single.t ........... ok
when is deprecated at /tmp/loop_over_bdir-1128535-bh7ZiA/AnyEvent-Net-Curl-Queued-0.049-0/blib/lib/AnyEvent/Net/Curl/Queued/Easy.pm line 374.
when is deprecated at /tmp/loop_over_bdir-1128535-bh7ZiA/AnyEvent-Net-Curl-Queued-0.049-0/blib/lib/AnyEvent/Net/Curl/Queued/Easy.pm line 382.
when is deprecated at /tmp/loop_over_bdir-1128535-bh7ZiA/AnyEvent-Net-Curl-Queued-0.049-0/blib/lib/AnyEvent/Net/Curl/Queued/Easy.pm line 399.
given is deprecated at inc/Test/HTTP/AnyEvent/Server.pm line 75.
when is deprecated at inc/Test/HTTP/AnyEvent/Server.pm line 76.
when is deprecated at inc/Test/HTTP/AnyEvent/Server.pm line 79.
when is deprecated at inc/Test/HTTP/AnyEvent/Server.pm line 242.
when is deprecated at inc/Test/HTTP/AnyEvent/Server.pm line 244.
when is deprecated at inc/Test/HTTP/AnyEvent/Server.pm line 252.
when is deprecated at inc/Test/HTTP/AnyEvent/Server.pm line 254.
t/31-queued.t .................. ok
given is deprecated at inc/Test/HTTP/AnyEvent/Server.pm line 75.
when is deprecated at inc/Test/HTTP/AnyEvent/Server.pm line 76.
when is deprecated at inc/Test/HTTP/AnyEvent/Server.pm line 79.
when is deprecated at inc/Test/HTTP/AnyEvent/Server.pm line 242.
when is deprecated at inc/Test/HTTP/AnyEvent/Server.pm line 244.
when is deprecated at inc/Test/HTTP/AnyEvent/Server.pm line 252.
when is deprecated at inc/Test/HTTP/AnyEvent/Server.pm line 254.
when is deprecated at /tmp/loop_over_bdir-1128535-bh7ZiA/AnyEvent-Net-Curl-Queued-0.049-0/blib/lib/AnyEvent/Net/Curl/Queued/Easy.pm line 374.
when is deprecated at /tmp/loop_over_bdir-1128535-bh7ZiA/AnyEvent-Net-Curl-Queued-0.049-0/blib/lib/AnyEvent/Net/Curl/Queued/Easy.pm line 382.
when is deprecated at /tmp/loop_over_bdir-1128535-bh7ZiA/AnyEvent-Net-Curl-Queued-0.049-0/blib/lib/AnyEvent/Net/Curl/Queued/Easy.pm line 399.
t/40-loopback.t ................ ok
when is deprecated at /tmp/loop_over_bdir-1128535-bh7ZiA/AnyEvent-Net-Curl-Queued-0.049-0/blib/lib/AnyEvent/Net/Curl/Queued/Easy.pm line 374.
when is deprecated at /tmp/loop_over_bdir-1128535-bh7ZiA/AnyEvent-Net-Curl-Queued-0.049-0/blib/lib/AnyEvent/Net/Curl/Queued/Easy.pm line 382.
when is deprecated at /tmp/loop_over_bdir-1128535-bh7ZiA/AnyEvent-Net-Curl-Queued-0.049-0/blib/lib/AnyEvent/Net/Curl/Queued/Easy.pm line 399.
given is deprecated at inc/Test/HTTP/AnyEvent/Server.pm line 75.
when is deprecated at inc/Test/HTTP/AnyEvent/Server.pm line 76.
when is deprecated at inc/Test/HTTP/AnyEvent/Server.pm line 79.
when is deprecated at inc/Test/HTTP/AnyEvent/Server.pm line 242.
when is deprecated at inc/Test/HTTP/AnyEvent/Server.pm line 244.
when is deprecated at inc/Test/HTTP/AnyEvent/Server.pm line 252.
when is deprecated at inc/Test/HTTP/AnyEvent/Server.pm line 254.
t/41-loopback-cb.t ............. ok
given is deprecated at inc/Test/HTTP/AnyEvent/Server.pm line 75.
when is deprecated at inc/Test/HTTP/AnyEvent/Server.pm line 76.
when is deprecated at inc/Test/HTTP/AnyEvent/Server.pm line 79.
when is deprecated at inc/Test/HTTP/AnyEvent/Server.pm line 242.
when is deprecated at inc/Test/HTTP/AnyEvent/Server.pm line 244.
when is deprecated at inc/Test/HTTP/AnyEvent/Server.pm line 252.
when is deprecated at inc/Test/HTTP/AnyEvent/Server.pm line 254.
when is deprecated at /tmp/loop_over_bdir-1128535-bh7ZiA/AnyEvent-Net-Curl-Queued-0.049-0/blib/lib/AnyEvent/Net/Curl/Queued/Easy.pm line 374.
when is deprecated at /tmp/loop_over_bdir-1128535-bh7ZiA/AnyEvent-Net-Curl-Queued-0.049-0/blib/lib/AnyEvent/Net/Curl/Queued/Easy.pm line 382.
when is deprecated at /tmp/loop_over_bdir-1128535-bh7ZiA/AnyEvent-Net-Curl-Queued-0.049-0/blib/lib/AnyEvent/Net/Curl/Queued/Easy.pm line 399.
t/42-loopback-retry.t .......... ok
when is deprecated at /tmp/loop_over_bdir-1128535-bh7ZiA/AnyEvent-Net-Curl-Queued-0.049-0/blib/lib/AnyEvent/Net/Curl/Queued/Easy.pm line 374.
when is deprecated at /tmp/loop_over_bdir-1128535-bh7ZiA/AnyEvent-Net-Curl-Queued-0.049-0/blib/lib/AnyEvent/Net/Curl/Queued/Easy.pm line 382.
when is deprecated at /tmp/loop_over_bdir-1128535-bh7ZiA/AnyEvent-Net-Curl-Queued-0.049-0/blib/lib/AnyEvent/Net/Curl/Queued/Easy.pm line 399.
when is deprecated at /tmp/loop_over_bdir-1128535-bh7ZiA/AnyEvent-Net-Curl-Queued-0.049-0/blib/lib/YADA.pm line 55.
when is deprecated at /tmp/loop_over_bdir-1128535-bh7ZiA/AnyEvent-Net-Curl-Queued-0.049-0/blib/lib/YADA.pm line 57.
when is deprecated at /tmp/loop_over_bdir-1128535-bh7ZiA/AnyEvent-Net-Curl-Queued-0.049-0/blib/lib/YADA.pm line 59.
when is deprecated at /tmp/loop_over_bdir-1128535-bh7ZiA/AnyEvent-Net-Curl-Queued-0.049-0/blib/lib/YADA.pm line 65.
given is deprecated at inc/Test/HTTP/AnyEvent/Server.pm line 75.
when is deprecated at inc/Test/HTTP/AnyEvent/Server.pm line 76.
when is deprecated at inc/Test/HTTP/AnyEvent/Server.pm line 79.
when is deprecated at inc/Test/HTTP/AnyEvent/Server.pm line 242.
when is deprecated at inc/Test/HTTP/AnyEvent/Server.pm line 244.
when is deprecated at inc/Test/HTTP/AnyEvent/Server.pm line 252.
when is deprecated at inc/Test/HTTP/AnyEvent/Server.pm line 254.
t/43-loopback-yada.t ........... ok
given is deprecated at inc/Test/HTTP/AnyEvent/Server.pm line 75.
when is deprecated at inc/Test/HTTP/AnyEvent/Server.pm line 76.
when is deprecated at inc/Test/HTTP/AnyEvent/Server.pm line 79.
when is deprecated at inc/Test/HTTP/AnyEvent/Server.pm line 242.
when is deprecated at inc/Test/HTTP/AnyEvent/Server.pm line 244.
when is deprecated at inc/Test/HTTP/AnyEvent/Server.pm line 252.
when is deprecated at inc/Test/HTTP/AnyEvent/Server.pm line 254.
when is deprecated at /tmp/loop_over_bdir-1128535-bh7ZiA/AnyEvent-Net-Curl-Queued-0.049-0/blib/lib/AnyEvent/Net/Curl/Queued/Easy.pm line 374.
when is deprecated at /tmp/loop_over_bdir-1128535-bh7ZiA/AnyEvent-Net-Curl-Queued-0.049-0/blib/lib/AnyEvent/Net/Curl/Queued/Easy.pm line 382.
when is deprecated at /tmp/loop_over_bdir-1128535-bh7ZiA/AnyEvent-Net-Curl-Queued-0.049-0/blib/lib/AnyEvent/Net/Curl/Queued/Easy.pm line 399.
when is deprecated at /tmp/loop_over_bdir-1128535-bh7ZiA/AnyEvent-Net-Curl-Queued-0.049-0/blib/lib/YADA.pm line 55.
when is deprecated at /tmp/loop_over_bdir-1128535-bh7ZiA/AnyEvent-Net-Curl-Queued-0.049-0/blib/lib/YADA.pm line 57.
when is deprecated at /tmp/loop_over_bdir-1128535-bh7ZiA/AnyEvent-Net-Curl-Queued-0.049-0/blib/lib/YADA.pm line 59.
when is deprecated at /tmp/loop_over_bdir-1128535-bh7ZiA/AnyEvent-Net-Curl-Queued-0.049-0/blib/lib/YADA.pm line 65.
t/44-yada-simple.t ............. ok
when is deprecated at /tmp/loop_over_bdir-1128535-bh7ZiA/AnyEvent-Net-Curl-Queued-0.049-0/blib/lib/AnyEvent/Net/Curl/Queued/Easy.pm line 374.
when is deprecated at /tmp/loop_over_bdir-1128535-bh7ZiA/AnyEvent-Net-Curl-Queued-0.049-0/blib/lib/AnyEvent/Net/Curl/Queued/Easy.pm line 382.
when is deprecated at /tmp/loop_over_bdir-1128535-bh7ZiA/AnyEvent-Net-Curl-Queued-0.049-0/blib/lib/AnyEvent/Net/Curl/Queued/Easy.pm line 399.
given is deprecated at inc/Test/HTTP/AnyEvent/Server.pm line 75.
when is deprecated at inc/Test/HTTP/AnyEvent/Server.pm line 76.
when is deprecated at inc/Test/HTTP/AnyEvent/Server.pm line 79.
when is deprecated at inc/Test/HTTP/AnyEvent/Server.pm line 242.
when is deprecated at inc/Test/HTTP/AnyEvent/Server.pm line 244.
when is deprecated at inc/Test/HTTP/AnyEvent/Server.pm line 252.
when is deprecated at inc/Test/HTTP/AnyEvent/Server.pm line 254.
t/50-recursion.t ............... ok
when is deprecated at /tmp/loop_over_bdir-1128535-bh7ZiA/AnyEvent-Net-Curl-Queued-0.049-0/blib/lib/AnyEvent/Net/Curl/Queued/Easy.pm line 374.
when is deprecated at /tmp/loop_over_bdir-1128535-bh7ZiA/AnyEvent-Net-Curl-Queued-0.049-0/blib/lib/AnyEvent/Net/Curl/Queued/Easy.pm line 382.
when is deprecated at /tmp/loop_over_bdir-1128535-bh7ZiA/AnyEvent-Net-Curl-Queued-0.049-0/blib/lib/AnyEvent/Net/Curl/Queued/Easy.pm line 399.
given is deprecated at inc/Test/HTTP/AnyEvent/Server.pm line 75.
when is deprecated at inc/Test/HTTP/AnyEvent/Server.pm line 76.
when is deprecated at inc/Test/HTTP/AnyEvent/Server.pm line 79.
when is deprecated at inc/Test/HTTP/AnyEvent/Server.pm line 242.
when is deprecated at inc/Test/HTTP/AnyEvent/Server.pm line 244.
when is deprecated at inc/Test/HTTP/AnyEvent/Server.pm line 252.
when is deprecated at inc/Test/HTTP/AnyEvent/Server.pm line 254.
t/60-cleanup.t ................. ok
when is deprecated at /tmp/loop_over_bdir-1128535-bh7ZiA/AnyEvent-Net-Curl-Queued-0.049-0/blib/lib/AnyEvent/Net/Curl/Queued/Easy.pm line 374.
when is deprecated at /tmp/loop_over_bdir-1128535-bh7ZiA/AnyEvent-Net-Curl-Queued-0.049-0/blib/lib/AnyEvent/Net/Curl/Queued/Easy.pm line 382.
when is deprecated at /tmp/loop_over_bdir-1128535-bh7ZiA/AnyEvent-Net-Curl-Queued-0.049-0/blib/lib/AnyEvent/Net/Curl/Queued/Easy.pm line 399.
given is deprecated at inc/Test/HTTP/AnyEvent/Server.pm line 75.
when is deprecated at inc/Test/HTTP/AnyEvent/Server.pm line 76.
when is deprecated at inc/Test/HTTP/AnyEvent/Server.pm line 79.
when is deprecated at inc/Test/HTTP/AnyEvent/Server.pm line 242.
when is deprecated at inc/Test/HTTP/AnyEvent/Server.pm line 244.
when is deprecated at inc/Test/HTTP/AnyEvent/Server.pm line 252.
when is deprecated at inc/Test/HTTP/AnyEvent/Server.pm line 254.
t/61-nest.t .................... ok
when is deprecated at /tmp/loop_over_bdir-1128535-bh7ZiA/AnyEvent-Net-Curl-Queued-0.049-0/blib/lib/AnyEvent/Net/Curl/Queued/Easy.pm line 374.
when is deprecated at /tmp/loop_over_bdir-1128535-bh7ZiA/AnyEvent-Net-Curl-Queued-0.049-0/blib/lib/AnyEvent/Net/Curl/Queued/Easy.pm line 382.
when is deprecated at /tmp/loop_over_bdir-1128535-bh7ZiA/AnyEvent-Net-Curl-Queued-0.049-0/blib/lib/AnyEvent/Net/Curl/Queued/Easy.pm line 399.
given is deprecated at inc/Test/HTTP/AnyEvent/Server.pm line 75.
when is deprecated at inc/Test/HTTP/AnyEvent/Server.pm line 76.
when is deprecated at inc/Test/HTTP/AnyEvent/Server.pm line 79.
when is deprecated at inc/Test/HTTP/AnyEvent/Server.pm line 242.
when is deprecated at inc/Test/HTTP/AnyEvent/Server.pm line 244.
when is deprecated at inc/Test/HTTP/AnyEvent/Server.pm line 252.
when is deprecated at inc/Test/HTTP/AnyEvent/Server.pm line 254.
t/70-timeout.t ................. ok
t/71-bad-address.t ............. skipped: these tests are for testing by the author
when is deprecated at /tmp/loop_over_bdir-1128535-bh7ZiA/AnyEvent-Net-Curl-Queued-0.049-0/blib/lib/AnyEvent/Net/Curl/Queued/Easy.pm line 374.
when is deprecated at /tmp/loop_over_bdir-1128535-bh7ZiA/AnyEvent-Net-Curl-Queued-0.049-0/blib/lib/AnyEvent/Net/Curl/Queued/Easy.pm line 382.
when is deprecated at /tmp/loop_over_bdir-1128535-bh7ZiA/AnyEvent-Net-Curl-Queued-0.049-0/blib/lib/AnyEvent/Net/Curl/Queued/Easy.pm line 399.
t/72-non-http.t ................ ok
t/73-cycle.t ................... skipped: these tests are for testing by the author
when is deprecated at /tmp/loop_over_bdir-1128535-bh7ZiA/AnyEvent-Net-Curl-Queued-0.049-0/blib/lib/AnyEvent/Net/Curl/Queued/Easy.pm line 374.
when is deprecated at /tmp/loop_over_bdir-1128535-bh7ZiA/AnyEvent-Net-Curl-Queued-0.049-0/blib/lib/AnyEvent/Net/Curl/Queued/Easy.pm line 382.
when is deprecated at /tmp/loop_over_bdir-1128535-bh7ZiA/AnyEvent-Net-Curl-Queued-0.049-0/blib/lib/AnyEvent/Net/Curl/Queued/Easy.pm line 399.
t/74-exception.t ............... ok
t/author-critic.t .............. skipped: these tests are for testing by the author
t/author-distmeta.t ............ skipped: these tests are for testing by the author
t/author-eol.t ................. skipped: these tests are for testing by the author
t/author-minimum-version.t ..... skipped: these tests are for testing by the author
t/author-mojibake.t ............ skipped: these tests are for testing by the author
t/author-no-tabs.t ............. skipped: these tests are for testing by the author
t/author-pod-coverage.t ........ skipped: these tests are for testing by the author
t/author-pod-linkcheck.t ....... skipped: these tests are for testing by the author
t/author-pod-syntax.t .......... skipped: these tests are for testing by the author
t/author-portability.t ......... skipped: these tests are for testing by the author
t/author-synopsis.t ............ skipped: these tests are for testing by the author
t/author-test-version.t ........ skipped: these tests are for testing by the author
t/release-cpan-changes.t ....... skipped: these tests are for release candidate testing
t/release-dist-manifest.t ...... skipped: these tests are for release candidate testing
t/release-kwalitee.t ........... skipped: these tests are for release candidate testing
t/release-unused-vars.t ........ skipped: these tests are for release candidate testing
All tests successful.
Files=38, Tests=2682, 23 wallclock secs ( 0.34 usr  0.08 sys +  4.62 cusr  1.22 csys =  6.26 CPU)
Result: PASS

------------------------------
PREREQUISITES
------------------------------

Prerequisite modules loaded:

requires:

    Module                 Need     Have    
    ---------------------- -------- --------
    AnyEvent               0        7.17    
    HTTP::Response         0        6.44    
    JSON                   0        4.10    
    Moo                    1.001000 2.005005
    MooX::Types::MooseLike 0.18     0.29    
    Net::Curl              0.25     0.52    
    perl                   5.010    5.037011
    URI                    0        5.17    

build_requires:

    Module                 Need     Have    
    ---------------------- -------- --------
    ExtUtils::MakeMaker    0        7.70    
    Test::Exception        0        0.43    
    Test::Warn             0        0.37    

opt_requires:

    Module                 Need     Have    
    ---------------------- -------- --------
    EV                     4.11     4.33    
    JSON::XS               0        4.03    


------------------------------
ENVIRONMENT AND OTHER CONTEXT
------------------------------

Environment variables:

    AUTOMATED_TESTING = 1
    LANG = en_US.UTF-8
    LC_ADDRESS = de_DE.UTF-8
    LC_IDENTIFICATION = de_DE.UTF-8
    LC_MEASUREMENT = de_DE.UTF-8
    LC_MONETARY = de_DE.UTF-8
    LC_NAME = de_DE.UTF-8
    LC_NUMERIC = de_DE.UTF-8
    LC_PAPER = de_DE.UTF-8
    LC_TELEPHONE = de_DE.UTF-8
    LC_TIME = de_DE.UTF-8
    PATH = /home/sand/bin:/usr/local/bin:/usr/local/sbin:/usr/sbin:/usr/bin:/sbin:/bin:/usr/games:/usr/local/games:/snap/bin:/usr/local/perl/bin:/usr/X11/bin
    PERL = /tmp/basesmoker-reloperl-9NH6/bin/perl
    PERL5LIB = /tmp/loop_over_bdir-1128535-bh7ZiA/downsexta-0/blib/arch:/tmp/loop_over_bdir-1128535-bh7ZiA/downsexta-0/blib/lib:/tmp/loop_over_bdir-1128535-bh7ZiA/LiquidWeb-Storm-CLI-1.03-0/blib/arch:/tmp/loop_over_bdir-1128535-bh7ZiA/LiquidWeb-Storm-CLI-1.03-0/blib/lib:/tmp/loop_over_bdir-1128535-bh7ZiA/LCFG-Build-Skeleton-0.5.0-0/blib/arch:/tmp/loop_over_bdir-1128535-bh7ZiA/LCFG-Build-Skeleton-0.5.0-0/blib/lib:/tmp/loop_over_bdir-1128535-bh7ZiA/OSDial-3.0.2.124-0/blib/arch:/tmp/loop_over_bdir-1128535-bh7ZiA/OSDial-3.0.2.124-0/blib/lib:/tmp/loop_over_bdir-1128535-bh7ZiA/Sysync-0.35-0/blib/arch:/tmp/loop_over_bdir-1128535-bh7ZiA/Sysync-0.35-0/blib/lib:/tmp/loop_over_bdir-1128535-bh7ZiA/Net-ISP-Balance-1.31-0/blib/arch:/tmp/loop_over_bdir-1128535-bh7ZiA/Net-ISP-Balance-1.31-0/blib/lib:/tmp/loop_over_bdir-1128535-bh7ZiA/CGI-Application-NetNewsIface-0.0204-0/blib/arch:/tmp/loop_over_bdir-1128535-bh7ZiA/CGI-Application-NetNewsIface-0.0204-0/blib/lib:/tmp/loop_over_bdir-1128535-bh7ZiA/RDF-NLP-SPARQLQuery-0.1-0/blib/arch:/tmp/loop_over_bdir-1128535-bh7ZiA/RDF-NLP-SPARQLQuery-0.1-0/blib/lib:/tmp/loop_over_bdir-1128535-bh7ZiA/Net-Async-WebService-lxd-0.03-0/blib/arch:/tmp/loop_over_bdir-1128535-bh7ZiA/Net-Async-WebService-lxd-0.03-0/blib/lib:/tmp/loop_over_bdir-1128535-bh7ZiA/Net-OpenVPN-DDNS-0.1-0/blib/arch:/tmp/loop_over_bdir-1128535-bh7ZiA/Net-OpenVPN-DDNS-0.1-0/blib/lib:/tmp/loop_over_bdir-1128535-bh7ZiA/ProjectBuilder-0.14.1-0/blib/arch:/tmp/loop_over_bdir-1128535-bh7ZiA/ProjectBuilder-0.14.1-0/blib/lib:/tmp/loop_over_bdir-1128535-bh7ZiA/Device-Kiln-0.03-0/blib/arch:/tmp/loop_over_bdir-1128535-bh7ZiA/Device-Kiln-0.03-0/blib/lib:/tmp/loop_over_bdir-1128535-bh7ZiA/Business-Shipping-DataFiles-1.02-0/blib/arch:/tmp/loop_over_bdir-1128535-bh7ZiA/Business-Shipping-DataFiles-1.02-0/blib/lib:/tmp/loop_over_bdir-1128535-bh7ZiA/DBIx-Migration-Directories-0.12-0/blib/arch:/tmp/loop_over_bdir-1128535-bh7ZiA/DBIx-Migration-Directories-0.12-0/blib/lib:/tmp/loop_over_bdir-1128535-bh7ZiA/makepp-1.19-0/blib/arch:/tmp/loop_over_bdir-1128535-bh7ZiA/makepp-1.19-0/blib/lib:/tmp/loop_over_bdir-1128535-bh7ZiA/Lemonldap-NG-Cli-0.2-0/blib/arch:/tmp/loop_over_bdir-1128535-bh7ZiA/Lemonldap-NG-Cli-0.2-0/blib/lib:/tmp/loop_over_bdir-1128535-bh7ZiA/Lingua-YaTeA-0.626-0/blib/arch:/tmp/loop_over_bdir-1128535-bh7ZiA/Lingua-YaTeA-0.626-0/blib/lib:/tmp/loop_over_bdir-1128535-bh7ZiA/Simulation-Automate-1.0.1-0/blib/arch:/tmp/loop_over_bdir-1128535-bh7ZiA/Simulation-Automate-1.0.1-0/blib/lib:/tmp/loop_over_bdir-1128535-bh7ZiA/Alien-SNMP-MIBDEV-2.020000-0/blib/arch:/tmp/loop_over_bdir-1128535-bh7ZiA/Alien-SNMP-MIBDEV-2.020000-0/blib/lib:/tmp/loop_over_bdir-1128535-bh7ZiA/dta-tokwrap-0.98-0/blib/arch:/tmp/loop_over_bdir-1128535-bh7ZiA/dta-tokwrap-0.98-0/blib/lib:/tmp/loop_over_bdir-1128535-bh7ZiA/Dpkg-1.21.19-0/blib/arch:/tmp/loop_over_bdir-1128535-bh7ZiA/Dpkg-1.21.19-0/blib/lib:/tmp/loop_over_bdir-1128535-bh7ZiA/EJBCA-CrlPublish-0.60-0/blib/arch:/tmp/loop_over_bdir-1128535-bh7ZiA/EJBCA-CrlPublish-0.60-0/blib/lib:/tmp/loop_over_bdir-1128535-bh7ZiA/Devel-Required-0.16-0/blib/arch:/tmp/loop_over_bdir-1128535-bh7ZiA/Devel-Required-0.16-0/blib/lib:/tmp/loop_over_bdir-1128535-bh7ZiA/Debian-Packages-0.03-0/blib/arch:/tmp/loop_over_bdir-1128535-bh7ZiA/Debian-Packages-0.03-0/blib/lib:/tmp/loop_over_bdir-1128535-bh7ZiA/Mail-SPF-v2.9.0-0/blib/arch:/tmp/loop_over_bdir-1128535-bh7ZiA/Mail-SPF-v2.9.0-0/blib/lib
    PERL5OPT = 
    PERL5_CPANPLUS_IS_RUNNING = 1128544
    PERL5_CPAN_IS_RUNNING = 1128544
    PERL_CANARY_STABILITY_NOPROMPT = 1
    PERL_MM_USE_DEFAULT = 1
    PERL_USE_UNSAFE_INC = 1
    SHELL = /usr/bin/zsh
    TERM = screen

Perl special variables (and OS-specific diagnostics, for MSWin32):

    $^X = /tmp/basesmoker-reloperl-9NH6/bin/perl
    $UID/$EUID = 1005 / 1005
    $GID = 1005 1005
    $EGID = 1005 1005

Perl module toolchain versions installed:

    Module              Have    
    ------------------- --------
    CPAN                2.34    
    CPAN::Meta          2.150010
    Cwd                 3.89    
    ExtUtils::CBuilder  0.280238
    ExtUtils::Command   7.70    
    ExtUtils::Install   2.22    
    ExtUtils::MakeMaker 7.70    
    ExtUtils::Manifest  1.73    
    ExtUtils::ParseXS   3.50    
    File::Spec          3.88    
    JSON                4.10    
    JSON::PP            4.16    
    Module::Build       0.4232  
    Module::Signature   0.88    
    Parse::CPAN::Meta   2.150010
    Test::Harness       3.44    
    Test::More          1.302194
    YAML                1.30    
    YAML::Syck          1.34    
    version             0.9929  


--

Summary of my perl5 (revision 5 version 37 subversion 11) configuration:
  Commit id: f94aafcf7b0649f7058ce2679b1be428d0b1bca8
  Platform:
    osname=linux
    osvers=5.19.0-38-generic
    archname=x86_64-linux-ld
    uname='linux k93jammy 5.19.0-38-generic #39~22.04.1-ubuntu smp preempt_dynamic fri mar 17 21:16:15 utc 2 x86_64 x86_64 x86_64 gnulinux '
    config_args='-Dprefix=/home/sand/src/perl/repoperls/installed-perls/host/k93jammy/v5.37.11/5674 -Dmyhostname=k93jammy -Dinstallusrbinperl=n -Uversiononly -Dusedevel -des -Ui_db -Dlibswanted=cl pthread socket inet nsl gdbm dbm malloc dl ld sun m crypt sec util c cposix posix ucb BSD gdbm_compat -Uuseithreads -Duselongdouble -DEBUGGING=-g'
    hint=recommended
    useposix=true
    d_sigaction=define
    useithreads=undef
    usemultiplicity=undef
    use64bitint=define
    use64bitall=define
    uselongdouble=define
    usemymalloc=n
    default_inc_excludes_dot=define
  Compiler:
    cc='cc'
    ccflags ='-fwrapv -fno-strict-aliasing -pipe -fstack-protector-strong -I/usr/local/include -D_LARGEFILE_SOURCE -D_FILE_OFFSET_BITS=64'
    optimize='-O2 -g'
    cppflags='-fwrapv -fno-strict-aliasing -pipe -fstack-protector-strong -I/usr/local/include'
    ccversion=''
    gccversion='11.3.0'
    gccosandvers=''
    intsize=4
    longsize=8
    ptrsize=8
    doublesize=8
    byteorder=12345678
    doublekind=3
    d_longlong=define
    longlongsize=8
    d_longdbl=define
    longdblsize=16
    longdblkind=3
    ivtype='long'
    ivsize=8
    nvtype='long double'
    nvsize=16
    Off_t='off_t'
    lseeksize=8
    alignbytes=16
    prototype=define
  Linker and Libraries:
    ld='cc'
    ldflags =' -fstack-protector-strong -L/usr/local/lib'
    libpth=/usr/local/lib /usr/lib/x86_64-linux-gnu /usr/lib /usr/lib64
    libs=-lpthread -lnsl -ldl -lm -lcrypt -lutil -lc
    perllibs=-lpthread -lnsl -ldl -lm -lcrypt -lutil -lc
    libc=/lib/x86_64-linux-gnu/libc.so.6
    so=so
    useshrplib=false
    libperl=libperl.a
    gnulibc_version='2.35'
  Dynamic Linking:
    dlsrc=dl_dlopen.xs
    dlext=so
    d_dlsymun=undef
    ccdlflags='-Wl,-E'
    cccdlflags='-fPIC'
    lddlflags='-shared -O2 -g -L/usr/local/lib -fstack-protector-strong'


Characteristics of this binary (from libperl): 
  Compile-time options:
    HAS_LONG_DOUBLE
    HAS_STRTOLD
    HAS_TIMES
    PERLIO_LAYERS
    PERL_COPY_ON_WRITE
    PERL_DONT_CREATE_GVSV
    PERL_HASH_FUNC_SIPHASH13
    PERL_HASH_USE_SBOX32
    PERL_MALLOC_WRAP
    PERL_OP_PARENT
    PERL_PRESERVE_IVUV
    PERL_USE_DEVEL
    PERL_USE_SAFE_PUTENV
    USE_64_BIT_ALL
    USE_64_BIT_INT
    USE_LARGE_FILES
    USE_LOCALE
    USE_LOCALE_COLLATE
    USE_LOCALE_CTYPE
    USE_LOCALE_NUMERIC
    USE_LOCALE_TIME
    USE_LONG_DOUBLE
    USE_PERLIO
    USE_PERL_ATOF
  Built under linux
  Compiled at Apr 23 2023 19:59:22
  %ENV:
    PERL="/tmp/basesmoker-reloperl-9NH6/bin/perl"
    PERL5LIB="/tmp/loop_over_bdir-1128535-bh7ZiA/downsexta-0/blib/arch:/tmp/loop_over_bdir-1128535-bh7ZiA/downsexta-0/blib/lib:/tmp/loop_over_bdir-1128535-bh7ZiA/LiquidWeb-Storm-CLI-1.03-0/blib/arch:/tmp/loop_over_bdir-1128535-bh7ZiA/LiquidWeb-Storm-CLI-1.03-0/blib/lib:/tmp/loop_over_bdir-1128535-bh7ZiA/LCFG-Build-Skeleton-0.5.0-0/blib/arch:/tmp/loop_over_bdir-1128535-bh7ZiA/LCFG-Build-Skeleton-0.5.0-0/blib/lib:/tmp/loop_over_bdir-1128535-bh7ZiA/OSDial-3.0.2.124-0/blib/arch:/tmp/loop_over_bdir-1128535-bh7ZiA/OSDial-3.0.2.124-0/blib/lib:/tmp/loop_over_bdir-1128535-bh7ZiA/Sysync-0.35-0/blib/arch:/tmp/loop_over_bdir-1128535-bh7ZiA/Sysync-0.35-0/blib/lib:/tmp/loop_over_bdir-1128535-bh7ZiA/Net-ISP-Balance-1.31-0/blib/arch:/tmp/loop_over_bdir-1128535-bh7ZiA/Net-ISP-Balance-1.31-0/blib/lib:/tmp/loop_over_bdir-1128535-bh7ZiA/CGI-Application-NetNewsIface-0.0204-0/blib/arch:/tmp/loop_over_bdir-1128535-bh7ZiA/CGI-Application-NetNewsIface-0.0204-0/blib/lib:/tmp/loop_over_bdir-1128535-bh7ZiA/RDF-NLP-SPARQLQuery-0.1-0/blib/arch:/tmp/loop_over_bdir-1128535-bh7ZiA/RDF-NLP-SPARQLQuery-0.1-0/blib/lib:/tmp/loop_over_bdir-1128535-bh7ZiA/Net-Async-WebService-lxd-0.03-0/blib/arch:/tmp/loop_over_bdir-1128535-bh7ZiA/Net-Async-WebService-lxd-0.03-0/blib/lib:/tmp/loop_over_bdir-1128535-bh7ZiA/Net-OpenVPN-DDNS-0.1-0/blib/arch:/tmp/loop_over_bdir-1128535-bh7ZiA/Net-OpenVPN-DDNS-0.1-0/blib/lib:/tmp/loop_over_bdir-1128535-bh7ZiA/ProjectBuilder-0.14.1-0/blib/arch:/tmp/loop_over_bdir-1128535-bh7ZiA/ProjectBuilder-0.14.1-0/blib/lib:/tmp/loop_over_bdir-1128535-bh7ZiA/Device-Kiln-0.03-0/blib/arch:/tmp/loop_over_bdir-1128535-bh7ZiA/Device-Kiln-0.03-0/blib/lib:/tmp/loop_over_bdir-1128535-bh7ZiA/Business-Shipping-DataFiles-1.02-0/blib/arch:/tmp/loop_over_bdir-1128535-bh7ZiA/Business-Shipping-DataFiles-1.02-0/blib/lib:/tmp/loop_over_bdir-1128535-bh7ZiA/DBIx-Migration-Directories-0.12-0/blib/arch:/tmp/loop_over_bdir-1128535-bh7ZiA/DBIx-Migration-Directories-0.12-0/blib/lib:/tmp/loop_over_bdir-1128535-bh7ZiA/makepp-1.19-0/blib/arch:/tmp/loop_over_bdir-1128535-bh7ZiA/makepp-1.19-0/blib/lib:/tmp/loop_over_bdir-1128535-bh7ZiA/Lemonldap-NG-Cli-0.2-0/blib/arch:/tmp/loop_over_bdir-1128535-bh7ZiA/Lemonldap-NG-Cli-0.2-0/blib/lib:/tmp/loop_over_bdir-1128535-bh7ZiA/Lingua-YaTeA-0.626-0/blib/arch:/tmp/loop_over_bdir-1128535-bh7ZiA/Lingua-YaTeA-0.626-0/blib/lib:/tmp/loop_over_bdir-1128535-bh7ZiA/Simulation-Automate-1.0.1-0/blib/arch:/tmp/loop_over_bdir-1128535-bh7ZiA/Simulation-Automate-1.0.1-0/blib/lib:/tmp/loop_over_bdir-1128535-bh7ZiA/Alien-SNMP-MIBDEV-2.020000-0/blib/arch:/tmp/loop_over_bdir-1128535-bh7ZiA/Alien-SNMP-MIBDEV-2.020000-0/blib/lib:/tmp/loop_over_bdir-1128535-bh7ZiA/dta-tokwrap-0.98-0/blib/arch:/tmp/loop_over_bdir-1128535-bh7ZiA/dta-tokwrap-0.98-0/blib/lib:/tmp/loop_over_bdir-1128535-bh7ZiA/Dpkg-1.21.19-0/blib/arch:/tmp/loop_over_bdir-1128535-bh7ZiA/Dpkg-1.21.19-0/blib/lib:/tmp/loop_over_bdir-1128535-bh7ZiA/EJBCA-CrlPublish-0.60-0/blib/arch:/tmp/loop_over_bdir-1128535-bh7ZiA/EJBCA-CrlPublish-0.60-0/blib/lib:/tmp/loop_over_bdir-1128535-bh7ZiA/Devel-Required-0.16-0/blib/arch:/tmp/loop_over_bdir-1128535-bh7ZiA/Devel-Required-0.16-0/blib/lib:/tmp/loop_over_bdir-1128535-bh7ZiA/Debian-Packages-0.03-0/blib/arch:/tmp/loop_over_bdir-1128535-bh7ZiA/Debian-Packages-0.03-0/blib/lib:/tmp/loop_over_bdir-1128535-bh7ZiA/Mail-SPF-v2.9.0-0/blib/arch:/tmp/loop_over_bdir-1128535-bh7ZiA/Mail-SPF-v2.9.0-0/blib/lib"
    PERL5OPT=""
    PERL5_CPANPLUS_IS_RUNNING="1128544"
    PERL5_CPAN_IS_RUNNING="1128544"
    PERL_CANARY_STABILITY_NOPROMPT="1"
    PERL_MM_USE_DEFAULT="1"
    PERL_USE_UNSAFE_INC="1"
  @INC:
    /tmp/loop_over_bdir-1128535-bh7ZiA/downsexta-0/blib/arch
    /tmp/loop_over_bdir-1128535-bh7ZiA/downsexta-0/blib/lib
    /tmp/loop_over_bdir-1128535-bh7ZiA/LiquidWeb-Storm-CLI-1.03-0/blib/arch
    /tmp/loop_over_bdir-1128535-bh7ZiA/LiquidWeb-Storm-CLI-1.03-0/blib/lib
    /tmp/loop_over_bdir-1128535-bh7ZiA/LCFG-Build-Skeleton-0.5.0-0/blib/arch
    /tmp/loop_over_bdir-1128535-bh7ZiA/LCFG-Build-Skeleton-0.5.0-0/blib/lib
    /tmp/loop_over_bdir-1128535-bh7ZiA/OSDial-3.0.2.124-0/blib/arch
    /tmp/loop_over_bdir-1128535-bh7ZiA/OSDial-3.0.2.124-0/blib/lib
    /tmp/loop_over_bdir-1128535-bh7ZiA/Sysync-0.35-0/blib/arch
    /tmp/loop_over_bdir-1128535-bh7ZiA/Sysync-0.35-0/blib/lib
    /tmp/loop_over_bdir-1128535-bh7ZiA/Net-ISP-Balance-1.31-0/blib/arch
    /tmp/loop_over_bdir-1128535-bh7ZiA/Net-ISP-Balance-1.31-0/blib/lib
    /tmp/loop_over_bdir-1128535-bh7ZiA/CGI-Application-NetNewsIface-0.0204-0/blib/arch
    /tmp/loop_over_bdir-1128535-bh7ZiA/CGI-Application-NetNewsIface-0.0204-0/blib/lib
    /tmp/loop_over_bdir-1128535-bh7ZiA/RDF-NLP-SPARQLQuery-0.1-0/blib/arch
    /tmp/loop_over_bdir-1128535-bh7ZiA/RDF-NLP-SPARQLQuery-0.1-0/blib/lib
    /tmp/loop_over_bdir-1128535-bh7ZiA/Net-Async-WebService-lxd-0.03-0/blib/arch
    /tmp/loop_over_bdir-1128535-bh7ZiA/Net-Async-WebService-lxd-0.03-0/blib/lib
    /tmp/loop_over_bdir-1128535-bh7ZiA/Net-OpenVPN-DDNS-0.1-0/blib/arch
    /tmp/loop_over_bdir-1128535-bh7ZiA/Net-OpenVPN-DDNS-0.1-0/blib/lib
    /tmp/loop_over_bdir-1128535-bh7ZiA/ProjectBuilder-0.14.1-0/blib/arch
    /tmp/loop_over_bdir-1128535-bh7ZiA/ProjectBuilder-0.14.1-0/blib/lib
    /tmp/loop_over_bdir-1128535-bh7ZiA/Device-Kiln-0.03-0/blib/arch
    /tmp/loop_over_bdir-1128535-bh7ZiA/Device-Kiln-0.03-0/blib/lib
    /tmp/loop_over_bdir-1128535-bh7ZiA/Business-Shipping-DataFiles-1.02-0/blib/arch
    /tmp/loop_over_bdir-1128535-bh7ZiA/Business-Shipping-DataFiles-1.02-0/blib/lib
    /tmp/loop_over_bdir-1128535-bh7ZiA/DBIx-Migration-Directories-0.12-0/blib/arch
    /tmp/loop_over_bdir-1128535-bh7ZiA/DBIx-Migration-Directories-0.12-0/blib/lib
    /tmp/loop_over_bdir-1128535-bh7ZiA/makepp-1.19-0/blib/arch
    /tmp/loop_over_bdir-1128535-bh7ZiA/makepp-1.19-0/blib/lib
    /tmp/loop_over_bdir-1128535-bh7ZiA/Lemonldap-NG-Cli-0.2-0/blib/arch
    /tmp/loop_over_bdir-1128535-bh7ZiA/Lemonldap-NG-Cli-0.2-0/blib/lib
    /tmp/loop_over_bdir-1128535-bh7ZiA/Lingua-YaTeA-0.626-0/blib/arch
    /tmp/loop_over_bdir-1128535-bh7ZiA/Lingua-YaTeA-0.626-0/blib/lib
    /tmp/loop_over_bdir-1128535-bh7ZiA/Simulation-Automate-1.0.1-0/blib/arch
    /tmp/loop_over_bdir-1128535-bh7ZiA/Simulation-Automate-1.0.1-0/blib/lib
    /tmp/loop_over_bdir-1128535-bh7ZiA/Alien-SNMP-MIBDEV-2.020000-0/blib/arch
    /tmp/loop_over_bdir-1128535-bh7ZiA/Alien-SNMP-MIBDEV-2.020000-0/blib/lib
    /tmp/loop_over_bdir-1128535-bh7ZiA/dta-tokwrap-0.98-0/blib/arch
    /tmp/loop_over_bdir-1128535-bh7ZiA/dta-tokwrap-0.98-0/blib/lib
    /tmp/loop_over_bdir-1128535-bh7ZiA/Dpkg-1.21.19-0/blib/arch
    /tmp/loop_over_bdir-1128535-bh7ZiA/Dpkg-1.21.19-0/blib/lib
    /tmp/loop_over_bdir-1128535-bh7ZiA/EJBCA-CrlPublish-0.60-0/blib/arch
    /tmp/loop_over_bdir-1128535-bh7ZiA/EJBCA-CrlPublish-0.60-0/blib/lib
    /tmp/loop_over_bdir-1128535-bh7ZiA/Devel-Required-0.16-0/blib/arch
    /tmp/loop_over_bdir-1128535-bh7ZiA/Devel-Required-0.16-0/blib/lib
    /tmp/loop_over_bdir-1128535-bh7ZiA/Debian-Packages-0.03-0/blib/arch
    /tmp/loop_over_bdir-1128535-bh7ZiA/Debian-Packages-0.03-0/blib/lib
    /tmp/loop_over_bdir-1128535-bh7ZiA/Mail-SPF-v2.9.0-0/blib/arch
    /tmp/loop_over_bdir-1128535-bh7ZiA/Mail-SPF-v2.9.0-0/blib/lib
    /home/sand/src/perl/repoperls/installed-perls/host/k93jammy/v5.37.11/5674/lib/site_perl/5.37.11/x86_64-linux-ld
    /home/sand/src/perl/repoperls/installed-perls/host/k93jammy/v5.37.11/5674/lib/site_perl/5.37.11
    /home/sand/src/perl/repoperls/installed-perls/host/k93jammy/v5.37.11/5674/lib/5.37.11/x86_64-linux-ld
    /home/sand/src/perl/repoperls/installed-perls/host/k93jammy/v5.37.11/5674/lib/5.37.11
    .