Net-SAML2 v0.72-TRIAL Perl 5 v5.34.0 amd64-freebsd-ld
- Status
- Pass
- From
- Slaven Rezić
- Dist
-
Net-SAML2 v0.72-TRIAL
- Platform
- Perl 5 v5.34.0 amd64-freebsd-ld
- Date
- 2023-07-08 01:56:36
- ID
- abc4e4ca-1d32-11ee-854e-a3236e8775ea
This distribution has been tested as part of the CPAN Testers
project, supporting the Perl programming language. See
http://wiki.cpantesters.org/ for more information or email
questions to cpan-testers-discuss@perl.org
--
Dear Timothy Legge,
This is a computer-generated report for Net-SAML2-0.72-TRIAL
on perl 5.34.0, created by CPAN-Reporter-1.2018.
Thank you for uploading your work to CPAN. Congratulations!
All tests were successful.
Sections of this report:
* Tester comments
* Program output
* Prerequisites
* Environment and other context
------------------------------
TESTER COMMENTS
------------------------------
Additional comments from tester:
none provided
------------------------------
PROGRAM OUTPUT
------------------------------
Output from '/usr/bin/make test':
PERL_DL_NONLAZY=1 "/usr/perl5.34.0Dp/bin/perl" "-MExtUtils::Command::MM" "-MTest::Harness" "-e" "undef *Test::Harness::Switches; test_harness(0, 'blib/lib', 'blib/arch')" t/*.t t/author/*.t
t/00-basic.t ...................................... ok
t/01-create-idp.t ................................. ok
t/02-create-sp.t .................................. ok
t/03-assertions.t ................................. ok
t/04-response.t ................................... ok
not verified by x509
t/05-soap-binding.t ............................... ok
t/06-redirect-binding.t ........................... ok
t/07-logout-request.t ............................. ok
t/08-logout-response.t ............................ ok
t/09-authn-request.t .............................. ok
t/10-artifact-resolve.t ........................... ok
t/11-more-metadata.t .............................. ok
t/12-full-client.t ................................ ok
t/13-verify-issues.t .............................. ok
t/15-evil-nameid-and-email-assertion.t ............ ok
t/16-encrypted-assertion.t ........................ ok
t/17-lowercase-url-escaping.t ..................... ok
t/18-metadata-multiple-signing.t .................. ok
t/19-metadata-multiple-signing.t .................. ok
t/20-path-only-redirect.t ......................... ok
t/21-artifact-response.t .......................... ok
t/22-types.t ...................................... ok
t/23-post-binding.t ............................... ok
t/24-assertion-with-encrypted-attribute-values.t .. ok
t/25-verify-authn-post-sign_xml.t ................. ok
t/author-critic.t ................................. skipped: these tests are for testing by the author
t/author-eof.t .................................... skipped: these tests are for testing by the author
t/author-eol.t .................................... skipped: these tests are for testing by the author
t/author-no-tabs.t ................................ skipped: these tests are for testing by the author
t/author-pod-coverage.t ........................... skipped: these tests are for testing by the author
t/author-pod-syntax.t ............................. skipped: these tests are for testing by the author
t/author/01-confirm-schema.t ...................... skipped: Author test skipped
t/author/notabs.t ................................. ok
t/author/pod.t .................................... ok
t/author/podcoverage.t ............................ skipped: these tests are for testing by the author
All tests successful.
Files=35, Tests=473, 17 wallclock secs ( 0.09 usr 0.05 sys + 15.66 cusr 1.16 csys = 16.97 CPU)
Result: PASS
------------------------------
PREREQUISITES
------------------------------
Prerequisite modules loaded:
requires:
Module Need Have
----------------------------- ----- --------
base 0 2.27
Carp 0 1.52
Crypt::OpenSSL::Bignum 0 0.09
Crypt::OpenSSL::Random 0 0.15
Crypt::OpenSSL::RSA 0 0.32
Crypt::OpenSSL::Verify 0 0.29
Crypt::OpenSSL::X509 0 1.915
DateTime 0 1.59
DateTime::Format::XSD 0 0.4
DateTime::HiRes 0 0.04
Digest::MD5 0 2.58
Exporter 0 5.76
File::Slurper 0 0.012
HTTP::Request::Common 0 6.44
IO::Compress::RawDeflate 0 2.204
IO::Uncompress::RawInflate 0 2.204
List::Util 0 1.63
LWP::Protocol::https 0 6.10
LWP::UserAgent 0 6.68
MIME::Base64 0 3.16
Moose 0 2.2203
Moose::Role 0 2.2203
MooseX::Types 0 0.50
MooseX::Types::Common::String 0 0.001014
MooseX::Types::DateTime 0 0.13
MooseX::Types::Moose 0 0.50
MooseX::Types::URI 0 0.09
namespace::autoclean 0 0.29
perl 5.012 5.034000
strict 0 1.12
Try::Tiny 0 0.31
Types::Serialiser 0 1.01
URI 0 5.19
URI::Encode 0 1.1.1
URI::Escape 0 5.19
URI::QueryParam 0 5.19
URN::OASIS::SAML2 0.003 0.003
vars 0 1.05
warnings 0 1.51
XML::Enc 0.13 0.13
XML::Generator 1.13 1.13
XML::LibXML 0 2.0207
XML::LibXML::XPathContext 0 2.0207
XML::Sig 0.64 0.64
build_requires:
Module Need Have
----------------------------- ----- --------
ExtUtils::MakeMaker 0 7.70
Import::Into 0 1.002005
Path::Tiny 0 0.144
Sub::Override 0 0.09
Test::Deep 0 1.204
Test::Exception 0 0.43
Test::Fatal 0 0.017
Test::Lib 0 0.003
Test::Mock::One 0 0.011
Test::More 0 1.302195
Test::NoTabs 0 2.02
Test::Pod 1.14 1.52
Test::Pod::Coverage 1.04 1.10
URI::URL 0 5.19
XML::LibXML::XPathContext 0 2.0207
configure_requires:
Module Need Have
----------------------------- ----- --------
ExtUtils::MakeMaker 0 7.70
------------------------------
ENVIRONMENT AND OTHER CONTEXT
------------------------------
Environment variables:
PATH = /usr/local/bin:/usr/bin:/bin:/usr/local/sbin:/usr/sbin:/sbin:/home/cpansand/bin/sh:/home/cpansand/bin:/usr/games:/home/cpansand/devel:/usr/home/eserte/src/srezic-misc/scripts
PERL5LIB = /home/cpansand/.cpan/build/2023070801/XML-Sig-0.64-4/blib/arch:/home/cpansand/.cpan/build/2023070801/XML-Sig-0.64-4/blib/lib:/home/cpansand/.cpan/build/2023070801/XML-Generator-1.13-4/blib/arch:/home/cpansand/.cpan/build/2023070801/XML-Generator-1.13-4/blib/lib:/home/cpansand/.cpan/build/2023070801/XML-Enc-0.13-4/blib/arch:/home/cpansand/.cpan/build/2023070801/XML-Enc-0.13-4/blib/lib
PERL5OPT =
PERL5_CPANPLUS_IS_RUNNING = 26330
PERL5_CPAN_IS_RUNNING = 26330
PERL5_CPAN_IS_RUNNING_IN_RECURSION = 24115,26330
PERL_BATCH = yes
PERL_CANARY_STABILITY_NOPROMPT = 1
PERL_CPAN_REPORTER_CONFIG = /var/tmp/cpansmoker-1023/2023070801/cpanreporter_000_config.ini
PERL_EXTUTILS_AUTOINSTALL = --defaultdeps
PERL_USE_UNSAFE_INC = 1
SHELL = /bin/sh
TMPDIR = /var/tmp/cpansmoker-1023/2023070801
Perl special variables (and OS-specific diagnostics, for MSWin32):
$^X = /usr/perl5.34.0Dp/bin/perl
$UID/$EUID = 1023 / 1023
$GID = 1023 1023
$EGID = 1023 1023
Perl module toolchain versions installed:
Module Have
------------------- --------
CPAN 2.36
CPAN::Meta 2.150010
Cwd 3.80
ExtUtils::CBuilder 0.280236
ExtUtils::Command 7.70
ExtUtils::Install 2.20
ExtUtils::MakeMaker 7.70
ExtUtils::Manifest 1.73
ExtUtils::ParseXS 3.43
File::Spec 3.80
JSON 4.10
JSON::PP 4.15
Module::Build 0.4231
Module::Signature 0.88
Parse::CPAN::Meta 2.150010
Test::Harness 3.44
Test::More 1.302195
YAML 1.30
YAML::Syck 1.34
version 0.9929
--
Summary of my perl5 (revision 5 version 34 subversion 0) configuration:
Platform:
osname=freebsd
osvers=13.0-stable
archname=amd64-freebsd-ld
uname='freebsd cloud10.bbbike.org 13.0-stable freebsd 13.0-stable #1 stable13-n245702-3099792c874d: fri may 21 10:00:28 utc 2021 root@cloud10.bbbike.org:usrobjusrhomeprojectsfreebsdamd64.amd64sysgeneric amd64 '
config_args='-ds -e -Dprefix=/usr/perl5.34.0Dp -Duselongdouble -Dcf_email=srezic@cpan.org -Doptimize=-O2 -pipe'
hint=recommended
useposix=true
d_sigaction=define
useithreads=undef
usemultiplicity=undef
use64bitint=define
use64bitall=define
uselongdouble=define
usemymalloc=n
default_inc_excludes_dot=define
Compiler:
cc='cc'
ccflags ='-DHAS_FPSETMASK -DHAS_FLOATINGPOINT_H -fno-strict-aliasing -pipe -fstack-protector-strong -I/usr/local/include'
optimize='-O2 -pipe'
cppflags='-DHAS_FPSETMASK -DHAS_FLOATINGPOINT_H -fno-strict-aliasing -pipe -fstack-protector-strong -I/usr/local/include'
ccversion=''
gccversion='FreeBSD Clang 11.0.1 (git@github.com:llvm/llvm-project.git llvmorg-11.0.1-0-g43ff75f2c3fe)'
gccosandvers=''
intsize=4
longsize=8
ptrsize=8
doublesize=8
byteorder=12345678
doublekind=3
d_longlong=define
longlongsize=8
d_longdbl=define
longdblsize=16
longdblkind=3
ivtype='long'
ivsize=8
nvtype='long double'
nvsize=16
Off_t='off_t'
lseeksize=8
alignbytes=16
prototype=define
Linker and Libraries:
ld='cc'
ldflags ='-pthread -Wl,-E -fstack-protector-strong -L/usr/local/lib'
libpth=/usr/lib /usr/local/lib /usr/lib/clang/11.0.1/lib
libs=-lpthread -lgdbm -ldl -lm -lcrypt -lutil -lc
perllibs=-lpthread -ldl -lm -lcrypt -lutil -lc
libc=
so=so
useshrplib=false
libperl=libperl.a
gnulibc_version=''
Dynamic Linking:
dlsrc=dl_dlopen.xs
dlext=so
d_dlsymun=undef
ccdlflags=' '
cccdlflags='-DPIC -fPIC'
lddlflags='-shared -L/usr/local/lib -fstack-protector-strong'
Characteristics of this binary (from libperl):
Compile-time options:
HAS_TIMES
PERLIO_LAYERS
PERL_COPY_ON_WRITE
PERL_DONT_CREATE_GVSV
PERL_MALLOC_WRAP
PERL_OP_PARENT
PERL_PRESERVE_IVUV
USE_64_BIT_ALL
USE_64_BIT_INT
USE_LARGE_FILES
USE_LOCALE
USE_LOCALE_COLLATE
USE_LOCALE_CTYPE
USE_LOCALE_NUMERIC
USE_LOCALE_TIME
USE_LONG_DOUBLE
USE_PERLIO
USE_PERL_ATOF
Built under freebsd
Compiled at May 25 2021 18:27:23
%ENV:
PERL5LIB="/home/cpansand/.cpan/build/2023070801/XML-Sig-0.64-4/blib/arch:/home/cpansand/.cpan/build/2023070801/XML-Sig-0.64-4/blib/lib:/home/cpansand/.cpan/build/2023070801/XML-Generator-1.13-4/blib/arch:/home/cpansand/.cpan/build/2023070801/XML-Generator-1.13-4/blib/lib:/home/cpansand/.cpan/build/2023070801/XML-Enc-0.13-4/blib/arch:/home/cpansand/.cpan/build/2023070801/XML-Enc-0.13-4/blib/lib"
PERL5OPT=""
PERL5_CPANPLUS_IS_RUNNING="26330"
PERL5_CPAN_IS_RUNNING="26330"
PERL5_CPAN_IS_RUNNING_IN_RECURSION="24115,26330"
PERL_BATCH="yes"
PERL_CANARY_STABILITY_NOPROMPT="1"
PERL_CPAN_REPORTER_CONFIG="/var/tmp/cpansmoker-1023/2023070801/cpanreporter_000_config.ini"
PERL_EXTUTILS_AUTOINSTALL="--defaultdeps"
PERL_USE_UNSAFE_INC="1"
@INC:
/home/cpansand/.cpan/build/2023070801/XML-Sig-0.64-4/blib/arch
/home/cpansand/.cpan/build/2023070801/XML-Sig-0.64-4/blib/lib
/home/cpansand/.cpan/build/2023070801/XML-Generator-1.13-4/blib/arch
/home/cpansand/.cpan/build/2023070801/XML-Generator-1.13-4/blib/lib
/home/cpansand/.cpan/build/2023070801/XML-Enc-0.13-4/blib/arch
/home/cpansand/.cpan/build/2023070801/XML-Enc-0.13-4/blib/lib
/usr/perl5.34.0Dp/lib/site_perl/5.34.0/amd64-freebsd-ld
/usr/perl5.34.0Dp/lib/site_perl/5.34.0
/usr/perl5.34.0Dp/lib/5.34.0/amd64-freebsd-ld
/usr/perl5.34.0Dp/lib/5.34.0
.