Report for Project-Euler-0.20

Back
From: metabase:user:9820532a-708b-1014-9a05-b18a96298da1
Subject: PASS Project-Euler-0.20 v5.12.4 GNU/Linux
Date: 2011-06-24T06:39:11Z

This distribution has been tested as part of the CPAN Testers
project, supporting the Perl programming language.  See
http://wiki.cpantesters.org/ for more information or email
questions to cpan-testers-discuss@perl.org


--
Dear Adam Lesperance,

This is a computer-generated report for Project-Euler-0.20
on perl 5.12.4, created by CPAN-Reporter-1.1902.

Thank you for uploading your work to CPAN.  Congratulations!
All tests were successful.

Sections of this report:

    * Tester comments
    * Program output
    * Prerequisites
    * Environment and other context

------------------------------
TESTER COMMENTS
------------------------------

Additional comments from tester:

this report is from an automated smoke testing program
and was not reviewed by a human for accuracy

------------------------------
PROGRAM OUTPUT
------------------------------

Output from './Build test':

# Testing Project::Euler, Perl 5.012004, /home/test/perl5/perlbrew/perls/perl-5.12.4/bin/perl
t/00-Base/00-load.t ........................... ok
t/00-Base/01-base.t ........................... ok
t/00-compile.t ................................ ok
t/10-Lib/000-Types.t .......................... ok
t/10-Lib/100-Utils_List.t ..................... ok
t/10-Lib/101-Utils_Fibs.t ..................... ok
t/20-Problems/000-Correct_Defaults.t .......... ok
t/20-Problems/001-Sum_Filtered_Lists.t ........ ok
t/20-Problems/002-Sum_Filtered_Fib_Numbers.t .. ok
t/author-99-template.t ........................ skipped: these tests are for testing by the author
t/author-critic.t ............................. skipped: these tests are for testing by the author
t/release-check-changes.t ..................... skipped: these tests are for release candidate testing
t/release-distmeta.t .......................... skipped: these tests are for release candidate testing
t/release-has-version.t ....................... skipped: these tests are for release candidate testing
t/release-kwalitee.t .......................... skipped: these tests are for release candidate testing
t/release-minimum-version.t ................... skipped: these tests are for release candidate testing
t/release-pod-coverage.t ...................... skipped: these tests are for release candidate testing
t/release-pod-syntax.t ........................ skipped: these tests are for release candidate testing
t/release-portability.t ....................... skipped: these tests are for release candidate testing
t/release-synopsis.t .......................... skipped: these tests are for release candidate testing
t/release-unused-vars.t ....................... skipped: these tests are for release candidate testing
All tests successful.
Files=21, Tests=338, 11 wallclock secs ( 0.11 usr  0.07 sys +  7.55 cusr  1.05 csys =  8.78 CPU)
Result: PASS

------------------------------
PREREQUISITES
------------------------------

Prerequisite modules loaded:

requires:

    Module                      Need   Have    
    --------------------------- ------ --------
    Carp                        0      1.17    
    DateTime                    0      0.70    
    DateTime::Format::DateParse 0      0.05    
    Exporter::Easy              0      0.16    
    List::MoreUtils             0      0.32    
    List::Util                  0      1.23    
    Math::Big::Factors          0      1.02    
    Math::BigInt                0      1.993   
    Modern::Perl                0      1.03    
    Moose                       0      2.0010  
    Moose::Role                 0      2.0010  
    MooseX::Types               0      0.27    
    MooseX::Types::Moose        0      0.27    
    namespace::autoclean        0      0.12    
    perl                        5.010  5.012004
    Readonly                    0      1.03    
    String::Palindrome          0      2.000001

build_requires:

    Module                      Need   Have    
    --------------------------- ------ --------
    autodie                     0      2.10    
    constant                    0      1.21    
    English                     0      1.04    
    File::Find                  0      1.15    
    File::Spec                  0      3.33    
    File::Temp                  0      0.22    
    Module::Build               0.3601 0.3800  
    Test::Exception             0      0.31    
    Test::More                  0      0.98    
    Test::Most                  0      0.24    

configure_requires:

    Module                      Need   Have    
    --------------------------- ------ --------
    Module::Build               0.3601 0.3800  


------------------------------
ENVIRONMENT AND OTHER CONTEXT
------------------------------

Environment variables:

    AUTOMATED_TESTING = 1
    LANG = C
    LC_ALL = C
    PATH = /home/test/bin:/home/test/perl5/perlbrew/bin:/home/test/perl5/perlbrew/perls/perl-5.12.4/bin:~/bin:/usr/bin:/bin
    PATH_WITHOUT_PERLBREW = ~/bin:/usr/bin:/bin
    PERL5LIB = /home/test/.cpan/build/Readonly-1.03-ZBZozS/blib/arch:/home/test/.cpan/build/Readonly-1.03-ZBZozS/blib/lib:/home/test/.cpan/build/Math-Big-1.12-2woBB4/blib/arch:/home/test/.cpan/build/Math-Big-1.12-2woBB4/blib/lib:/home/test/.cpan/build/Modern-Perl-1.03-fkWH2N/blib/arch:/home/test/.cpan/build/Modern-Perl-1.03-fkWH2N/blib/lib:/home/test/.cpan/build/Exporter-Easy-0.16-TxkyUy/blib/arch:/home/test/.cpan/build/Exporter-Easy-0.16-TxkyUy/blib/lib:/home/test/.cpan/build/String-Palindrome-2.000001-MAhOS_/blib/arch:/home/test/.cpan/build/String-Palindrome-2.000001-MAhOS_/blib/lib:/home/test/.cpan/build/DateTime-Format-DateParse-0.05-ZX1qD8/blib/arch:/home/test/.cpan/build/DateTime-Format-DateParse-0.05-ZX1qD8/blib/lib
    PERL5OPT = 
    PERL5_CPANPLUS_IS_RUNNING = 13365
    PERL5_CPAN_IS_RUNNING = 13365
    PERL5_CPAN_IS_RUNNING_IN_RECURSION = 29579,13365
    PERLBREW_HOME = /home/test/.perlbrew
    PERLBREW_PATH = /home/test/perl5/perlbrew/bin:/home/test/perl5/perlbrew/perls/perl-5.12.4/bin
    PERLBREW_PERL = perl-5.12.4
    PERLBREW_ROOT = /home/test/perl5/perlbrew
    PERLBREW_VERSION = 0.24
    PERL_CR_SMOKER_CURRENT = Project-Euler-0.20
    PERL_EXTUTILS_AUTOINSTALL = --defaultdeps
    PERL_MM_USE_DEFAULT = 1
    SHELL = /bin/bash
    TERM = linux

Perl special variables (and OS-specific diagnostics, for MSWin32):

    $^X = /home/test/perl5/perlbrew/perls/perl-5.12.4/bin/perl
    $UID/$EUID = 1001 / 1001
    $GID = 1001 1001
    $EGID = 1001 1001

Perl module toolchain versions installed:

    Module              Have    
    ------------------- --------
    CPAN                1.9600  
    Cwd                 3.33    
    ExtUtils::CBuilder  0.280202
    ExtUtils::Command   1.17    
    ExtUtils::Install   1.55    
    ExtUtils::MakeMaker 6.56    
    ExtUtils::Manifest  1.58    
    ExtUtils::ParseXS   2.2206  
    File::Spec          3.33    
    Module::Build       0.3800  
    Module::Signature   n/a     
    Test::Harness       3.23    
    Test::More          0.98    
    YAML                0.73    
    YAML::Syck          1.17    
    version             0.91    


--

Summary of my perl5 (revision 5 version 12 subversion 4) configuration:
   
  Platform:
    osname=linux, osvers=2.6.35-28-generic, archname=x86_64-linux-thread-multi-ld
    uname='linux zippy 2.6.35-28-generic #50-ubuntu smp fri mar 18 18:42:20 utc 2011 x86_64 gnulinux '
    config_args='-de -Dprefix=/home/test/perl5/perlbrew/perls/perl-5.12.4 -Duselongdouble -Duse64bitall -Dusethreads'
    hint=recommended, useposix=true, d_sigaction=define
    useithreads=define, usemultiplicity=define
    useperlio=define, d_sfio=undef, uselargefiles=define, usesocks=undef
    use64bitint=define, use64bitall=define, uselongdouble=define
    usemymalloc=n, bincompat5005=undef
  Compiler:
    cc='cc', ccflags ='-D_REENTRANT -D_GNU_SOURCE -fno-strict-aliasing -pipe -fstack-protector -I/usr/local/include -D_LARGEFILE_SOURCE -D_FILE_OFFSET_BITS=64',
    optimize='-O2',
    cppflags='-D_REENTRANT -D_GNU_SOURCE -fno-strict-aliasing -pipe -fstack-protector -I/usr/local/include'
    ccversion='', gccversion='4.4.5', gccosandvers=''
    intsize=4, longsize=8, ptrsize=8, doublesize=8, byteorder=12345678
    d_longlong=define, longlongsize=8, d_longdbl=define, longdblsize=16
    ivtype='long', ivsize=8, nvtype='long double', nvsize=16, Off_t='off_t', lseeksize=8
    alignbytes=16, prototype=define
  Linker and Libraries:
    ld='cc', ldflags =' -fstack-protector -L/usr/local/lib'
    libpth=/usr/local/lib /lib/../lib /usr/lib/../lib /lib /usr/lib /usr/lib/x86_64-linux-gnu /lib64 /usr/lib64
    libs=-lnsl -ldl -lm -lcrypt -lutil -lpthread -lc
    perllibs=-lnsl -ldl -lm -lcrypt -lutil -lpthread -lc
    libc=/lib/libc-2.12.1.so, so=so, useshrplib=false, libperl=libperl.a
    gnulibc_version='2.12.1'
  Dynamic Linking:
    dlsrc=dl_dlopen.xs, dlext=so, d_dlsymun=undef, ccdlflags='-Wl,-E'
    cccdlflags='-fPIC', lddlflags='-shared -O2 -L/usr/local/lib -fstack-protector'


Characteristics of this binary (from libperl): 
  Compile-time options: MULTIPLICITY PERL_DONT_CREATE_GVSV
                        PERL_IMPLICIT_CONTEXT PERL_MALLOC_WRAP USE_64_BIT_ALL
                        USE_64_BIT_INT USE_ITHREADS USE_LARGE_FILES
                        USE_LONG_DOUBLE USE_PERLIO USE_PERL_ATOF
                        USE_REENTRANT_API
  Built under linux
  Compiled at Jun 20 2011 12:20:29
  %ENV:
    PERL5LIB="/home/test/.cpan/build/Readonly-1.03-ZBZozS/blib/arch:/home/test/.cpan/build/Readonly-1.03-ZBZozS/blib/lib:/home/test/.cpan/build/Math-Big-1.12-2woBB4/blib/arch:/home/test/.cpan/build/Math-Big-1.12-2woBB4/blib/lib:/home/test/.cpan/build/Modern-Perl-1.03-fkWH2N/blib/arch:/home/test/.cpan/build/Modern-Perl-1.03-fkWH2N/blib/lib:/home/test/.cpan/build/Exporter-Easy-0.16-TxkyUy/blib/arch:/home/test/.cpan/build/Exporter-Easy-0.16-TxkyUy/blib/lib:/home/test/.cpan/build/String-Palindrome-2.000001-MAhOS_/blib/arch:/home/test/.cpan/build/String-Palindrome-2.000001-MAhOS_/blib/lib:/home/test/.cpan/build/DateTime-Format-DateParse-0.05-ZX1qD8/blib/arch:/home/test/.cpan/build/DateTime-Format-DateParse-0.05-ZX1qD8/blib/lib"
    PERL5OPT=""
    PERL5_CPANPLUS_IS_RUNNING="13365"
    PERL5_CPAN_IS_RUNNING="13365"
    PERL5_CPAN_IS_RUNNING_IN_RECURSION="29579,13365"
    PERLBREW_HOME="/home/test/.perlbrew"
    PERLBREW_PATH="/home/test/perl5/perlbrew/bin:/home/test/perl5/perlbrew/perls/perl-5.12.4/bin"
    PERLBREW_PERL="perl-5.12.4"
    PERLBREW_ROOT="/home/test/perl5/perlbrew"
    PERLBREW_VERSION="0.24"
    PERL_CR_SMOKER_CURRENT="Project-Euler-0.20"
    PERL_EXTUTILS_AUTOINSTALL="--defaultdeps"
    PERL_MM_USE_DEFAULT="1"
  @INC:
    /home/test/.cpan/build/Readonly-1.03-ZBZozS/blib/arch
    /home/test/.cpan/build/Readonly-1.03-ZBZozS/blib/lib
    /home/test/.cpan/build/Math-Big-1.12-2woBB4/blib/arch
    /home/test/.cpan/build/Math-Big-1.12-2woBB4/blib/lib
    /home/test/.cpan/build/Modern-Perl-1.03-fkWH2N/blib/arch
    /home/test/.cpan/build/Modern-Perl-1.03-fkWH2N/blib/lib
    /home/test/.cpan/build/Exporter-Easy-0.16-TxkyUy/blib/arch
    /home/test/.cpan/build/Exporter-Easy-0.16-TxkyUy/blib/lib
    /home/test/.cpan/build/String-Palindrome-2.000001-MAhOS_/blib/arch
    /home/test/.cpan/build/String-Palindrome-2.000001-MAhOS_/blib/lib
    /home/test/.cpan/build/DateTime-Format-DateParse-0.05-ZX1qD8/blib/arch
    /home/test/.cpan/build/DateTime-Format-DateParse-0.05-ZX1qD8/blib/lib
    /home/test/perl5/perlbrew/perls/perl-5.12.4/lib/site_perl/5.12.4/x86_64-linux-thread-multi-ld
    /home/test/perl5/perlbrew/perls/perl-5.12.4/lib/site_perl/5.12.4
    /home/test/perl5/perlbrew/perls/perl-5.12.4/lib/5.12.4/x86_64-linux-thread-multi-ld
    /home/test/perl5/perlbrew/perls/perl-5.12.4/lib/5.12.4
    .