Net-Statsd-Server v0.20 Perl 5 v5.39.1 x86_64-linux-thread-multi-ld

Status
Pass
From
Andreas J. König (ANDK)
Dist
Net-Statsd-Server v0.20
Platform
Perl 5 v5.39.1 x86_64-linux-thread-multi-ld
Date
2023-08-20 22:55:34
ID
abf9db16-3fac-11ee-b3d3-86ede0e94e4e
This distribution has been tested as part of the CPAN Testers
project, supporting the Perl programming language.  See
http://wiki.cpantesters.org/ for more information or email
questions to cpan-testers-discuss@perl.org


--
Dear Cosimo Streppone,

This is a computer-generated report for Net-Statsd-Server-0.20
on perl 5.39.1, created by CPAN-Reporter-1.2019.

Thank you for uploading your work to CPAN.  Congratulations!
All tests were successful.

Sections of this report:

    * Tester comments
    * Program output
    * Prerequisites
    * Environment and other context

------------------------------
TESTER COMMENTS
------------------------------

Additional comments from tester:

this report is from an automated smoke testing program
and was not reviewed by a human for accuracy

------------------------------
PROGRAM OUTPUT
------------------------------

Output from '/usr/bin/make test':

PERL_DL_NONLAZY=1 "/tmp/basesmoker-reloperl-PLu4/bin/perl" "-MExtUtils::Command::MM" "-MTest::Harness" "-e" "undef *Test::Harness::Switches; test_harness(0, 'blib/lib', 'blib/arch')" t/*.t t/integration-tests/*.t
t/000-sanity.t ............................. ok
t/config.t ................................. ok
t/graphite.t ............................... ok
2023-08-20 22:50:21.000000 +0000 note  Net::Statsd::Server: Initializing Net::Statsd::Server::Backend::Console backend
2023-08-20 22:50:21.000000 +0000 note  Net::Statsd::Server: Initializing Net::Statsd::Server::Backend::Graphite backend
2023-08-20 22:50:21.000000 +0000 info  AnyEvent: Autoloaded model 'AnyEvent::Impl::EV', using it.
2023-08-20 22:50:21.754508 +0000 note  Net::Statsd::Server: statsd server started on 0.0.0.0:40001 (v0.17)
2023-08-20 22:50:21.754626 +0000 note  Net::Statsd::Server: manager interface started on 0.0.0.0:40002
2023-08-20 22:50:21.754720 +0000 note  Net::Statsd::Server: metrics flush will happen every 1s
2023-08-20 22:50:22.174654 +0000 warn  Net::Statsd::Server: Bad line: 1 in msg "a_bad_test_value|z"
2023-08-20 22:50:22.756802 +0000 note  Net::Statsd::Server: flushing metrics
Flushing stats at Sun Aug 20 22:50:22 2023
{"counter_rates":{"statsd.packets_received":1,"statsd.bad_lines_seen":1},"timer_data":{},"gauges":{},"timers":{},"counters":{"statsd.packets_received":1,"statsd.bad_lines_seen":1},"pctThreshold":[90],"sets":null}
t/integration-tests/bad-message.t .......... ok
2023-08-20 22:50:22.000000 +0000 note  Net::Statsd::Server: Initializing Net::Statsd::Server::Backend::Console backend
2023-08-20 22:50:22.000000 +0000 note  Net::Statsd::Server: Initializing Net::Statsd::Server::Backend::Graphite backend
2023-08-20 22:50:22.000000 +0000 info  AnyEvent: Autoloaded model 'AnyEvent::Impl::EV', using it.
2023-08-20 22:50:22.976203 +0000 note  Net::Statsd::Server: statsd server started on 0.0.0.0:40001 (v0.17)
2023-08-20 22:50:22.976232 +0000 note  Net::Statsd::Server: manager interface started on 0.0.0.0:40002
2023-08-20 22:50:22.976257 +0000 note  Net::Statsd::Server: metrics flush will happen every 1s
2023-08-20 22:50:23.978753 +0000 note  Net::Statsd::Server: flushing metrics
Flushing stats at Sun Aug 20 22:50:23 2023
{"sets":null,"gauges":{},"counters":{"statsd.packets_received":1,"statsd.bad_lines_seen":0,"a_test_value":100},"timer_data":{},"pctThreshold":[90],"timers":{},"counter_rates":{"statsd.packets_received":1,"statsd.bad_lines_seen":0,"a_test_value":100}}
# stats.counters.statsd.packets_received.rate 1.000000 1692571823
# stats.counters.statsd.packets_received.count 1 1692571823
# stats.counters.statsd.bad_lines_seen.rate 0.000000 1692571823
# stats.counters.statsd.bad_lines_seen.count 0 1692571823
# stats.counters.a_test_value.rate 100.000000 1692571823
# stats.counters.a_test_value.count 100 1692571823
# stats.statsd.numStats 3 1692571823
# stats.statsd.graphiteStats.calculationtime 0.034000 1692571823
# stats.statsd.processing_time 0.016 1692571823
# stats.statsd.graphiteStats.last_exception 94716417040256 1692571823
# stats.statsd.graphiteStats.last_flush 94716417040256 1692571823
t/integration-tests/counts-are-valid.t ..... ok
2023-08-20 22:50:24.000000 +0000 note  Net::Statsd::Server: Initializing Net::Statsd::Server::Backend::Graphite backend
2023-08-20 22:50:24.000000 +0000 info  AnyEvent: Autoloaded model 'AnyEvent::Impl::EV', using it.
2023-08-20 22:50:24.183790 +0000 note  Net::Statsd::Server: statsd server started on 0.0.0.0:40001 (v0.17)
2023-08-20 22:50:24.183818 +0000 note  Net::Statsd::Server: manager interface started on 0.0.0.0:40002
2023-08-20 22:50:24.183841 +0000 note  Net::Statsd::Server: metrics flush will happen every 1s
2023-08-20 22:50:25.185532 +0000 note  Net::Statsd::Server: flushing metrics
# First flush. Test gauge should be there.
2023-08-20 22:50:26.188409 +0000 note  Net::Statsd::Server: flushing metrics
# Second flush. deleteGauges=false should keep the test gauge.
t/integration-tests/delete-gauges-false.t .. ok
2023-08-20 22:50:26.000000 +0000 note  Net::Statsd::Server: Initializing Net::Statsd::Server::Backend::Graphite backend
2023-08-20 22:50:26.000000 +0000 info  AnyEvent: Autoloaded model 'AnyEvent::Impl::EV', using it.
2023-08-20 22:50:26.392139 +0000 note  Net::Statsd::Server: statsd server started on 0.0.0.0:40001 (v0.17)
2023-08-20 22:50:26.392180 +0000 note  Net::Statsd::Server: manager interface started on 0.0.0.0:40002
2023-08-20 22:50:26.392209 +0000 note  Net::Statsd::Server: metrics flush will happen every 1s
2023-08-20 22:50:27.394676 +0000 note  Net::Statsd::Server: flushing metrics
# First flush. Test gauge should be there.
2023-08-20 22:50:28.396512 +0000 note  Net::Statsd::Server: flushing metrics
# Second flush. deleteIdleStats should have cleared the test gauge.
t/integration-tests/delete-idle-stats.t .... ok
2023-08-20 22:50:28.000000 +0000 note  Net::Statsd::Server: Initializing Net::Statsd::Server::Backend::Console backend
2023-08-20 22:50:28.000000 +0000 note  Net::Statsd::Server: Initializing Net::Statsd::Server::Backend::Graphite backend
2023-08-20 22:50:28.000000 +0000 info  AnyEvent: Autoloaded model 'AnyEvent::Impl::EV', using it.
2023-08-20 22:50:28.607903 +0000 note  Net::Statsd::Server: statsd server started on 0.0.0.0:40001 (v0.17)
2023-08-20 22:50:28.607929 +0000 note  Net::Statsd::Server: manager interface started on 0.0.0.0:40002
2023-08-20 22:50:28.607955 +0000 note  Net::Statsd::Server: metrics flush will happen every 1s
2023-08-20 22:50:29.610631 +0000 note  Net::Statsd::Server: flushing metrics
Flushing stats at Sun Aug 20 22:50:29 2023
{"timers":{},"sets":null,"counters":{"statsd.bad_lines_seen":0,"statsd.packets_received":1,"a_test_value,category=web,severity=high":100},"counter_rates":{"statsd.packets_received":1,"statsd.bad_lines_seen":0,"a_test_value,category=web,severity=high":100},"pctThreshold":[90],"gauges":{},"timer_data":{}}
# stats.counters.statsd.bad_lines_seen.rate 0.000000 1692571829
# stats.counters.statsd.bad_lines_seen.count 0 1692571829
# stats.counters.statsd.packets_received.rate 1.000000 1692571829
# stats.counters.statsd.packets_received.count 1 1692571829
# stats.counters.a_test_value,category=web,severity=high.rate 100.000000 1692571829
# stats.counters.a_test_value,category=web,severity=high.count 100 1692571829
# stats.statsd.numStats 3 1692571829
# stats.statsd.graphiteStats.calculationtime 0.036000 1692571829
# stats.statsd.processing_time 0.018 1692571829
# stats.statsd.graphiteStats.last_exception 94548274458496 1692571829
# stats.statsd.graphiteStats.last_flush 94548274458496 1692571829
t/integration-tests/keys-with-tags.t ....... ok
2023-08-20 22:50:29.000000 +0000 note  Net::Statsd::Server: Initializing Net::Statsd::Server::Backend::Graphite backend
2023-08-20 22:50:29.000000 +0000 info  AnyEvent: Autoloaded model 'AnyEvent::Impl::EV', using it.
2023-08-20 22:50:29.812197 +0000 note  Net::Statsd::Server: statsd server started on 0.0.0.0:40001 (v0.17)
2023-08-20 22:50:29.812228 +0000 note  Net::Statsd::Server: manager interface started on 0.0.0.0:40002
2023-08-20 22:50:29.812256 +0000 note  Net::Statsd::Server: metrics flush will happen every 1s
# Expected mean value is 1957.98
2023-08-20 22:50:30.814836 +0000 note  Net::Statsd::Server: flushing metrics
# stats.counters.statsd.bad_lines_seen.rate 0.000000 1692571830
# stats.counters.statsd.bad_lines_seen.count 0 1692571830
# stats.counters.statsd.packets_received.rate 100.000000 1692571830
# stats.counters.statsd.packets_received.count 100 1692571830
# stats.timers.read_latency.count 100.000000 1692571830
# stats.timers.read_latency.sum_squares_99 407975119.000000 1692571830
# stats.timers.read_latency.count_98 98.000000 1692571830
# stats.timers.read_latency.upper_95 2908.000000 1692571830
# stats.timers.read_latency.median 1983.500000 1692571830
# stats.timers.read_latency.sum 195798.000000 1692571830
# stats.timers.read_latency.count_99 99.000000 1692571830
# stats.timers.read_latency.sum_squares_98 399005094.000000 1692571830
# stats.timers.read_latency.upper_99 2995.000000 1692571830
# stats.timers.read_latency.mean 1957.980000 1692571830
# stats.timers.read_latency.upper 2995.000000 1692571830
# stats.timers.read_latency.count_95 95.000000 1692571830
# stats.timers.read_latency.upper_98 2973.000000 1692571830
# stats.timers.read_latency.sum_99 192803.000000 1692571830
# stats.timers.read_latency.sum_98 189808.000000 1692571830
# stats.timers.read_latency.sum_squares_95 372796025.000000 1692571830
# stats.timers.read_latency.std 579.452983 1692571830
# stats.timers.read_latency.sum_95 180941.000000 1692571830
# stats.timers.read_latency.lower 1005.000000 1692571830
# stats.timers.read_latency.mean_98 1936.816327 1692571830
# stats.timers.read_latency.mean_95 1904.642105 1692571830
# stats.timers.read_latency.mean_99 1947.505051 1692571830
# stats.timers.read_latency.sum_squares 416945144.000000 1692571830
# stats.timers.read_latency.count_ps 100.000000 1692571830
# stats.statsd.numStats 3 1692571830
# stats.statsd.graphiteStats.calculationtime 0.077000 1692571830
# stats.statsd.processing_time 0.181 1692571830
# stats.statsd.graphiteStats.last_exception 94184758411136 1692571830
# stats.statsd.graphiteStats.last_flush 94184758411136 1692571830
t/integration-tests/percent-threshold.t .... ok
2023-08-20 22:50:30.000000 +0000 note  Net::Statsd::Server: Initializing Net::Statsd::Server::Backend::Console backend
2023-08-20 22:50:31.000000 +0000 note  Net::Statsd::Server: Initializing Net::Statsd::Server::Backend::Graphite backend
2023-08-20 22:50:31.000000 +0000 info  AnyEvent: Autoloaded model 'AnyEvent::Impl::EV', using it.
2023-08-20 22:50:31.017275 +0000 note  Net::Statsd::Server: statsd server started on 0.0.0.0:40001 (v0.17)
2023-08-20 22:50:31.017301 +0000 note  Net::Statsd::Server: manager interface started on 0.0.0.0:40002
2023-08-20 22:50:31.017327 +0000 note  Net::Statsd::Server: metrics flush will happen every 1s
2023-08-20 22:50:32.019710 +0000 note  Net::Statsd::Server: flushing metrics
Flushing stats at Sun Aug 20 22:50:32 2023
{"counters":{"statsd.bad_lines_seen":0,"statsd.packets_received":1},"counter_rates":{"statsd.packets_received":1,"statsd.bad_lines_seen":0},"pctThreshold":["90"],"timer_data":{"a_test_value":{"mean_90":"100","sum_squares":10000,"count":1,"median":"100","count_90":1,"lower":"100","mean":100,"sum":"100","upper":"100","upper_90":"100","std":0,"sum_90":"100","sum_squares_90":10000,"count_ps":1}},"gauges":{},"sets":null,"timers":{"a_test_value":["100"]}}
# stats.counters.statsd.bad_lines_seen.rate 0.000000 1692571832
# stats.counters.statsd.bad_lines_seen.count 0 1692571832
# stats.counters.statsd.packets_received.rate 1.000000 1692571832
# stats.counters.statsd.packets_received.count 1 1692571832
# stats.timers.a_test_value.mean_90 100.000000 1692571832
# stats.timers.a_test_value.sum_squares 10000.000000 1692571832
# stats.timers.a_test_value.count 1.000000 1692571832
# stats.timers.a_test_value.median 100.000000 1692571832
# stats.timers.a_test_value.count_90 1.000000 1692571832
# stats.timers.a_test_value.lower 100.000000 1692571832
# stats.timers.a_test_value.mean 100.000000 1692571832
# stats.timers.a_test_value.sum 100.000000 1692571832
# stats.timers.a_test_value.upper 100.000000 1692571832
# stats.timers.a_test_value.upper_90 100.000000 1692571832
# stats.timers.a_test_value.std 0.000000 1692571832
# stats.timers.a_test_value.sum_90 100.000000 1692571832
# stats.timers.a_test_value.sum_squares_90 10000.000000 1692571832
# stats.timers.a_test_value.count_ps 1.000000 1692571832
# stats.statsd.numStats 3 1692571832
# stats.statsd.graphiteStats.calculationtime 0.084000 1692571832
# stats.statsd.processing_time 0.047 1692571832
# stats.statsd.graphiteStats.last_exception 94397648416640 1692571832
# stats.statsd.graphiteStats.last_flush 94397648416640 1692571832
t/integration-tests/timers-are-valid.t ..... ok
t/process-metrics.t ........................ ok
t/trim.t ................................... ok
All tests successful.
Files=12, Tests=92, 11 wallclock secs ( 0.05 usr  0.01 sys +  1.12 cusr  0.32 csys =  1.50 CPU)
Result: PASS

------------------------------
PREREQUISITES
------------------------------

Prerequisite modules loaded:

requires:

    Module                Need Have    
    --------------------- ---- --------
    AnyEvent::Handle::UDP 0    0.050   
    IO::Socket::INET      0    1.52    
    JSON::XS              0    4.03    

build_requires:

    Module                Need Have    
    --------------------- ---- --------
    ExtUtils::MakeMaker   0    7.70    
    Test::More            0    1.302195

configure_requires:

    Module                Need Have    
    --------------------- ---- --------
    ExtUtils::MakeMaker   0    7.70    


------------------------------
ENVIRONMENT AND OTHER CONTEXT
------------------------------

Environment variables:

    AUTOMATED_TESTING = 1
    LANG = en_US.UTF-8
    LC_ADDRESS = de_DE.UTF-8
    LC_IDENTIFICATION = de_DE.UTF-8
    LC_MEASUREMENT = de_DE.UTF-8
    LC_MONETARY = de_DE.UTF-8
    LC_NAME = de_DE.UTF-8
    LC_NUMERIC = de_DE.UTF-8
    LC_PAPER = de_DE.UTF-8
    LC_TELEPHONE = de_DE.UTF-8
    LC_TIME = de_DE.UTF-8
    PATH = /home/sand/bin:/usr/local/bin:/usr/local/sbin:/usr/sbin:/usr/bin:/sbin:/bin:/usr/games:/usr/local/games:/snap/bin:/usr/local/perl/bin:/usr/X11/bin
    PERL5LIB = /tmp/loop_over_bdir-514325-jL25_7/Lingua-YaTeA-0.626-0/blib/arch:/tmp/loop_over_bdir-514325-jL25_7/Lingua-YaTeA-0.626-0/blib/lib:/tmp/loop_over_bdir-514325-jL25_7/MP3-PodcastFetch-1.05-0/blib/arch:/tmp/loop_over_bdir-514325-jL25_7/MP3-PodcastFetch-1.05-0/blib/lib:/tmp/loop_over_bdir-514325-jL25_7/App-nrun-v1.1.2-0/blib/arch:/tmp/loop_over_bdir-514325-jL25_7/App-nrun-v1.1.2-0/blib/lib:/tmp/loop_over_bdir-514325-jL25_7/shishi-0.0.1-0/blib/arch:/tmp/loop_over_bdir-514325-jL25_7/shishi-0.0.1-0/blib/lib:/tmp/loop_over_bdir-514325-jL25_7/EJBCA-CrlPublish-0.60-0/blib/arch:/tmp/loop_over_bdir-514325-jL25_7/EJBCA-CrlPublish-0.60-0/blib/lib:/tmp/loop_over_bdir-514325-jL25_7/perl-Hardware-UPS-Perl-0.43-0/blib/arch:/tmp/loop_over_bdir-514325-jL25_7/perl-Hardware-UPS-Perl-0.43-0/blib/lib:/tmp/loop_over_bdir-514325-jL25_7/Sysync-0.35-0/blib/arch:/tmp/loop_over_bdir-514325-jL25_7/Sysync-0.35-0/blib/lib:/tmp/loop_over_bdir-514325-jL25_7/Net-OpenVPN-DDNS-0.1-0/blib/arch:/tmp/loop_over_bdir-514325-jL25_7/Net-OpenVPN-DDNS-0.1-0/blib/lib:/tmp/loop_over_bdir-514325-jL25_7/Devel-Required-0.16-0/blib/arch:/tmp/loop_over_bdir-514325-jL25_7/Devel-Required-0.16-0/blib/lib:/tmp/loop_over_bdir-514325-jL25_7/Business-Shipping-DataFiles-1.02-0/blib/arch:/tmp/loop_over_bdir-514325-jL25_7/Business-Shipping-DataFiles-1.02-0/blib/lib:/tmp/loop_over_bdir-514325-jL25_7/Debian-Packages-0.03-0/blib/arch:/tmp/loop_over_bdir-514325-jL25_7/Debian-Packages-0.03-0/blib/lib:/tmp/loop_over_bdir-514325-jL25_7/Simulation-Automate-1.0.1-0/blib/arch:/tmp/loop_over_bdir-514325-jL25_7/Simulation-Automate-1.0.1-0/blib/lib:/tmp/loop_over_bdir-514325-jL25_7/Linux-InitFS-0.2-0/blib/arch:/tmp/loop_over_bdir-514325-jL25_7/Linux-InitFS-0.2-0/blib/lib:/tmp/loop_over_bdir-514325-jL25_7/triceps-2.1.0-0/blib/arch:/tmp/loop_over_bdir-514325-jL25_7/triceps-2.1.0-0/blib/lib:/tmp/loop_over_bdir-514325-jL25_7/DBIx-Migration-Directories-0.12-0/blib/arch:/tmp/loop_over_bdir-514325-jL25_7/DBIx-Migration-Directories-0.12-0/blib/lib:/tmp/loop_over_bdir-514325-jL25_7/Alien-SNMP-MIBDEV-2.020000-0/blib/arch:/tmp/loop_over_bdir-514325-jL25_7/Alien-SNMP-MIBDEV-2.020000-0/blib/lib:/tmp/loop_over_bdir-514325-jL25_7/ProjectBuilder-0.14.1-0/blib/arch:/tmp/loop_over_bdir-514325-jL25_7/ProjectBuilder-0.14.1-0/blib/lib:/tmp/loop_over_bdir-514325-jL25_7/Encode-IBM-0.11-0/blib/arch:/tmp/loop_over_bdir-514325-jL25_7/Encode-IBM-0.11-0/blib/lib:/tmp/loop_over_bdir-514325-jL25_7/makepp-1.19-0/blib/arch:/tmp/loop_over_bdir-514325-jL25_7/makepp-1.19-0/blib/lib
    PERL5OPT = 
    PERL5_CPANPLUS_IS_RUNNING = 514333
    PERL5_CPAN_IS_RUNNING = 514333
    PERL_CANARY_STABILITY_NOPROMPT = 1
    PERL_MM_USE_DEFAULT = 1
    PERL_USE_UNSAFE_INC = 1
    SHELL = /usr/bin/zsh
    TERM = screen

Perl special variables (and OS-specific diagnostics, for MSWin32):

    $^X = /tmp/basesmoker-reloperl-PLu4/bin/perl
    $UID/$EUID = 1005 / 1005
    $GID = 1005 1005
    $EGID = 1005 1005

Perl module toolchain versions installed:

    Module              Have    
    ------------------- --------
    CPAN                2.36    
    CPAN::Meta          2.150010
    Cwd                 3.89    
    ExtUtils::CBuilder  0.280239
    ExtUtils::Command   7.70    
    ExtUtils::Install   2.22    
    ExtUtils::MakeMaker 7.70    
    ExtUtils::Manifest  1.75    
    ExtUtils::ParseXS   3.51    
    File::Spec          3.88    
    JSON                4.10    
    JSON::PP            4.16    
    Module::Build       0.4234  
    Module::Signature   0.88    
    Parse::CPAN::Meta   2.150010
    Test2               1.302195
    Test::Harness       3.47    
    Test::More          1.302195
    YAML                1.30    
    YAML::Syck          1.34    
    version             0.9929  


--

Summary of my perl5 (revision 5 version 39 subversion 1) configuration:
  Commit id: 8c6729f5e3d051878ec60933bcc19650d2dddb85
  Platform:
    osname=linux
    osvers=6.2.0-26-generic
    archname=x86_64-linux-thread-multi-ld
    uname='linux k93jammy 6.2.0-26-generic #26~22.04.1-ubuntu smp preempt_dynamic thu jul 13 16:27:29 utc 2 x86_64 x86_64 x86_64 gnulinux '
    config_args='-Dprefix=/home/sand/src/perl/repoperls/installed-perls/host/k93jammy/v5.39.1/322f -Dmyhostname=k93jammy -Dinstallusrbinperl=n -Uversiononly -Dusedevel -des -Ui_db -Dlibswanted=cl pthread socket inet nsl gdbm dbm malloc dl ld sun m crypt sec util c cposix posix ucb BSD gdbm_compat -Duseithreads -Duselongdouble -DEBUGGING=-g'
    hint=recommended
    useposix=true
    d_sigaction=define
    useithreads=define
    usemultiplicity=define
    use64bitint=define
    use64bitall=define
    uselongdouble=define
    usemymalloc=n
    default_inc_excludes_dot=define
  Compiler:
    cc='cc'
    ccflags ='-D_REENTRANT -D_GNU_SOURCE -fwrapv -fno-strict-aliasing -pipe -fstack-protector-strong -I/usr/local/include -D_LARGEFILE_SOURCE -D_FILE_OFFSET_BITS=64'
    optimize='-O2 -g'
    cppflags='-D_REENTRANT -D_GNU_SOURCE -fwrapv -fno-strict-aliasing -pipe -fstack-protector-strong -I/usr/local/include'
    ccversion=''
    gccversion='11.4.0'
    gccosandvers=''
    intsize=4
    longsize=8
    ptrsize=8
    doublesize=8
    byteorder=12345678
    doublekind=3
    d_longlong=define
    longlongsize=8
    d_longdbl=define
    longdblsize=16
    longdblkind=3
    ivtype='long'
    ivsize=8
    nvtype='long double'
    nvsize=16
    Off_t='off_t'
    lseeksize=8
    alignbytes=16
    prototype=define
  Linker and Libraries:
    ld='cc'
    ldflags =' -fstack-protector-strong -L/usr/local/lib'
    libpth=/usr/local/lib /usr/lib/x86_64-linux-gnu /usr/lib /usr/lib64
    libs=-lpthread -lnsl -ldl -lm -lcrypt -lutil -lc
    perllibs=-lpthread -lnsl -ldl -lm -lcrypt -lutil -lc
    libc=/lib/x86_64-linux-gnu/libc.so.6
    so=so
    useshrplib=false
    libperl=libperl.a
    gnulibc_version='2.35'
  Dynamic Linking:
    dlsrc=dl_dlopen.xs
    dlext=so
    d_dlsymun=undef
    ccdlflags='-Wl,-E'
    cccdlflags='-fPIC'
    lddlflags='-shared -O2 -g -L/usr/local/lib -fstack-protector-strong'


Characteristics of this binary (from libperl): 
  Compile-time options:
    HAS_LONG_DOUBLE
    HAS_STRTOLD
    HAS_TIMES
    MULTIPLICITY
    PERLIO_LAYERS
    PERL_COPY_ON_WRITE
    PERL_DONT_CREATE_GVSV
    PERL_HASH_FUNC_SIPHASH13
    PERL_HASH_USE_SBOX32
    PERL_MALLOC_WRAP
    PERL_OP_PARENT
    PERL_PRESERVE_IVUV
    PERL_USE_DEVEL
    PERL_USE_SAFE_PUTENV
    USE_64_BIT_ALL
    USE_64_BIT_INT
    USE_ITHREADS
    USE_LARGE_FILES
    USE_LOCALE
    USE_LOCALE_COLLATE
    USE_LOCALE_CTYPE
    USE_LOCALE_NUMERIC
    USE_LOCALE_TIME
    USE_LONG_DOUBLE
    USE_PERLIO
    USE_PERL_ATOF
    USE_REENTRANT_API
    USE_THREAD_SAFE_LOCALE
  Built under linux
  Compiled at Aug 16 2023 03:59:33
  %ENV:
    PERL5LIB="/tmp/loop_over_bdir-514325-jL25_7/Lingua-YaTeA-0.626-0/blib/arch:/tmp/loop_over_bdir-514325-jL25_7/Lingua-YaTeA-0.626-0/blib/lib:/tmp/loop_over_bdir-514325-jL25_7/MP3-PodcastFetch-1.05-0/blib/arch:/tmp/loop_over_bdir-514325-jL25_7/MP3-PodcastFetch-1.05-0/blib/lib:/tmp/loop_over_bdir-514325-jL25_7/App-nrun-v1.1.2-0/blib/arch:/tmp/loop_over_bdir-514325-jL25_7/App-nrun-v1.1.2-0/blib/lib:/tmp/loop_over_bdir-514325-jL25_7/shishi-0.0.1-0/blib/arch:/tmp/loop_over_bdir-514325-jL25_7/shishi-0.0.1-0/blib/lib:/tmp/loop_over_bdir-514325-jL25_7/EJBCA-CrlPublish-0.60-0/blib/arch:/tmp/loop_over_bdir-514325-jL25_7/EJBCA-CrlPublish-0.60-0/blib/lib:/tmp/loop_over_bdir-514325-jL25_7/perl-Hardware-UPS-Perl-0.43-0/blib/arch:/tmp/loop_over_bdir-514325-jL25_7/perl-Hardware-UPS-Perl-0.43-0/blib/lib:/tmp/loop_over_bdir-514325-jL25_7/Sysync-0.35-0/blib/arch:/tmp/loop_over_bdir-514325-jL25_7/Sysync-0.35-0/blib/lib:/tmp/loop_over_bdir-514325-jL25_7/Net-OpenVPN-DDNS-0.1-0/blib/arch:/tmp/loop_over_bdir-514325-jL25_7/Net-OpenVPN-DDNS-0.1-0/blib/lib:/tmp/loop_over_bdir-514325-jL25_7/Devel-Required-0.16-0/blib/arch:/tmp/loop_over_bdir-514325-jL25_7/Devel-Required-0.16-0/blib/lib:/tmp/loop_over_bdir-514325-jL25_7/Business-Shipping-DataFiles-1.02-0/blib/arch:/tmp/loop_over_bdir-514325-jL25_7/Business-Shipping-DataFiles-1.02-0/blib/lib:/tmp/loop_over_bdir-514325-jL25_7/Debian-Packages-0.03-0/blib/arch:/tmp/loop_over_bdir-514325-jL25_7/Debian-Packages-0.03-0/blib/lib:/tmp/loop_over_bdir-514325-jL25_7/Simulation-Automate-1.0.1-0/blib/arch:/tmp/loop_over_bdir-514325-jL25_7/Simulation-Automate-1.0.1-0/blib/lib:/tmp/loop_over_bdir-514325-jL25_7/Linux-InitFS-0.2-0/blib/arch:/tmp/loop_over_bdir-514325-jL25_7/Linux-InitFS-0.2-0/blib/lib:/tmp/loop_over_bdir-514325-jL25_7/triceps-2.1.0-0/blib/arch:/tmp/loop_over_bdir-514325-jL25_7/triceps-2.1.0-0/blib/lib:/tmp/loop_over_bdir-514325-jL25_7/DBIx-Migration-Directories-0.12-0/blib/arch:/tmp/loop_over_bdir-514325-jL25_7/DBIx-Migration-Directories-0.12-0/blib/lib:/tmp/loop_over_bdir-514325-jL25_7/Alien-SNMP-MIBDEV-2.020000-0/blib/arch:/tmp/loop_over_bdir-514325-jL25_7/Alien-SNMP-MIBDEV-2.020000-0/blib/lib:/tmp/loop_over_bdir-514325-jL25_7/ProjectBuilder-0.14.1-0/blib/arch:/tmp/loop_over_bdir-514325-jL25_7/ProjectBuilder-0.14.1-0/blib/lib:/tmp/loop_over_bdir-514325-jL25_7/Encode-IBM-0.11-0/blib/arch:/tmp/loop_over_bdir-514325-jL25_7/Encode-IBM-0.11-0/blib/lib:/tmp/loop_over_bdir-514325-jL25_7/makepp-1.19-0/blib/arch:/tmp/loop_over_bdir-514325-jL25_7/makepp-1.19-0/blib/lib"
    PERL5OPT=""
    PERL5_CPANPLUS_IS_RUNNING="514333"
    PERL5_CPAN_IS_RUNNING="514333"
    PERL_CANARY_STABILITY_NOPROMPT="1"
    PERL_MM_USE_DEFAULT="1"
    PERL_USE_UNSAFE_INC="1"
  @INC:
    /tmp/loop_over_bdir-514325-jL25_7/Lingua-YaTeA-0.626-0/blib/arch
    /tmp/loop_over_bdir-514325-jL25_7/Lingua-YaTeA-0.626-0/blib/lib
    /tmp/loop_over_bdir-514325-jL25_7/MP3-PodcastFetch-1.05-0/blib/arch
    /tmp/loop_over_bdir-514325-jL25_7/MP3-PodcastFetch-1.05-0/blib/lib
    /tmp/loop_over_bdir-514325-jL25_7/App-nrun-v1.1.2-0/blib/arch
    /tmp/loop_over_bdir-514325-jL25_7/App-nrun-v1.1.2-0/blib/lib
    /tmp/loop_over_bdir-514325-jL25_7/shishi-0.0.1-0/blib/arch
    /tmp/loop_over_bdir-514325-jL25_7/shishi-0.0.1-0/blib/lib
    /tmp/loop_over_bdir-514325-jL25_7/EJBCA-CrlPublish-0.60-0/blib/arch
    /tmp/loop_over_bdir-514325-jL25_7/EJBCA-CrlPublish-0.60-0/blib/lib
    /tmp/loop_over_bdir-514325-jL25_7/perl-Hardware-UPS-Perl-0.43-0/blib/arch
    /tmp/loop_over_bdir-514325-jL25_7/perl-Hardware-UPS-Perl-0.43-0/blib/lib
    /tmp/loop_over_bdir-514325-jL25_7/Sysync-0.35-0/blib/arch
    /tmp/loop_over_bdir-514325-jL25_7/Sysync-0.35-0/blib/lib
    /tmp/loop_over_bdir-514325-jL25_7/Net-OpenVPN-DDNS-0.1-0/blib/arch
    /tmp/loop_over_bdir-514325-jL25_7/Net-OpenVPN-DDNS-0.1-0/blib/lib
    /tmp/loop_over_bdir-514325-jL25_7/Devel-Required-0.16-0/blib/arch
    /tmp/loop_over_bdir-514325-jL25_7/Devel-Required-0.16-0/blib/lib
    /tmp/loop_over_bdir-514325-jL25_7/Business-Shipping-DataFiles-1.02-0/blib/arch
    /tmp/loop_over_bdir-514325-jL25_7/Business-Shipping-DataFiles-1.02-0/blib/lib
    /tmp/loop_over_bdir-514325-jL25_7/Debian-Packages-0.03-0/blib/arch
    /tmp/loop_over_bdir-514325-jL25_7/Debian-Packages-0.03-0/blib/lib
    /tmp/loop_over_bdir-514325-jL25_7/Simulation-Automate-1.0.1-0/blib/arch
    /tmp/loop_over_bdir-514325-jL25_7/Simulation-Automate-1.0.1-0/blib/lib
    /tmp/loop_over_bdir-514325-jL25_7/Linux-InitFS-0.2-0/blib/arch
    /tmp/loop_over_bdir-514325-jL25_7/Linux-InitFS-0.2-0/blib/lib
    /tmp/loop_over_bdir-514325-jL25_7/triceps-2.1.0-0/blib/arch
    /tmp/loop_over_bdir-514325-jL25_7/triceps-2.1.0-0/blib/lib
    /tmp/loop_over_bdir-514325-jL25_7/DBIx-Migration-Directories-0.12-0/blib/arch
    /tmp/loop_over_bdir-514325-jL25_7/DBIx-Migration-Directories-0.12-0/blib/lib
    /tmp/loop_over_bdir-514325-jL25_7/Alien-SNMP-MIBDEV-2.020000-0/blib/arch
    /tmp/loop_over_bdir-514325-jL25_7/Alien-SNMP-MIBDEV-2.020000-0/blib/lib
    /tmp/loop_over_bdir-514325-jL25_7/ProjectBuilder-0.14.1-0/blib/arch
    /tmp/loop_over_bdir-514325-jL25_7/ProjectBuilder-0.14.1-0/blib/lib
    /tmp/loop_over_bdir-514325-jL25_7/Encode-IBM-0.11-0/blib/arch
    /tmp/loop_over_bdir-514325-jL25_7/Encode-IBM-0.11-0/blib/lib
    /tmp/loop_over_bdir-514325-jL25_7/makepp-1.19-0/blib/arch
    /tmp/loop_over_bdir-514325-jL25_7/makepp-1.19-0/blib/lib
    /home/sand/src/perl/repoperls/installed-perls/host/k93jammy/v5.39.1/322f/lib/site_perl/5.39.1/x86_64-linux-thread-multi-ld
    /home/sand/src/perl/repoperls/installed-perls/host/k93jammy/v5.39.1/322f/lib/site_perl/5.39.1
    /home/sand/src/perl/repoperls/installed-perls/host/k93jammy/v5.39.1/322f/lib/5.39.1/x86_64-linux-thread-multi-ld
    /home/sand/src/perl/repoperls/installed-perls/host/k93jammy/v5.39.1/322f/lib/5.39.1
    .