Report for MooseX-Types-Structured-0.30

Back
From: metabase:user:320bfe00-2aae-11df-837a-5e0a49663a4f
Subject: PASS MooseX-Types-Structured-0.30 v5.21.6 GNU/Linux
Date: 2015-03-18T10:22:25Z

This distribution has been tested as part of the CPAN Testers
project, supporting the Perl programming language.  See
http://wiki.cpantesters.org/ for more information or email
questions to cpan-testers-discuss@perl.org


--
Dear Karen Etheridge,

This is a computer-generated report for MooseX-Types-Structured-0.30
on perl 5.21.6, created by CPAN-Reporter-1.2011.

Thank you for uploading your work to CPAN.  Congratulations!
All tests were successful.

Sections of this report:

    * Tester comments
    * Program output
    * Prerequisites
    * Environment and other context

------------------------------
TESTER COMMENTS
------------------------------

Additional comments from tester:

this report is from an automated smoke testing program
and was not reviewed by a human for accuracy

------------------------------
PROGRAM OUTPUT
------------------------------

Output from './Build test':

t/00-load.t .................... ok

# Versions for all modules listed in MYMETA.json (including optional ones):
#        Version Module                                      
#   ------------ --------------------------------------------
#       2.150001 CPAN::Meta                                  
#          2.130 CPAN::Meta::Requirements                    
#          2.154 Data::Dumper                                
#           1.18 DateTime                                    
#           0.17 Devel::PartialDump                          
#           7.04 ExtUtils::MakeMaker                         
#           3.51 File::Spec::Functions                       
#           1.41 List::Util                                  
#          0.039 Module::Build::Tiny                         
#         2.1403 Moose                                       
#         2.1403 Moose::Meta::TypeCoercion                   
#         2.1403 Moose::Meta::TypeConstraint                 
#         2.1403 Moose::Meta::TypeConstraint::Parameterizable
#         2.1403 Moose::Util::TypeConstraints                
#           0.45 MooseX::Types                               
#           0.10 MooseX::Types::DateTime                     
#           0.45 MooseX::Types::Moose                        
#           1.41 Scalar::Util                                
#          0.987 Sub::Exporter                               
#          0.014 Test::Fatal                                 
#   1.301001_075 Test::More                                  
#           1.24 overload                                    
#           1.08 strict                                      
#           1.29 warnings                                    
t/00-report-prereqs.t .......... ok
t/01-basic.t ................... ok
t/02-tuple.t ................... ok
t/03-dict.t .................... ok
t/04-combined.t ................ ok
t/04-map.t ..................... ok
t/05-advanced.t ................ ok
t/06-api.t ..................... ok
t/07-coerce.t .................. ok
t/08-examples.t ................ ok
t/09-optional.t ................ ok
t/10-recursion.t ............... ok
t/11-overflow.t ................ ok
t/12-error.t ................... ok
t/13-deeper_error.t ............ ok
t/bug-incorrect-message.t ...... ok
t/bug-is-subtype.t ............. ok
t/bug-mixed-stringy.t .......... ok
t/bug-optional.t ............... ok
t/regressions/01-is_type_of.t .. ok
All tests successful.
Files=21, Tests=357, 24 wallclock secs ( 0.12 usr  0.15 sys + 10.32 cusr  1.17 csys = 11.76 CPU)
Result: PASS

------------------------------
PREREQUISITES
------------------------------

Prerequisite modules loaded:

requires:

    Module                                       Need  Have        
    -------------------------------------------- ----- ------------
    Devel::PartialDump                           0.13  0.17        
    Moose                                        1.08  2.1403      
    Moose::Meta::TypeCoercion                    0     2.1403      
    Moose::Meta::TypeConstraint                  0     2.1403      
    Moose::Meta::TypeConstraint::Parameterizable 0     2.1403      
    Moose::Util::TypeConstraints                 1.06  2.1403      
    MooseX::Types                                0.22  0.45        
    overload                                     0     1.24        
    perl                                         5.008 5.021006    
    Scalar::Util                                 0     1.41        
    Sub::Exporter                                0.982 0.987       

build_requires:

    Module                                       Need  Have        
    -------------------------------------------- ----- ------------
    Data::Dumper                                 0     2.154       
    DateTime                                     0     1.18        
    ExtUtils::MakeMaker                          0     7.04        
    File::Spec::Functions                        0     3.51        
    List::Util                                   0     1.41        
    MooseX::Types::DateTime                      0     0.10        
    MooseX::Types::Moose                         0     0.45        
    strict                                       0     1.08        
    Test::Fatal                                  0     0.014       
    Test::More                                   0.94  1.301001_075
    warnings                                     0     1.29        

configure_requires:

    Module                                       Need  Have        
    -------------------------------------------- ----- ------------
    ExtUtils::MakeMaker                          6.30  7.04        
    Module::Build::Tiny                          0.030 0.039       


------------------------------
ENVIRONMENT AND OTHER CONTEXT
------------------------------

Environment variables:

    AUTOMATED_TESTING = 1
    LANG = en_US.UTF-8
    LANGUAGE = en_US:en
    PATH = /home/sand/bin:/usr/local/bin:/usr/bin:/bin:/usr/games:/usr/local/perl/bin:/usr/X11/bin:/sbin:/usr/sbin
    PERL5LIB = 
    PERL5OPT = 
    PERL5_CPANPLUS_IS_RUNNING = 7849
    PERL5_CPAN_IS_RUNNING = 7849
    PERL_MM_USE_DEFAULT = 1
    SHELL = /usr/bin/zsh
    TERM = screen

Perl special variables (and OS-specific diagnostics, for MSWin32):

    $^X = /home/sand/src/perl/repoperls/installed-perls/perl/v5.21.6/9980/bin/perl
    $UID/$EUID = 1005 / 1005
    $GID = 1005 1005
    $EGID = 1005 1005

Perl module toolchain versions installed:

    Module              Have        
    ------------------- ------------
    CPAN                2.10        
    CPAN::Meta          2.150001    
    Cwd                 3.51        
    ExtUtils::CBuilder  0.280220    
    ExtUtils::Command   1.18        
    ExtUtils::Install   2.04        
    ExtUtils::MakeMaker 7.04        
    ExtUtils::Manifest  1.69        
    ExtUtils::ParseXS   3.26        
    File::Spec          3.51        
    JSON                2.90        
    JSON::PP            2.27300     
    Module::Build       0.4211      
    Module::Signature   0.73        
    Parse::CPAN::Meta   1.4414      
    Test::Harness       3.35        
    Test::More          1.301001_075
    YAML                1.14        
    YAML::Syck          1.29        
    version             0.9912      


--

Summary of my perl5 (revision 5 version 21 subversion 6) configuration:
  Commit id: 6ed80d55657304061a4d51a3aa68a5ec84f59881
  Platform:
    osname=linux, osvers=3.16.0-4-amd64, archname=x86_64-linux-thread-multi
    uname='linux k83 3.16.0-4-amd64 #1 smp debian 3.16.7-ckt7-1 (2015-03-01) x86_64 gnulinux '
    config_args='-Dprefix=/home/sand/src/perl/repoperls/installed-perls/perl/v5.21.6/9980 -Dmyhostname=k83 -Dinstallusrbinperl=n -Uversiononly -Dusedevel -des -Ui_db -Duseithreads -Uuselongdouble -DDEBUGGING=-g'
    hint=recommended, useposix=true, d_sigaction=define
    useithreads=define, usemultiplicity=define
    use64bitint=define, use64bitall=define, uselongdouble=undef
    usemymalloc=n, bincompat5005=undef
  Compiler:
    cc='cc', ccflags ='-D_REENTRANT -D_GNU_SOURCE -fwrapv -fno-strict-aliasing -pipe -fstack-protector-strong -I/usr/local/include -D_LARGEFILE_SOURCE -D_FILE_OFFSET_BITS=64 -D_FORTIFY_SOURCE=2',
    optimize='-O2 -g',
    cppflags='-D_REENTRANT -D_GNU_SOURCE -fwrapv -fno-strict-aliasing -pipe -fstack-protector-strong -I/usr/local/include'
    ccversion='', gccversion='4.9.2', gccosandvers=''
    intsize=4, longsize=8, ptrsize=8, doublesize=8, byteorder=12345678, doublekind=3
    d_longlong=define, longlongsize=8, d_longdbl=define, longdblsize=16, longdblkind=3
    ivtype='long', ivsize=8, nvtype='double', nvsize=8, Off_t='off_t', lseeksize=8
    alignbytes=8, prototype=define
  Linker and Libraries:
    ld='cc', ldflags =' -fstack-protector-strong -L/usr/local/lib'
    libpth=/usr/local/lib /usr/lib/gcc/x86_64-linux-gnu/4.9/include-fixed /usr/include/x86_64-linux-gnu /usr/lib /lib/x86_64-linux-gnu /lib/../lib /usr/lib/x86_64-linux-gnu /usr/lib/../lib /lib
    libs=-lnsl -lgdbm -ldb -ldl -lm -lcrypt -lutil -lpthread -lc -lgdbm_compat
    perllibs=-lnsl -ldl -lm -lcrypt -lutil -lpthread -lc
    libc=libc-2.19.so, so=so, useshrplib=false, libperl=libperl.a
    gnulibc_version='2.19'
  Dynamic Linking:
    dlsrc=dl_dlopen.xs, dlext=so, d_dlsymun=undef, ccdlflags='-Wl,-E'
    cccdlflags='-fPIC', lddlflags='-shared -O2 -g -L/usr/local/lib -fstack-protector-strong'


Characteristics of this binary (from libperl): 
  Compile-time options: HAS_TIMES MULTIPLICITY PERLIO_LAYERS
                        PERL_DONT_CREATE_GVSV
                        PERL_HASH_FUNC_ONE_AT_A_TIME_HARD
                        PERL_IMPLICIT_CONTEXT PERL_MALLOC_WRAP
                        PERL_NEW_COPY_ON_WRITE PERL_PRESERVE_IVUV
                        PERL_USE_DEVEL USE_64_BIT_ALL USE_64_BIT_INT
                        USE_ITHREADS USE_LARGE_FILES USE_LOCALE
                        USE_LOCALE_COLLATE USE_LOCALE_CTYPE
                        USE_LOCALE_NUMERIC USE_LOCALE_TIME USE_PERLIO
                        USE_PERL_ATOF USE_REENTRANT_API
  Built under linux
  Compiled at Mar 15 2015 04:44:51
  %ENV:
    PERL5LIB=""
    PERL5OPT=""
    PERL5_CPANPLUS_IS_RUNNING="7849"
    PERL5_CPAN_IS_RUNNING="7849"
    PERL_MM_USE_DEFAULT="1"
  @INC:
    /home/sand/src/perl/repoperls/installed-perls/perl/v5.21.6/9980/lib/site_perl/5.21.6/x86_64-linux-thread-multi
    /home/sand/src/perl/repoperls/installed-perls/perl/v5.21.6/9980/lib/site_perl/5.21.6
    /home/sand/src/perl/repoperls/installed-perls/perl/v5.21.6/9980/lib/5.21.6/x86_64-linux-thread-multi
    /home/sand/src/perl/repoperls/installed-perls/perl/v5.21.6/9980/lib/5.21.6
    .