Report for Net-Server-2.008

Back
From: metabase:user:c086eaf4-c8a4-11e2-b158-c35ef8e388f9
Subject: PASS Net-Server-2.008 v5.8.9 Mac OS X
Date: 2014-11-11T21:14:07Z

This distribution has been tested as part of the CPAN Testers
project, supporting the Perl programming language.  See
http://wiki.cpantesters.org/ for more information or email
questions to cpan-testers-discuss@perl.org


--
Dear RHANDOM,

This is a computer-generated report for Net-Server-2.008
on perl 5.8.9, created by App::cpanminus::reporter 0.11 (1.7014).

Thank you for uploading your work to CPAN.  Congratulations!
All tests were successful.

Sections of this report:

    * Tester comments
    * Program output
    * Prerequisites
    * Environment and other context

------------------------------
TESTER COMMENTS
------------------------------

Additional comments from tester:

none provided

------------------------------
PROGRAM OUTPUT
------------------------------

Output from '':

Building and testing Net-Server-2.008
cp bin/net-server blib/script/net-server
"/Users/ether/perl5/perlbrew/perls/perl-5.8.9/bin/perl" -MExtUtils::MY -e 'MY->fixin(shift)' -- blib/script/net-server
Manifying 1 pod document
Manifying 21 pod documents
PERL_DL_NONLAZY=1 "/Users/ether/perl5/perlbrew/perls/perl-5.8.9/bin/perl" "-MExtUtils::Command::MM" "-MTest::Harness" "-e" "undef *Test::Harness::Switches; test_harness(0, 'blib/lib', 'blib/arch')" t/*.t
t/Options.t ............... ok
t/Server_Fork.t ........... ok
t/Server_BASE.t ........... ok
t/Server_Multiplex.t ...... ok
t/Server_INET.t ........... ok
t/Server_http.t ........... ok
t/Server_MultiType.t ...... ok
t/Port_Configuration.t .... ok
t/Server_Single.t ......... ok
t/Server_PreFork.t ........ ok
t/Server_PreForkSimple.t .. ok
t/UDP_test.t .............. ok
t/SSLEAY_test.t ........... ok
t/UNIX_test.t ............. ok
t/SSL_test.t .............. ok
All tests successful.
Files=15, Tests=185,  2 wallclock secs ( 0.09 usr  0.06 sys +  1.12 cusr  0.35 csys =  1.62 CPU)
Result: PASS

------------------------------
PREREQUISITES
------------------------------

Prerequisite modules loaded:

    No requirements found

------------------------------
ENVIRONMENT AND OTHER CONTEXT
------------------------------

Environment variables:

    LANG = en_CA.UTF-8
    PATH = /Users/ether/perl5/perlbrew/bin:/Users/ether/perl5/perlbrew/perls/perl-5.8.9/bin:/Users/ether/bin:/Users/ether/git/misc/install/tequila/bin:/Users/ether/git/misc/install/generic/bin:/opt/local/bin:/opt/local/sbin:/Users/ether/git/git-hub/lib:/Users/ether/src/CE/devtools:/Users/ether/git/CE/devtools:/Users/ether/src/CE/bin:/Users/ether/git/CE/bin:/usr/bin:/bin:/usr/sbin:/sbin:/usr/local/bin:/usr/X11/bin:/opt/local/share/git-core/contrib/workdir
    PERLBREW_BASHRC_VERSION = 0.71
    PERLBREW_HOME = /Users/ether/.perlbrew
    PERLBREW_MANPATH = /Users/ether/perl5/perlbrew/perls/perl-5.8.9/man
    PERLBREW_PATH = /Users/ether/perl5/perlbrew/bin:/Users/ether/perl5/perlbrew/perls/perl-5.8.9/bin
    PERLBREW_PERL = perl-5.8.9
    PERLBREW_ROOT = /Users/ether/perl5/perlbrew
    PERLBREW_VERSION = 0.71
    PERLDOC_PAGER = less -sicMr
    PERL_AUTOINSTALL_PREFER_CPAN = 1
    PERL_INSTALL_QUIET = 1
    SHELL = /bin/bash
    TERM = xterm-color

Perl special variables (and OS-specific diagnostics, for MSWin32):

    EGID = 20 20 402 204 100 98 81 80 79 61 12 404 401 403
    EUID = 503
    EXECUTABLE_NAME = /Users/ether/perl5/perlbrew/perls/perl-5.8.9/bin/perl
    GID = 20 20 402 204 100 98 81 80 79 61 12 404 401 403
    UID = 503

Perl module toolchain versions installed:

    Module              Have    
    ------------------- --------
    CPAN                broken  
    CPAN::Meta          2.142690
    Cwd                 3.47    
    ExtUtils::CBuilder  0.280220
    ExtUtils::Command   1.18    
    ExtUtils::Install   2.04    
    ExtUtils::MakeMaker 7.02    
    ExtUtils::Manifest  1.68    
    ExtUtils::ParseXS   3.24    
    File::Spec          3.47    
    JSON                2.90    
    JSON::PP            broken  
    Module::Build       0.4210  
    Module::Signature   n/a     
    Parse::CPAN::Meta   1.4414  
    Test::Harness       3.34    
    Test::More          1.001009
    YAML                1.13    
    YAML::Syck          1.27    
    version             0.9909  


--

Summary of my perl5 (revision 5 version 8 subversion 9) configuration:
  Platform:
    osname=darwin, osvers=10.8.0, archname=darwin-2level
    uname='darwin tequila 10.8.0 darwin kernel version 10.8.0: tue jun 7 16:33:36 pdt 2011; root:xnu-1504.15.3~1release_i386 i386 '
    config_args='-de -Dprefix=/Users/ether/perl5/perlbrew/perls/perl-5.8.9 -Aeval:scriptdir=/Users/ether/perl5/perlbrew/perls/perl-5.8.9/bin'
    hint=recommended, useposix=true, d_sigaction=define
    usethreads=undef use5005threads=undef useithreads=undef usemultiplicity=undef
    useperlio=define d_sfio=undef uselargefiles=define usesocks=undef
    use64bitint=define use64bitall=define uselongdouble=undef
    usemymalloc=n, bincompat5005=undef
  Compiler:
    cc='cc', ccflags ='-fno-common -DPERL_DARWIN -fno-strict-aliasing -pipe -I/usr/local/include -I/opt/local/include',
    optimize='-O3',
    cppflags='-fno-common -DPERL_DARWIN -fno-strict-aliasing -pipe -I/usr/local/include -I/opt/local/include'
    ccversion='', gccversion='4.2.1 (Apple Inc. build 5666) (dot 3)', gccosandvers=''
    intsize=4, longsize=8, ptrsize=8, doublesize=8, byteorder=12345678
    d_longlong=define, longlongsize=8, d_longdbl=define, longdblsize=16
    ivtype='long', ivsize=8, nvtype='double', nvsize=8, Off_t='off_t', lseeksize=8
    alignbytes=8, prototype=define
  Linker and Libraries:
    ld='env MACOSX_DEPLOYMENT_TARGET=10.3 cc', ldflags =' -L/usr/local/lib -L/opt/local/lib'
    libpth=/usr/local/lib /opt/local/lib /usr/lib
    libs=-lgdbm -ldbm -ldl -lm -lutil -lc
    perllibs=-ldl -lm -lutil -lc
    libc=, so=dylib, useshrplib=false, libperl=libperl.a
    gnulibc_version=''
  Dynamic Linking:
    dlsrc=dl_dlopen.xs, dlext=bundle, d_dlsymun=undef, ccdlflags=' '
    cccdlflags=' ', lddlflags=' -bundle -undefined dynamic_lookup -L/usr/local/lib -L/opt/local/lib'


Characteristics of this binary (from libperl): 
  Compile-time options: PERL_MALLOC_WRAP USE_64_BIT_ALL USE_64_BIT_INT
                        USE_FAST_STDIO USE_LARGE_FILES USE_PERLIO
  Built under darwin
  Compiled at Oct 20 2012 16:32:58
  %ENV:
    PERLBREW_BASHRC_VERSION="0.71"
    PERLBREW_HOME="/Users/ether/.perlbrew"
    PERLBREW_MANPATH="/Users/ether/perl5/perlbrew/perls/perl-5.8.9/man"
    PERLBREW_PATH="/Users/ether/perl5/perlbrew/bin:/Users/ether/perl5/perlbrew/perls/perl-5.8.9/bin"
    PERLBREW_PERL="perl-5.8.9"
    PERLBREW_ROOT="/Users/ether/perl5/perlbrew"
    PERLBREW_VERSION="0.71"
    PERLDOC_PAGER="less -sicMr"
    PERL_AUTOINSTALL_PREFER_CPAN="1"
    PERL_INSTALL_QUIET="1"
  @INC:
    /Users/ether/perl5/perlbrew/perls/perl-5.8.9/lib/5.8.9/darwin-2level
    /Users/ether/perl5/perlbrew/perls/perl-5.8.9/lib/5.8.9
    /Users/ether/perl5/perlbrew/perls/perl-5.8.9/lib/site_perl/5.8.9/darwin-2level
    /Users/ether/perl5/perlbrew/perls/perl-5.8.9/lib/site_perl/5.8.9
    .