Back
From: metabase:user:320bfe00-2aae-11df-837a-5e0a49663a4f
Subject: PASS HTML-Scrubber-0.15 v5.10.1 GNU/Linux
Date: 2017-03-23T04:17:48Z
This distribution has been tested as part of the CPAN Testers
project, supporting the Perl programming language. See
http://wiki.cpantesters.org/ for more information or email
questions to cpan-testers-discuss@perl.org
--
Dear Nigel Metheringham,
This is a computer-generated report for HTML-Scrubber-0.15
on perl 5.10.1, created by CPAN-Reporter-1.2018.
Thank you for uploading your work to CPAN. Congratulations!
All tests were successful.
Sections of this report:
* Tester comments
* Program output
* Prerequisites
* Environment and other context
------------------------------
TESTER COMMENTS
------------------------------
Additional comments from tester:
this report is from an automated smoke testing program
and was not reviewed by a human for accuracy
------------------------------
PROGRAM OUTPUT
------------------------------
Output from './Build test':
t/00-compile.t ............... ok
# Testing with Perl 5.010001, /home/sand/src/perl/repoperls/installed-perls/host/k93msid/perl-5.10.1/89ad/bin/perl
# Carp version is 1.38
# File::Spec version is 3.62
# File::Temp version is 0.2304
# HTML::Entities version is 3.69
# HTML::Parser version is 3.72
# IO::Handle version is 1.28
# IPC::Open3 version is 1.04
# Module::Build version is 0.422
# Scalar::Util version is 1.47
# Test version is 1.25_02
# Test::CPAN::Meta version is 0.25
# Test::EOL version is 1.6
# Test::Memory::Cycle version is 1.06
# Test::More version is 1.302078
# Test::NoTabs version is 1.4
# blib version is 1.04
# strict version is 1.04
# utf8 version is 1.07
# warnings version is 1.06
t/000-report-versions.t ...... ok
# Testing HTML::Scrubber 0.15, Perl 5.010001, /home/sand/src/perl/repoperls/installed-perls/host/k93msid/perl-5.10.1/89ad/bin/perl
t/01_use.t ................... ok
t/02_basic.t ................. ok
t/03_more.t .................. ok
t/04_style_script.t .......... ok
t/05_pi_comment.t ............ ok
t/06_scrub_file.t ............ ok
t/07_booleans.t .............. ok
t/08_cb_attrs.t .............. ok
t/09_memory_cycle.t .......... ok
t/09_no_scrub_warnings.t ..... ok
t/author-critic.t ............ skipped: these tests are for testing by the author
t/author-eol.t ............... skipped: these tests are for testing by the author
t/author-no-tabs.t ........... skipped: these tests are for testing by the author
t/author-pod-spell.t ......... skipped: these tests are for testing by the author
t/jvn53973084.t .............. ok
t/release-dist-manifest.t .... skipped: these tests are for release candidate testing
t/release-distmeta.t ......... skipped: these tests are for release candidate testing
t/release-has-version.t ...... skipped: these tests are for release candidate testing
t/release-minimum-version.t .. skipped: these tests are for release candidate testing
t/release-pod-syntax.t ....... skipped: these tests are for release candidate testing
t/release-portability.t ...... skipped: these tests are for release candidate testing
t/release-synopsis.t ......... skipped: these tests are for release candidate testing
t/release-unused-vars.t ...... skipped: these tests are for release candidate testing
t/rt19063_xhtml.t ............ ok
t/rt25477_self_closing.t ..... ok
t/rt72659_utf8.t ............. ok
t/rt79044_multiple.t ......... ok
All tests successful.
Files=29, Tests=177, 4 wallclock secs ( 0.08 usr 0.23 sys + 1.28 cusr 0.28 csys = 1.87 CPU)
Result: PASS
------------------------------
PREREQUISITES
------------------------------
Prerequisite modules loaded:
requires:
Module Need Have
------------------- ----- --------
HTML::Entities 0 3.69
HTML::Parser 3.47 3.72
perl 5.008 5.010001
Scalar::Util 0 1.47
strict 0 1.04
warnings 0 1.06
build_requires:
Module Need Have
------------------- ----- --------
blib 1.01 1.04
Carp 0 1.38
File::Spec 0 3.62
File::Temp 0 0.2304
IO::Handle 0 1.28
IPC::Open3 0 1.04
Module::Build 0.28 0.4220
Test 0 1.25_02
Test::CPAN::Meta 0 0.25
Test::EOL 0 1.6
Test::Memory::Cycle 0 1.06
Test::More 0.94 1.302078
Test::NoTabs 0 1.4
utf8 0 1.07
configure_requires:
Module Need Have
------------------- ----- --------
Module::Build 0.28 0.4220
------------------------------
ENVIRONMENT AND OTHER CONTEXT
------------------------------
Environment variables:
AUTOMATED_TESTING = 1
LANG = en_US.UTF-8
PATH = /home/sand/bin:/usr/local/bin:/usr/bin:/bin:/usr/games:/usr/local/perl/bin:/usr/X11/bin:/sbin:/usr/sbin
PERL5LIB =
PERL5OPT =
PERL5_CPANPLUS_IS_RUNNING = 12838
PERL5_CPAN_IS_RUNNING = 12838
PERL_CANARY_STABILITY_NOPROMPT = 1
PERL_MM_USE_DEFAULT = 1
PERL_USE_UNSAFE_INC = 1
SHELL = /usr/bin/zsh
TERM = screen
Perl special variables (and OS-specific diagnostics, for MSWin32):
$^X = /home/sand/src/perl/repoperls/installed-perls/host/k93msid/perl-5.10.1/89ad/bin/perl
$UID/$EUID = 1005 / 1005
$GID = 1005 1005
$EGID = 1005 1005
Perl module toolchain versions installed:
Module Have
------------------- --------
CPAN 2.17
CPAN::Meta 2.150010
Cwd 3.62
ExtUtils::CBuilder 0.280224
ExtUtils::Command 7.24
ExtUtils::Install 1.54
ExtUtils::MakeMaker 7.24
ExtUtils::Manifest 1.70
ExtUtils::ParseXS 3.30
File::Spec 3.62
JSON 2.90
JSON::PP 2.27400
Module::Build 0.4220
Module::Signature 0.81
Parse::CPAN::Meta 2.150010
Test::Harness 3.38
Test::More 1.302078
YAML 1.23
YAML::Syck 1.29
version 0.9917
--
Summary of my perl5 (revision 5 version 10 subversion 1) configuration:
Commit id: 5348debf9fd57fc15c26529386769684fab96e57
Platform:
osname=linux, osvers=4.9.0-2-amd64, archname=x86_64-linux
uname='linux k93msid 4.9.0-2-amd64 #1 smp debian 4.9.13-1 (2017-02-27) x86_64 gnulinux '
config_args='-Dprefix=/home/sand/src/perl/repoperls/installed-perls/host/k93msid/perl-5.10.1/89ad -Dmyhostname=k93msid -Dinstallusrbinperl=n -Uversiononly -Dusedevel -des -Ui_db -Dlibswanted=cl pthread socket inet nsl gdbm dbm malloc dl ld sun m crypt sec util c cposix posix ucb BSD gdbm_compat -Uuseithreads -Uuselongdouble -DDEBUGGING=-g'
hint=recommended, useposix=true, d_sigaction=define
useithreads=undef, usemultiplicity=undef
useperlio=define, d_sfio=undef, uselargefiles=define, usesocks=undef
use64bitint=define, use64bitall=define, uselongdouble=undef
usemymalloc=n, bincompat5005=undef
Compiler:
cc='cc', ccflags ='-fno-strict-aliasing -pipe -fstack-protector -I/usr/local/include -D_LARGEFILE_SOURCE -D_FILE_OFFSET_BITS=64',
optimize='-O2 -g',
cppflags='-fno-strict-aliasing -pipe -fstack-protector -I/usr/local/include'
ccversion='', gccversion='6.3.0 20170316', gccosandvers=''
intsize=4, longsize=8, ptrsize=8, doublesize=8, byteorder=12345678
d_longlong=define, longlongsize=8, d_longdbl=define, longdblsize=16
ivtype='long', ivsize=8, nvtype='double', nvsize=8, Off_t='off_t', lseeksize=8
alignbytes=8, prototype=define
Linker and Libraries:
ld='cc', ldflags =' -fstack-protector -L/usr/local/lib'
libpth=/usr/local/lib /lib/x86_64-linux-gnu /lib/../lib /usr/lib/x86_64-linux-gnu /usr/lib/../lib /lib /usr/lib
libs=-lpthread -lnsl -ldl -lm -lcrypt -lutil -lc
perllibs=-lpthread -lnsl -ldl -lm -lcrypt -lutil -lc
libc=libc-2.24.so, so=so, useshrplib=false, libperl=libperl.a
gnulibc_version='2.24'
Dynamic Linking:
dlsrc=dl_dlopen.xs, dlext=so, d_dlsymun=undef, ccdlflags='-Wl,-E'
cccdlflags='-fPIC', lddlflags='-shared -O2 -g -L/usr/local/lib -fstack-protector'
Characteristics of this binary (from libperl):
Compile-time options: PERL_DONT_CREATE_GVSV PERL_MALLOC_WRAP PERL_USE_DEVEL
USE_64_BIT_ALL USE_64_BIT_INT USE_LARGE_FILES
USE_PERLIO
Built under linux
Compiled at Mar 19 2017 21:43:23
%ENV:
PERL5LIB=""
PERL5OPT=""
PERL5_CPANPLUS_IS_RUNNING="12838"
PERL5_CPAN_IS_RUNNING="12838"
PERL_CANARY_STABILITY_NOPROMPT="1"
PERL_MM_USE_DEFAULT="1"
PERL_USE_UNSAFE_INC="1"
@INC:
/home/sand/src/perl/repoperls/installed-perls/host/k93msid/perl-5.10.1/89ad/lib/5.10.1/x86_64-linux
/home/sand/src/perl/repoperls/installed-perls/host/k93msid/perl-5.10.1/89ad/lib/5.10.1
/home/sand/src/perl/repoperls/installed-perls/host/k93msid/perl-5.10.1/89ad/lib/site_perl/5.10.1/x86_64-linux
/home/sand/src/perl/repoperls/installed-perls/host/k93msid/perl-5.10.1/89ad/lib/site_perl/5.10.1
.