Data-Session v1.18 Perl 5 v5.41.10 x86_64-linux-ld

Status
Pass
From
Andreas J. König (ANDK)
Dist
Data-Session v1.18
Platform
Perl 5 v5.41.10 x86_64-linux-ld
Date
2025-04-17 12:29:57
ID
ac3bf6b4-1b87-11f0-be0e-c8e160b2cb5c
This distribution has been tested as part of the CPAN Testers
project, supporting the Perl programming language.  See
http://wiki.cpantesters.org/ for more information or email
questions to cpan-testers-discuss@perl.org


--
Dear Ron Savage,

This is a computer-generated report for Data-Session-1.18
on perl 5.41.10, created by CPAN-Reporter-1.2020.

Thank you for uploading your work to CPAN.  Congratulations!
All tests were successful.

Sections of this report:

    * Tester comments
    * Program output
    * Prerequisites
    * Environment and other context

------------------------------
TESTER COMMENTS
------------------------------

Additional comments from tester:

this report is from an automated smoke testing program
and was not reviewed by a human for accuracy

------------------------------
PROGRAM OUTPUT
------------------------------

Output from '/usr/bin/make test':

PERL_DL_NONLAZY=1 "/tmp/basesmoker-reloperl-9UT2/bin/perl" "-MExtUtils::Command::MM" "-MTest::Harness" "-e" "undef *Test::Harness::Switches; test_harness(0, 'blib/lib', 'blib/arch')" t/*.t
# Testing Data::Session V 1.18
# Using autovivification V 0.18
# Using CGI V 4.68
# Using Class::Load V 0.25
# Using Config::Tiny V 2.30
# Using Data::Dumper V 2.191
# Using Data::UUID V 1.227
# Using DBD::SQLite V 1.76
# Using DBI V 1.647
# Using DBIx::Admin::CreateTable V 2.11
# Using Digest::MD5 V 2.59
# Using Digest::SHA V 6.04
# Using Fcntl V 1.19
# Using File::Basename V 2.86
# Using File::Path V 2.18
# Using File::Slurper V 0.014
# Using File::Spec V 3.93
# Using File::Temp V 0.2311
# Using FreezeThaw V 0.5001
# Using Hash::FieldHash V 0.15
# Using JSON V 4.10
# Using overload V 1.40
# Using parent V 0.244
# Using Safe V 2.47
# Using Scalar::Util V 1.69
# Using Storable V 3.36
# Using strict V 1.13
# Using Try::Tiny V 0.32
# Using vars V 1.05
# Using warnings V 1.74
# Using YAML::Tiny V 1.76
t/00.versions.t .. ok
# Test: File.1. DSN: dbi:File:. ID generator: AutoIncrement. Serializer: DataDumper
# id 1: 1002
# Test: File.1. DSN: dbi:File:. ID generator: AutoIncrement. Serializer: FreezeThaw
# id 1: 1008
# Test: File.1. DSN: dbi:File:. ID generator: AutoIncrement. Serializer: JSON
# id 1: 1014
# Test: File.1. DSN: dbi:File:. ID generator: AutoIncrement. Serializer: Storable
# id 1: 1020
# Test: File.1. DSN: dbi:File:. ID generator: AutoIncrement. Serializer: YAML
# id 1: 1026
# Test: File.1. DSN: dbi:File:. ID generator: MD5. Serializer: DataDumper
# id 1: e084b5608d9f1e241a88e8b2a8861997
# Test: File.1. DSN: dbi:File:. ID generator: MD5. Serializer: FreezeThaw
# id 1: a2c18e23dc8be0096bedaaa03ca0ee32
# Test: File.1. DSN: dbi:File:. ID generator: MD5. Serializer: JSON
# id 1: 9520b6ebe46016cdc47ad0e058187a64
# Test: File.1. DSN: dbi:File:. ID generator: MD5. Serializer: Storable
# id 1: 0dcd4c5c642d10d47a6fc36c1bfc8b06
# Test: File.1. DSN: dbi:File:. ID generator: MD5. Serializer: YAML
# id 1: db61cf1f7fc7d63f99b1af23e6e13de9
# Test: File.1. DSN: dbi:File:. ID generator: SHA1. Serializer: DataDumper
# id 1: 10d2d015d390bddce4c923874175267700d66751
# Test: File.1. DSN: dbi:File:. ID generator: SHA1. Serializer: FreezeThaw
# id 1: 751290b5cbc697fda0fc264ea7c0170890ef153c
# Test: File.1. DSN: dbi:File:. ID generator: SHA1. Serializer: JSON
# id 1: 81939d26b13113992e40b4775a8216221649505d
# Test: File.1. DSN: dbi:File:. ID generator: SHA1. Serializer: Storable
# id 1: c551cfeef004c20c5661e4e293c24c3758c94aa3
# Test: File.1. DSN: dbi:File:. ID generator: SHA1. Serializer: YAML
# id 1: 7fcacf11d8689bdc217952611889464131aa9388
# Test: File.1. DSN: dbi:File:. ID generator: SHA256. Serializer: DataDumper
# id 1: c8e8022c074258beffde698ff17c7bdc5c550fb7554e7018de3638db3ec29ece
# Test: File.1. DSN: dbi:File:. ID generator: SHA256. Serializer: FreezeThaw
# id 1: 43ae27b34b0c5a258ee37ab77a215f97a2b7522d46222a3beca065daf4f4f0d0
# Test: File.1. DSN: dbi:File:. ID generator: SHA256. Serializer: JSON
# id 1: 2f52d49d8f9d891c40b9253393cae684223789d334525fe42246b8df8283cb8a
# Test: File.1. DSN: dbi:File:. ID generator: SHA256. Serializer: Storable
# id 1: ef38e440fb3e910f1991bc050d6b8ac4485282674491f3fca0e38bc22b840464
# Test: File.1. DSN: dbi:File:. ID generator: SHA256. Serializer: YAML
# id 1: 1039c011d25ef236e9a01de6bdd9f309880c49139238aa0e31a309b8d6e2b145
# Test: File.1. DSN: dbi:File:. ID generator: SHA512. Serializer: DataDumper
# id 1: 6fe1030f0c3d6b9db57587f6f5f0dcdce6964c6185fc5a8551bf5c33b106a2276078ec24580cab36ed652c453f6df32da6b0614d68c233d66a8810a027217279
# Test: File.1. DSN: dbi:File:. ID generator: SHA512. Serializer: FreezeThaw
# id 1: 4cb26bb0ae2c0dc1488d0e2e8005ab68dae2525e17287a81b394734397fc54e19dd565895f78309beaf2257bb10bc48b91fe6d964afb16beb797b0d64bbb6d27
# Test: File.1. DSN: dbi:File:. ID generator: SHA512. Serializer: JSON
# id 1: 372b41738106554e8d8df46e2dbf36ccde305d17af06f559fdf62fb9fc3dfc2d0d44eecfdf65bb82b629f93599b72a59e8514edeaea6af08d1af4f57bbc61415
# Test: File.1. DSN: dbi:File:. ID generator: SHA512. Serializer: Storable
# id 1: c08b2cd452d82bbf716c6ab40f33836acbb86f53bc067d522f4b3b62f61533acebdba9aab5cfc75c328646b7c9033e6906591e736283b66cb7bf67bc9e088696
# Test: File.1. DSN: dbi:File:. ID generator: SHA512. Serializer: YAML
# id 1: eef08dcc5477cb021d938ac37820ff6e7b895a77f08dfecded90e1c51515d0ebe8119547da71c91aea447bec2169206365514d569961de9620cacc8c34cdfdfb
# Test: File.1. DSN: dbi:File:. ID generator: Static. Serializer: DataDumper
# id 1: 1234
# Test: File.1. DSN: dbi:File:. ID generator: Static. Serializer: FreezeThaw
# id 1: 1234
# Test: File.1. DSN: dbi:File:. ID generator: Static. Serializer: JSON
# id 1: 1234
# Test: File.1. DSN: dbi:File:. ID generator: Static. Serializer: Storable
# id 1: 1234
# Test: File.1. DSN: dbi:File:. ID generator: Static. Serializer: YAML
# id 1: 1234
# Test: File.1. DSN: dbi:File:. ID generator: UUID34. Serializer: DataDumper
# id 1: 0x8BBB54701B8711F09D9DCA64EC5CADAE
# Test: File.1. DSN: dbi:File:. ID generator: UUID34. Serializer: FreezeThaw
# id 1: 0x8BBCC7241B8711F09C2DDD6C6BA7A6D6
# Test: File.1. DSN: dbi:File:. ID generator: UUID34. Serializer: JSON
# id 1: 0x8BBDDED41B8711F0A19EEAD2D7ABB444
# Test: File.1. DSN: dbi:File:. ID generator: UUID34. Serializer: Storable
# id 1: 0x8BBEE8BA1B8711F083DC93F4D61B10CE
# Test: File.1. DSN: dbi:File:. ID generator: UUID34. Serializer: YAML
# id 1: 0x8BBFF9C61B8711F09F88FAAAB9E917C4
# Test: File.1. DSN: dbi:File:. ID generator: UUID36. Serializer: DataDumper
# id 1: 8BC13926-1B87-11F0-8C7B-D0BB27D77A84
# Test: File.1. DSN: dbi:File:. ID generator: UUID36. Serializer: FreezeThaw
# id 1: 8BC2AEC8-1B87-11F0-A16D-A4F6387CEC90
# Test: File.1. DSN: dbi:File:. ID generator: UUID36. Serializer: JSON
# id 1: 8BC3D10E-1B87-11F0-92DB-EBDBFEDEEC65
# Test: File.1. DSN: dbi:File:. ID generator: UUID36. Serializer: Storable
# id 1: 8BC4E26A-1B87-11F0-BF1E-9A1399DCF9AB
# Test: File.1. DSN: dbi:File:. ID generator: UUID36. Serializer: YAML
# id 1: 8BC5F5B0-1B87-11F0-8869-BB9DFD44836B
# Skipping dsn 'dbi:SQLite:dbname=/tmp/sessions.sqlite' because the SQLite directory does not exist
# 
# Testing HTTP header generation
# 
# Testing expire the session. Sleeping for 1 second ...
# Expiring id: 8BC76BC0-1B87-11F0-8C2C-88E0F215F4B8
# 
# Testing expire a session parameter. Sleeping for 1 second ...
t/basic.t ........ ok
# DSN name: File.1. DSN: dbi:File:. ID generator: MD5. Serializer: DataDumper
# id1: dd40b881769c9011c89a4c4319eca883
# 1: Recovered known id 1cb89d7228f914650650182d5d379f65 from traverse
# 2: Recovered known id bf3cc64c621b5ced7a8192a46a953695 from traverse
# 3: Recovered known id 3ac3858f4306f200cce3f9679a7b1e0a from traverse
# 4: Recovered known id e6663bc1df6a03ca2898164fff3f4077 from traverse
# Skipping dsn 'dbi:SQLite:dbname=/tmp/sessions.sqlite' because the SQLite directory does not exist
t/traverse.t ..... ok
All tests successful.
Files=3, Tests=52,  7 wallclock secs ( 0.06 usr  0.01 sys +  0.76 cusr  0.15 csys =  0.98 CPU)
Result: PASS

------------------------------
PREREQUISITES
------------------------------

Prerequisite modules loaded:

requires:

    Module                   Need     Have    
    ------------------------ -------- --------
    autovivification         0        0.18    
    CGI                      3.63     4.68    
    Class::Load              0.19     0.25    
    Config::Tiny             2.14     2.30    
    Data::Dumper             2.145    2.191   
    Data::UUID               1.218    1.227   
    DBD::SQLite              1.39     1.76    
    DBI                      1.627    1.647   
    DBIx::Admin::CreateTable 2.07     2.11    
    Digest::MD5              2.52     2.59    
    Digest::SHA              5.84     6.04    
    Fcntl                    1.06     1.19    
    File::Basename           2.77     2.86    
    File::Path               2.07     2.18    
    File::Slurper            0.012    0.014   
    File::Spec               3.3      3.93    
    File::Temp               0.22     0.2311  
    FreezeThaw               0.5001   0.5001  
    Hash::FieldHash          0.14     0.15    
    JSON                     2.59     4.10    
    overload                 0        1.40    
    parent                   0        0.244   
    Safe                     2.35     2.47    
    Scalar::Util             1.27     1.69    
    Storable                 2.39     3.36    
    strict                   0        1.13    
    Try::Tiny                0.12     0.32    
    vars                     0        1.05    
    warnings                 0        1.74    
    YAML::Tiny               1.51     1.76    

build_requires:

    Module                   Need     Have    
    ------------------------ -------- --------
    ExtUtils::MakeMaker      0        7.74    
    Test::More               1.001014 1.302209
    Test::Pod                1.48     1.52    

configure_requires:

    Module                   Need     Have    
    ------------------------ -------- --------
    ExtUtils::MakeMaker      0        7.74    


------------------------------
ENVIRONMENT AND OTHER CONTEXT
------------------------------

Environment variables:

    AUTOMATED_TESTING = 1
    LANG = en_US.UTF-8
    LC_ADDRESS = de_DE.UTF-8
    LC_IDENTIFICATION = de_DE.UTF-8
    LC_MEASUREMENT = de_DE.UTF-8
    LC_MONETARY = de_DE.UTF-8
    LC_NAME = de_DE.UTF-8
    LC_NUMERIC = de_DE.UTF-8
    LC_PAPER = de_DE.UTF-8
    LC_TELEPHONE = de_DE.UTF-8
    LC_TIME = de_DE.UTF-8
    PATH = /home/sand/bin:/usr/local/bin:/usr/local/sbin:/usr/sbin:/usr/bin:/sbin:/bin:/usr/games:/usr/local/games:/snap/bin:/usr/local/perl/bin:/usr/X11/bin
    PERL = /tmp/basesmoker-reloperl-9UT2/bin/perl
    PERL5LIB = /tmp/loop_over_bdir-3593637-VVSC4F/AllKnowingDNS-1.7-0/blib/arch:/tmp/loop_over_bdir-3593637-VVSC4F/AllKnowingDNS-1.7-0/blib/lib:/tmp/loop_over_bdir-3593637-VVSC4F/Debian-Packages-0.03-0/blib/arch:/tmp/loop_over_bdir-3593637-VVSC4F/Debian-Packages-0.03-0/blib/lib:/tmp/loop_over_bdir-3593637-VVSC4F/downsexta-0/blib/arch:/tmp/loop_over_bdir-3593637-VVSC4F/downsexta-0/blib/lib:/tmp/loop_over_bdir-3593637-VVSC4F/makepp-1.19-0/blib/arch:/tmp/loop_over_bdir-3593637-VVSC4F/makepp-1.19-0/blib/lib:/tmp/loop_over_bdir-3593637-VVSC4F/LiquidWeb-Storm-CLI-1.03-0/blib/arch:/tmp/loop_over_bdir-3593637-VVSC4F/LiquidWeb-Storm-CLI-1.03-0/blib/lib:/tmp/loop_over_bdir-3593637-VVSC4F/Captive-Portal-4.10-0/blib/arch:/tmp/loop_over_bdir-3593637-VVSC4F/Captive-Portal-4.10-0/blib/lib:/tmp/loop_over_bdir-3593637-VVSC4F/Net-OpenVPN-DDNS-0.1-0/blib/arch:/tmp/loop_over_bdir-3593637-VVSC4F/Net-OpenVPN-DDNS-0.1-0/blib/lib
    PERL5OPT = 
    PERL5_CPANPLUS_IS_RUNNING = 3593645
    PERL5_CPAN_IS_RUNNING = 3593645
    PERL_CANARY_STABILITY_NOPROMPT = 1
    PERL_MM_USE_DEFAULT = 1
    PERL_USE_UNSAFE_INC = 1
    SHELL = /usr/bin/zsh
    TERM = screen

Perl special variables (and OS-specific diagnostics, for MSWin32):

    $^X = /tmp/basesmoker-reloperl-9UT2/bin/perl
    $UID/$EUID = 1005 / 1005
    $GID = 1005 1005
    $EGID = 1005 1005

Perl module toolchain versions installed:

    Module              Have    
    ------------------- --------
    CPAN                2.38    
    CPAN::Meta          2.150010
    Cwd                 3.92    
    ExtUtils::CBuilder  0.280240
    ExtUtils::Command   7.74    
    ExtUtils::Install   2.22    
    ExtUtils::MakeMaker 7.74    
    ExtUtils::Manifest  1.75    
    ExtUtils::ParseXS   3.57    
    File::Spec          3.93    
    JSON                4.10    
    JSON::PP            4.16    
    Module::Build       0.4234  
    Module::Signature   0.89    
    Parse::CPAN::Meta   2.150010
    Test2               1.302209
    Test::Harness       3.50    
    Test::More          1.302209
    YAML                1.31    
    YAML::Syck          1.34    
    version             0.9933  


--

Summary of my perl5 (revision 5 version 41 subversion 10) configuration:
  Commit id: 6a1cf63fc3f0e8d25b8f3837f9ca46b3bbc65885
  Platform:
    osname=linux
    osvers=6.8.0-52-generic
    archname=x86_64-linux-ld
    uname='linux k93jammy 6.8.0-52-generic #53~22.04.1-ubuntu smp preempt_dynamic wed jan 15 19:18:46 utc 2 x86_64 x86_64 x86_64 gnulinux '
    config_args='-Dprefix=/home/sand/src/perl/repoperls/installed-perls/host/k93jammy/v5.41.10/5674 -Dmyhostname=k93jammy -Dinstallusrbinperl=n -Uversiononly -Dusedevel -des -Ui_db -Dlibswanted=cl pthread socket inet nsl gdbm dbm malloc dl ld sun m crypt sec util c cposix posix ucb BSD gdbm_compat -Uuseithreads -Duselongdouble -DEBUGGING=-g'
    hint=recommended
    useposix=true
    d_sigaction=define
    useithreads=undef
    usemultiplicity=undef
    use64bitint=define
    use64bitall=define
    uselongdouble=define
    usemymalloc=n
    default_inc_excludes_dot=define
  Compiler:
    cc='cc'
    ccflags ='-fwrapv -fno-strict-aliasing -pipe -fstack-protector-strong -I/usr/local/include -D_LARGEFILE_SOURCE -D_FILE_OFFSET_BITS=64'
    optimize='-O2 -g'
    cppflags='-fwrapv -fno-strict-aliasing -pipe -fstack-protector-strong -I/usr/local/include'
    ccversion=''
    gccversion='11.4.0'
    gccosandvers=''
    intsize=4
    longsize=8
    ptrsize=8
    doublesize=8
    byteorder=12345678
    doublekind=3
    d_longlong=define
    longlongsize=8
    d_longdbl=define
    longdblsize=16
    longdblkind=3
    ivtype='long'
    ivsize=8
    nvtype='long double'
    nvsize=16
    Off_t='off_t'
    lseeksize=8
    alignbytes=16
    prototype=define
  Linker and Libraries:
    ld='cc'
    ldflags =' -fstack-protector-strong -L/usr/local/lib'
    libpth=/usr/local/lib /usr/lib/x86_64-linux-gnu /usr/lib /usr/lib64
    libs=-lpthread -lnsl -ldl -lm -lcrypt -lutil -lc
    perllibs=-lpthread -lnsl -ldl -lm -lcrypt -lutil -lc
    libc=/lib/x86_64-linux-gnu/libc.so.6
    so=so
    useshrplib=false
    libperl=libperl.a
    gnulibc_version='2.35'
  Dynamic Linking:
    dlsrc=dl_dlopen.xs
    dlext=so
    d_dlsymun=undef
    ccdlflags='-Wl,-E'
    cccdlflags='-fPIC'
    lddlflags='-shared -O2 -g -L/usr/local/lib -fstack-protector-strong'


Characteristics of this binary (from libperl): 
  Compile-time options:
    HAS_LONG_DOUBLE
    HAS_STRTOLD
    HAS_TIMES
    PERLIO_LAYERS
    PERL_COPY_ON_WRITE
    PERL_DONT_CREATE_GVSV
    PERL_HASH_FUNC_SIPHASH13
    PERL_HASH_USE_SBOX32
    PERL_MALLOC_WRAP
    PERL_OP_PARENT
    PERL_PRESERVE_IVUV
    PERL_USE_DEVEL
    PERL_USE_SAFE_PUTENV
    USE_64_BIT_ALL
    USE_64_BIT_INT
    USE_LARGE_FILES
    USE_LOCALE
    USE_LOCALE_COLLATE
    USE_LOCALE_CTYPE
    USE_LOCALE_NUMERIC
    USE_LOCALE_TIME
    USE_LONG_DOUBLE
    USE_PERLIO
    USE_PERL_ATOF
  Built under linux
  Compiled at Mar 25 2025 14:46:27
  %ENV:
    PERL="/tmp/basesmoker-reloperl-9UT2/bin/perl"
    PERL5LIB="/tmp/loop_over_bdir-3593637-VVSC4F/AllKnowingDNS-1.7-0/blib/arch:/tmp/loop_over_bdir-3593637-VVSC4F/AllKnowingDNS-1.7-0/blib/lib:/tmp/loop_over_bdir-3593637-VVSC4F/Debian-Packages-0.03-0/blib/arch:/tmp/loop_over_bdir-3593637-VVSC4F/Debian-Packages-0.03-0/blib/lib:/tmp/loop_over_bdir-3593637-VVSC4F/downsexta-0/blib/arch:/tmp/loop_over_bdir-3593637-VVSC4F/downsexta-0/blib/lib:/tmp/loop_over_bdir-3593637-VVSC4F/makepp-1.19-0/blib/arch:/tmp/loop_over_bdir-3593637-VVSC4F/makepp-1.19-0/blib/lib:/tmp/loop_over_bdir-3593637-VVSC4F/LiquidWeb-Storm-CLI-1.03-0/blib/arch:/tmp/loop_over_bdir-3593637-VVSC4F/LiquidWeb-Storm-CLI-1.03-0/blib/lib:/tmp/loop_over_bdir-3593637-VVSC4F/Captive-Portal-4.10-0/blib/arch:/tmp/loop_over_bdir-3593637-VVSC4F/Captive-Portal-4.10-0/blib/lib:/tmp/loop_over_bdir-3593637-VVSC4F/Net-OpenVPN-DDNS-0.1-0/blib/arch:/tmp/loop_over_bdir-3593637-VVSC4F/Net-OpenVPN-DDNS-0.1-0/blib/lib"
    PERL5OPT=""
    PERL5_CPANPLUS_IS_RUNNING="3593645"
    PERL5_CPAN_IS_RUNNING="3593645"
    PERL_CANARY_STABILITY_NOPROMPT="1"
    PERL_MM_USE_DEFAULT="1"
    PERL_USE_UNSAFE_INC="1"
  @INC:
    /tmp/loop_over_bdir-3593637-VVSC4F/AllKnowingDNS-1.7-0/blib/arch
    /tmp/loop_over_bdir-3593637-VVSC4F/AllKnowingDNS-1.7-0/blib/lib
    /tmp/loop_over_bdir-3593637-VVSC4F/Debian-Packages-0.03-0/blib/arch
    /tmp/loop_over_bdir-3593637-VVSC4F/Debian-Packages-0.03-0/blib/lib
    /tmp/loop_over_bdir-3593637-VVSC4F/downsexta-0/blib/arch
    /tmp/loop_over_bdir-3593637-VVSC4F/downsexta-0/blib/lib
    /tmp/loop_over_bdir-3593637-VVSC4F/makepp-1.19-0/blib/arch
    /tmp/loop_over_bdir-3593637-VVSC4F/makepp-1.19-0/blib/lib
    /tmp/loop_over_bdir-3593637-VVSC4F/LiquidWeb-Storm-CLI-1.03-0/blib/arch
    /tmp/loop_over_bdir-3593637-VVSC4F/LiquidWeb-Storm-CLI-1.03-0/blib/lib
    /tmp/loop_over_bdir-3593637-VVSC4F/Captive-Portal-4.10-0/blib/arch
    /tmp/loop_over_bdir-3593637-VVSC4F/Captive-Portal-4.10-0/blib/lib
    /tmp/loop_over_bdir-3593637-VVSC4F/Net-OpenVPN-DDNS-0.1-0/blib/arch
    /tmp/loop_over_bdir-3593637-VVSC4F/Net-OpenVPN-DDNS-0.1-0/blib/lib
    /home/sand/src/perl/repoperls/installed-perls/host/k93jammy/v5.41.10/5674/lib/site_perl/5.41.10/x86_64-linux-ld
    /home/sand/src/perl/repoperls/installed-perls/host/k93jammy/v5.41.10/5674/lib/site_perl/5.41.10
    /home/sand/src/perl/repoperls/installed-perls/host/k93jammy/v5.41.10/5674/lib/5.41.10/x86_64-linux-ld
    /home/sand/src/perl/repoperls/installed-perls/host/k93jammy/v5.41.10/5674/lib/5.41.10
    .